BEGIN:VCALENDAR
VERSION:2.0
PRODID:-//Confindustria Salerno - ECPv6.6.3//NONSGML v1.0//EN
CALSCALE:GREGORIAN
METHOD:PUBLISH
X-WR-CALNAME:Confindustria Salerno
X-ORIGINAL-URL:https://www.confindustria.sa.it
X-WR-CALDESC:Eventi per Confindustria Salerno
REFRESH-INTERVAL;VALUE=DURATION:PT1H
X-Robots-Tag:noindex
X-PUBLISHED-TTL:PT1H
BEGIN:VTIMEZONE
TZID:Europe/Paris
BEGIN:DAYLIGHT
TZOFFSETFROM:+0100
TZOFFSETTO:+0200
TZNAME:CEST
DTSTART:20200329T010000
END:DAYLIGHT
BEGIN:STANDARD
TZOFFSETFROM:+0200
TZOFFSETTO:+0100
TZNAME:CET
DTSTART:20201025T010000
END:STANDARD
END:VTIMEZONE
BEGIN:VEVENT
DTSTART;TZID=Europe/Paris:20200629T153000
DTEND;TZID=Europe/Paris:20200629T170000
DTSTAMP:20260420T085016
CREATED:20200625T110643Z
LAST-MODIFIED:20200625T110643Z
UID:71906-1593444600-1593450000@www.confindustria.sa.it
SUMMARY:Consiglio Direttivo del Raggruppamento Di Interesse Territoriale delle Aziende del Vallo Di Diano
DESCRIPTION:Per accedere alla visione dei contenuti occorre essere un utente registrato \nEffettua il login
URL:https://www.confindustria.sa.it/event/consiglio-direttivo-del-raggruppamento-di-interesse-territoriale-delle-aziende-del-vallo-di-diano-5/
LOCATION:GARONE HABITAT POLLA\, LOCALITA' SANT'ANTUONO\, POLLA\, SA\, 84035\, Italia
CATEGORIES:eventi-confindustria
END:VEVENT
BEGIN:VEVENT
DTSTART;TZID=Europe/Paris:20200629T153000
DTEND;TZID=Europe/Paris:20200629T170000
DTSTAMP:20260420T085016
CREATED:20200625T110643Z
LAST-MODIFIED:20200625T110643Z
UID:72929-1593444600-1593450000@www.confindustria.sa.it
SUMMARY:Consiglio Direttivo del Raggruppamento Di Interesse Territoriale delle Aziende del Vallo Di Diano
DESCRIPTION:Per accedere alla visione dei contenuti occorre essere un utente registrato \nEffettua il login
URL:https://www.confindustria.sa.it/event/consiglio-direttivo-del-raggruppamento-di-interesse-territoriale-delle-aziende-del-vallo-di-diano-6/
LOCATION:GARONE HABITAT POLLA\, LOCALITA' SANT'ANTUONO\, POLLA\, SA\, 84035\, Italia
CATEGORIES:eventi-confindustria
END:VEVENT
BEGIN:VEVENT
DTSTART;TZID=Europe/Paris:20200629T153000
DTEND;TZID=Europe/Paris:20200629T170000
DTSTAMP:20260420T085016
CREATED:20200625T110643Z
LAST-MODIFIED:20200625T110643Z
UID:13486-1593444600-1593450000@www.confindustria.sa.it
SUMMARY:Consiglio Direttivo del Raggruppamento Di Interesse Territoriale delle Aziende del Vallo Di Diano
DESCRIPTION:Per accedere alla visione dei contenuti occorre essere un utente registrato \nEffettua il login
URL:https://www.confindustria.sa.it/event/consiglio-direttivo-del-raggruppamento-di-interesse-territoriale-delle-aziende-del-vallo-di-diano/
LOCATION:GARONE HABITAT POLLA\, LOCALITA' SANT'ANTUONO\, POLLA\, SA\, 84035\, Italia
CATEGORIES:eventi-confindustria
END:VEVENT
END:VCALENDAR