BEGIN:VCALENDAR
VERSION:2.0
PRODID:-//Confindustria Salerno - ECPv6.6.3//NONSGML v1.0//EN
CALSCALE:GREGORIAN
METHOD:PUBLISH
X-ORIGINAL-URL:https://www.confindustria.sa.it
X-WR-CALDESC:Eventi per Confindustria Salerno
REFRESH-INTERVAL;VALUE=DURATION:PT1H
X-Robots-Tag:noindex
X-PUBLISHED-TTL:PT1H
BEGIN:VTIMEZONE
TZID:Europe/Helsinki
BEGIN:DAYLIGHT
TZOFFSETFROM:+0200
TZOFFSETTO:+0300
TZNAME:EEST
DTSTART:20200329T010000
END:DAYLIGHT
BEGIN:STANDARD
TZOFFSETFROM:+0300
TZOFFSETTO:+0200
TZNAME:EET
DTSTART:20201025T010000
END:STANDARD
END:VTIMEZONE
BEGIN:VEVENT
DTSTART;TZID=Europe/Helsinki:20200730T113000
DTEND;TZID=Europe/Helsinki:20200730T170000
DTSTAMP:20260422T044945
CREATED:20200717T114347Z
LAST-MODIFIED:20200717T114347Z
UID:71927-1596108600-1596128400@www.confindustria.sa.it
SUMMARY:Rinnovo organi Gruppo Giovani Imprenditori Confindustria Salerno
DESCRIPTION:Per accedere alla visione dei contenuti occorre essere un utente registrato \nEffettua il login
URL:https://www.confindustria.sa.it/event/rinnovo-organi-gruppo-giovani-imprenditori-confindustria-salerno-2-2/
LOCATION:Confindustria Salerno
CATEGORIES:eventi-confindustria
END:VEVENT
BEGIN:VEVENT
DTSTART;TZID=Europe/Helsinki:20200730T113000
DTEND;TZID=Europe/Helsinki:20200730T170000
DTSTAMP:20260422T044945
CREATED:20200717T114347Z
LAST-MODIFIED:20200717T114347Z
UID:72950-1596108600-1596128400@www.confindustria.sa.it
SUMMARY:Rinnovo organi Gruppo Giovani Imprenditori Confindustria Salerno
DESCRIPTION:Per accedere alla visione dei contenuti occorre essere un utente registrato \nEffettua il login
URL:https://www.confindustria.sa.it/event/rinnovo-organi-gruppo-giovani-imprenditori-confindustria-salerno-2-3/
LOCATION:Confindustria Salerno
CATEGORIES:eventi-confindustria
END:VEVENT
END:VCALENDAR