BEGIN:VCALENDAR
VERSION:2.0
PRODID:-//Confindustria Salerno - ECPv6.6.3//NONSGML v1.0//EN
CALSCALE:GREGORIAN
METHOD:PUBLISH
X-ORIGINAL-URL:https://www.confindustria.sa.it
X-WR-CALDESC:Eventi per Confindustria Salerno
REFRESH-INTERVAL;VALUE=DURATION:PT1H
X-Robots-Tag:noindex
X-PUBLISHED-TTL:PT1H
BEGIN:VTIMEZONE
TZID:Europe/Helsinki
BEGIN:DAYLIGHT
TZOFFSETFROM:+0200
TZOFFSETTO:+0300
TZNAME:EEST
DTSTART:20220327T010000
END:DAYLIGHT
BEGIN:STANDARD
TZOFFSETFROM:+0300
TZOFFSETTO:+0200
TZNAME:EET
DTSTART:20221030T010000
END:STANDARD
END:VTIMEZONE
BEGIN:VEVENT
DTSTART;TZID=Europe/Helsinki:20220224T153000
DTEND;TZID=Europe/Helsinki:20220224T180000
DTSTAMP:20260422T234954
CREATED:20211223T130344Z
LAST-MODIFIED:20211223T130344Z
UID:72223-1645716600-1645725600@www.confindustria.sa.it
SUMMARY:Consiglio Generale Confindustria Salerno
DESCRIPTION:partecipa il presidente A. Ferraioli \nAnnamaria Laurenzano
URL:https://www.confindustria.sa.it/event/consiglio-generale-confindustria-salerno-2/
LOCATION:Confindustria Salerno
CATEGORIES:Riunioni varie
ATTACH;FMTTYPE=image/png:https://www.confindustria.sa.it/wp-content/uploads/2020/07/LogoConfindustria1.png
END:VEVENT
BEGIN:VEVENT
DTSTART;TZID=Europe/Helsinki:20220224T153000
DTEND;TZID=Europe/Helsinki:20220224T180000
DTSTAMP:20260422T234954
CREATED:20211223T130344Z
LAST-MODIFIED:20211223T130344Z
UID:73246-1645716600-1645725600@www.confindustria.sa.it
SUMMARY:Consiglio Generale Confindustria Salerno
DESCRIPTION:partecipa il presidente A. Ferraioli \nAnnamaria Laurenzano
URL:https://www.confindustria.sa.it/event/consiglio-generale-confindustria-salerno-3/
LOCATION:Confindustria Salerno
CATEGORIES:Riunioni varie
ATTACH;FMTTYPE=image/png:https://www.confindustria.sa.it/wp-content/uploads/2020/07/LogoConfindustria1.png
END:VEVENT
BEGIN:VEVENT
DTSTART;TZID=Europe/Helsinki:20220301T103000
DTEND;TZID=Europe/Helsinki:20220301T133000
DTSTAMP:20260422T234954
CREATED:20220217T171918Z
LAST-MODIFIED:20220217T171918Z
UID:72258-1646130600-1646141400@www.confindustria.sa.it
SUMMARY:Tavolo Tecnico sulla Sostenibilità Ambientale
DESCRIPTION:Partecipa la Vice Presidente Lina Piccolo \nAnnamaria Laurenzano
URL:https://www.confindustria.sa.it/event/incontro-sostenibilita-ambientale-2/
LOCATION:Napoli – Osservatorio Regionale Gestione Rifiuti\, c.direzionale isola c/3
CATEGORIES:Riunioni varie
ATTACH;FMTTYPE=image/png:https://www.confindustria.sa.it/wp-content/uploads/2022/02/logo_sito_orgr.png
END:VEVENT
BEGIN:VEVENT
DTSTART;TZID=Europe/Helsinki:20220301T103000
DTEND;TZID=Europe/Helsinki:20220301T133000
DTSTAMP:20260422T234954
CREATED:20220217T171918Z
LAST-MODIFIED:20220217T171918Z
UID:73281-1646130600-1646141400@www.confindustria.sa.it
SUMMARY:Tavolo Tecnico sulla Sostenibilità Ambientale
DESCRIPTION:Partecipa la Vice Presidente Lina Piccolo \nAnnamaria Laurenzano
URL:https://www.confindustria.sa.it/event/incontro-sostenibilita-ambientale-3/
LOCATION:Napoli – Osservatorio Regionale Gestione Rifiuti\, c.direzionale isola c/3
CATEGORIES:Riunioni varie
ATTACH;FMTTYPE=image/png:https://www.confindustria.sa.it/wp-content/uploads/2022/02/logo_sito_orgr.png
END:VEVENT
BEGIN:VEVENT
DTSTART;TZID=Europe/Helsinki:20220301T103000
DTEND;TZID=Europe/Helsinki:20220301T133000
DTSTAMP:20260422T234954
CREATED:20220217T171918Z
LAST-MODIFIED:20220221T121723Z
UID:45260-1646130600-1646141400@www.confindustria.sa.it
SUMMARY:Tavolo Tecnico sulla Sostenibilità Ambientale
DESCRIPTION:Partecipa la Vice Presidente Lina Piccolo \nAnnamaria Laurenzano
URL:https://www.confindustria.sa.it/event/incontro-sostenibilita-ambientale/
LOCATION:Napoli – Osservatorio Regionale Gestione Rifiuti\, c.direzionale isola c/3
CATEGORIES:Riunioni varie
ATTACH;FMTTYPE=image/png:https://www.confindustria.sa.it/wp-content/uploads/2022/02/logo_sito_orgr.png
END:VEVENT
BEGIN:VEVENT
DTSTART;TZID=Europe/Helsinki:20220301T150000
DTEND;TZID=Europe/Helsinki:20220301T170000
DTSTAMP:20260422T234954
CREATED:20220217T125458Z
LAST-MODIFIED:20220217T125458Z
UID:72257-1646146800-1646154000@www.confindustria.sa.it
SUMMARY:Consiglio Centrale Piccola Industria
DESCRIPTION:partecipa la presidente del comitato (L.Piccolo) \nAnnamaria Laurenzano
URL:https://www.confindustria.sa.it/event/consiglio-centrale-piccola-industria-6-2/
LOCATION:Roma – Confindustria
CATEGORIES:Riunioni varie
ATTACH;FMTTYPE=image/jpeg:https://www.confindustria.sa.it/wp-content/uploads/2020/07/piccola-1.jpg
END:VEVENT
BEGIN:VEVENT
DTSTART;TZID=Europe/Helsinki:20220301T150000
DTEND;TZID=Europe/Helsinki:20220301T170000
DTSTAMP:20260422T234954
CREATED:20220217T125458Z
LAST-MODIFIED:20220217T125458Z
UID:73280-1646146800-1646154000@www.confindustria.sa.it
SUMMARY:Consiglio Centrale Piccola Industria
DESCRIPTION:partecipa la presidente del comitato (L.Piccolo) \nAnnamaria Laurenzano
URL:https://www.confindustria.sa.it/event/consiglio-centrale-piccola-industria-6-3/
LOCATION:Roma – Confindustria
CATEGORIES:Riunioni varie
ATTACH;FMTTYPE=image/jpeg:https://www.confindustria.sa.it/wp-content/uploads/2020/07/piccola-1.jpg
END:VEVENT
BEGIN:VEVENT
DTSTART;TZID=Europe/Helsinki:20220301T150000
DTEND;TZID=Europe/Helsinki:20220301T170000
DTSTAMP:20260422T234954
CREATED:20220217T125458Z
LAST-MODIFIED:20220217T125458Z
UID:45249-1646146800-1646154000@www.confindustria.sa.it
SUMMARY:Consiglio Centrale Piccola Industria
DESCRIPTION:partecipa la presidente del comitato (L.Piccolo) \nAnnamaria Laurenzano
URL:https://www.confindustria.sa.it/event/consiglio-centrale-piccola-industria-6/
LOCATION:Roma – Confindustria
CATEGORIES:Riunioni varie
ATTACH;FMTTYPE=image/jpeg:https://www.confindustria.sa.it/wp-content/uploads/2020/07/piccola-1.jpg
END:VEVENT
BEGIN:VEVENT
DTSTART;TZID=Europe/Helsinki:20220302T153000
DTEND;TZID=Europe/Helsinki:20220302T170000
DTSTAMP:20260422T234954
CREATED:20220224T161206Z
LAST-MODIFIED:20220224T161206Z
UID:72264-1646235000-1646240400@www.confindustria.sa.it
SUMMARY:Consiglio Direttivo Comitato Femminile Plurale\, in videoconfeenz
DESCRIPTION:Partecipa la presidente Alessandra Puglisi \nAnnamaria Laurenzano
URL:https://www.confindustria.sa.it/event/consiglio-direttivo-comitato-femminile-plurale-in-videoconfeenz-2/
CATEGORIES:Riunioni varie
ATTACH;FMTTYPE=image/png:https://www.confindustria.sa.it/wp-content/uploads/2020/07/LogoConfindustria1-1.png
END:VEVENT
BEGIN:VEVENT
DTSTART;TZID=Europe/Helsinki:20220302T153000
DTEND;TZID=Europe/Helsinki:20220302T170000
DTSTAMP:20260422T234954
CREATED:20220224T161206Z
LAST-MODIFIED:20220224T161206Z
UID:73287-1646235000-1646240400@www.confindustria.sa.it
SUMMARY:Consiglio Direttivo Comitato Femminile Plurale\, in videoconfeenz
DESCRIPTION:Partecipa la presidente Alessandra Puglisi \nAnnamaria Laurenzano
URL:https://www.confindustria.sa.it/event/consiglio-direttivo-comitato-femminile-plurale-in-videoconfeenz-3/
CATEGORIES:Riunioni varie
ATTACH;FMTTYPE=image/png:https://www.confindustria.sa.it/wp-content/uploads/2020/07/LogoConfindustria1-1.png
END:VEVENT
BEGIN:VEVENT
DTSTART;TZID=Europe/Helsinki:20220302T153000
DTEND;TZID=Europe/Helsinki:20220302T170000
DTSTAMP:20260422T234954
CREATED:20220224T161206Z
LAST-MODIFIED:20220224T161206Z
UID:45781-1646235000-1646240400@www.confindustria.sa.it
SUMMARY:Consiglio Direttivo Comitato Femminile Plurale\, in videoconfeenz
DESCRIPTION:Partecipa la presidente Alessandra Puglisi \nAnnamaria Laurenzano
URL:https://www.confindustria.sa.it/event/consiglio-direttivo-comitato-femminile-plurale-in-videoconfeenz/
CATEGORIES:Riunioni varie
ATTACH;FMTTYPE=image/png:https://www.confindustria.sa.it/wp-content/uploads/2020/07/LogoConfindustria1-1.png
END:VEVENT
BEGIN:VEVENT
DTSTART;TZID=Europe/Helsinki:20220304T100000
DTEND;TZID=Europe/Helsinki:20220304T130000
DTSTAMP:20260422T234954
CREATED:20220302T171313Z
LAST-MODIFIED:20220302T171313Z
UID:72267-1646388000-1646398800@www.confindustria.sa.it
SUMMARY:\"Stati Generali del Mediterraneo - le Zone Economiche Speciali: Oppurtunità di Sviluppo\'\'
DESCRIPTION:partecipa (L.Piccolo) \nAnnamaria Laurenzano
URL:https://www.confindustria.sa.it/event/stati-generali-del-mediterraneo-le-zone-economiche-speciali-oppurtunita-di-sviluppo-2/
CATEGORIES:Riunioni varie
END:VEVENT
BEGIN:VEVENT
DTSTART;TZID=Europe/Helsinki:20220304T100000
DTEND;TZID=Europe/Helsinki:20220304T130000
DTSTAMP:20260422T234954
CREATED:20220302T171313Z
LAST-MODIFIED:20220302T171313Z
UID:73290-1646388000-1646398800@www.confindustria.sa.it
SUMMARY:\"Stati Generali del Mediterraneo - le Zone Economiche Speciali: Oppurtunità di Sviluppo\'\'
DESCRIPTION:partecipa (L.Piccolo) \nAnnamaria Laurenzano
URL:https://www.confindustria.sa.it/event/stati-generali-del-mediterraneo-le-zone-economiche-speciali-oppurtunita-di-sviluppo-3/
CATEGORIES:Riunioni varie
END:VEVENT
BEGIN:VEVENT
DTSTART;TZID=Europe/Helsinki:20220304T100000
DTEND;TZID=Europe/Helsinki:20220304T130000
DTSTAMP:20260422T234954
CREATED:20220302T171313Z
LAST-MODIFIED:20220302T171313Z
UID:46094-1646388000-1646398800@www.confindustria.sa.it
SUMMARY:"Stati Generali del Mediterraneo - le Zone Economiche Speciali: Oppurtunità di Sviluppo''
DESCRIPTION:partecipa (L.Piccolo) \nAnnamaria Laurenzano
URL:https://www.confindustria.sa.it/event/stati-generali-del-mediterraneo-le-zone-economiche-speciali-oppurtunita-di-sviluppo/
CATEGORIES:Riunioni varie
END:VEVENT
BEGIN:VEVENT
DTSTART;TZID=Europe/Helsinki:20220305T160000
DTEND;TZID=Europe/Helsinki:20220305T180000
DTSTAMP:20260422T234954
CREATED:20220223T131131Z
LAST-MODIFIED:20220223T131131Z
UID:72263-1646496000-1646503200@www.confindustria.sa.it
SUMMARY:Convegno sul tema \"Mobilità Sostenibile nella logistica delle merci”
DESCRIPTION:Partecipa Agostino Gallozzi \nAnnamaria Laurenzano
URL:https://www.confindustria.sa.it/event/convegno-sul-tema-mobilita-sostenibile-nella-logistica-delle-merci-2/
LOCATION:Polla – loc. Sant’Antuono \, Z.I. –  Sala convegni della GDA di Costantino Di Carlo
CATEGORIES:Riunioni varie
END:VEVENT
BEGIN:VEVENT
DTSTART;TZID=Europe/Helsinki:20220305T160000
DTEND;TZID=Europe/Helsinki:20220305T180000
DTSTAMP:20260422T234954
CREATED:20220223T131131Z
LAST-MODIFIED:20220223T131131Z
UID:73286-1646496000-1646503200@www.confindustria.sa.it
SUMMARY:Convegno sul tema \"Mobilità Sostenibile nella logistica delle merci”
DESCRIPTION:Partecipa Agostino Gallozzi \nAnnamaria Laurenzano
URL:https://www.confindustria.sa.it/event/convegno-sul-tema-mobilita-sostenibile-nella-logistica-delle-merci-3/
LOCATION:Polla – loc. Sant’Antuono \, Z.I. –  Sala convegni della GDA di Costantino Di Carlo
CATEGORIES:Riunioni varie
END:VEVENT
BEGIN:VEVENT
DTSTART;TZID=Europe/Helsinki:20220305T160000
DTEND;TZID=Europe/Helsinki:20220305T180000
DTSTAMP:20260422T234954
CREATED:20220223T131131Z
LAST-MODIFIED:20220223T131131Z
UID:45598-1646496000-1646503200@www.confindustria.sa.it
SUMMARY:Convegno sul tema "Mobilità Sostenibile nella logistica delle merci”
DESCRIPTION:Partecipa Agostino Gallozzi \nAnnamaria Laurenzano
URL:https://www.confindustria.sa.it/event/convegno-sul-tema-mobilita-sostenibile-nella-logistica-delle-merci/
LOCATION:Polla – loc. Sant’Antuono \, Z.I. –  Sala convegni della GDA di Costantino Di Carlo
CATEGORIES:Riunioni varie
END:VEVENT
BEGIN:VEVENT
DTSTART;TZID=Europe/Helsinki:20220311T110000
DTEND;TZID=Europe/Helsinki:20220311T130000
DTSTAMP:20260422T234954
CREATED:20220223T124144Z
LAST-MODIFIED:20220223T124144Z
UID:72262-1646996400-1647003600@www.confindustria.sa.it
SUMMARY:Convegno: Gambling\, infiltrazioni mafiose nel gioco legale”
DESCRIPTION:Partecipa Antonio Sada. \nL\’evento è organizzato nell’ambito delle iniziative in programma per la celebrazione del Trentennale della istituzione della Direzione Investigativa Antimafia. \nAnnamaria Laurenzano
URL:https://www.confindustria.sa.it/event/convegno-gambling-infiltrazioni-mafiose-nel-gioco-legale-2/
LOCATION:Salerno- Palazzo di Città\, “Salone dei Marmi”
CATEGORIES:Riunioni varie
END:VEVENT
BEGIN:VEVENT
DTSTART;TZID=Europe/Helsinki:20220311T110000
DTEND;TZID=Europe/Helsinki:20220311T130000
DTSTAMP:20260422T234954
CREATED:20220223T124144Z
LAST-MODIFIED:20220223T124144Z
UID:73285-1646996400-1647003600@www.confindustria.sa.it
SUMMARY:Convegno: Gambling\, infiltrazioni mafiose nel gioco legale”
DESCRIPTION:Partecipa Antonio Sada. \nL\’evento è organizzato nell’ambito delle iniziative in programma per la celebrazione del Trentennale della istituzione della Direzione Investigativa Antimafia. \nAnnamaria Laurenzano
URL:https://www.confindustria.sa.it/event/convegno-gambling-infiltrazioni-mafiose-nel-gioco-legale-3/
LOCATION:Salerno- Palazzo di Città\, “Salone dei Marmi”
CATEGORIES:Riunioni varie
END:VEVENT
BEGIN:VEVENT
DTSTART;TZID=Europe/Helsinki:20220311T110000
DTEND;TZID=Europe/Helsinki:20220311T130000
DTSTAMP:20260422T234954
CREATED:20220223T124144Z
LAST-MODIFIED:20220223T124144Z
UID:45595-1646996400-1647003600@www.confindustria.sa.it
SUMMARY:Convegno: Gambling\, infiltrazioni mafiose nel gioco legale”
DESCRIPTION:Partecipa Antonio Sada. \nL’evento è organizzato nell’ambito delle iniziative in programma per la celebrazione del Trentennale della istituzione della Direzione Investigativa Antimafia. \nAnnamaria Laurenzano
URL:https://www.confindustria.sa.it/event/convegno-gambling-infiltrazioni-mafiose-nel-gioco-legale/
LOCATION:Salerno- Palazzo di Città\, “Salone dei Marmi”
CATEGORIES:Riunioni varie
END:VEVENT
BEGIN:VEVENT
DTSTART;TZID=Europe/Helsinki:20220316T143000
DTEND;TZID=Europe/Helsinki:20220316T160000
DTSTAMP:20260422T234954
CREATED:20220309T134205Z
LAST-MODIFIED:20220309T134205Z
UID:72269-1647441000-1647446400@www.confindustria.sa.it
SUMMARY:HORECOAST - Convegni “Ripartenza 4.0. Agevolazioni e incentivi per le imprese”
DESCRIPTION:Partecipa il presidente del Gruppo Alberghi\, Andrea Ferraioli \n  \nAnnamaria Laurenzano
URL:https://www.confindustria.sa.it/event/horecoast-convegno-ripartenza-4-0-agevolazioni-e-incentivi-per-le-imprese-2/
LOCATION:Paestum (SA) – Hotel Ariston Sala D
CATEGORIES:Riunioni varie
ATTACH;FMTTYPE=image/jpeg:https://www.confindustria.sa.it/wp-content/uploads/2022/03/horecoast_8edizione_.jpg
END:VEVENT
BEGIN:VEVENT
DTSTART;TZID=Europe/Helsinki:20220316T143000
DTEND;TZID=Europe/Helsinki:20220316T160000
DTSTAMP:20260422T234954
CREATED:20220309T134205Z
LAST-MODIFIED:20220309T134205Z
UID:73292-1647441000-1647446400@www.confindustria.sa.it
SUMMARY:HORECOAST - Convegni “Ripartenza 4.0. Agevolazioni e incentivi per le imprese”
DESCRIPTION:Partecipa il presidente del Gruppo Alberghi\, Andrea Ferraioli \n  \nAnnamaria Laurenzano
URL:https://www.confindustria.sa.it/event/horecoast-convegno-ripartenza-4-0-agevolazioni-e-incentivi-per-le-imprese-3/
LOCATION:Paestum (SA) – Hotel Ariston Sala D
CATEGORIES:Riunioni varie
ATTACH;FMTTYPE=image/jpeg:https://www.confindustria.sa.it/wp-content/uploads/2022/03/horecoast_8edizione_.jpg
END:VEVENT
BEGIN:VEVENT
DTSTART;TZID=Europe/Helsinki:20220316T143000
DTEND;TZID=Europe/Helsinki:20220316T160000
DTSTAMP:20260422T234954
CREATED:20220309T134205Z
LAST-MODIFIED:20220314T172847Z
UID:46451-1647441000-1647446400@www.confindustria.sa.it
SUMMARY:HORECOAST - Convegni “Ripartenza 4.0. Agevolazioni e incentivi per le imprese”
DESCRIPTION:Partecipa il presidente del Gruppo Alberghi\, Andrea Ferraioli \n  \nAnnamaria Laurenzano
URL:https://www.confindustria.sa.it/event/horecoast-convegno-ripartenza-4-0-agevolazioni-e-incentivi-per-le-imprese/
LOCATION:Paestum (SA) – Hotel Ariston Sala D
CATEGORIES:Riunioni varie
ATTACH;FMTTYPE=image/jpeg:https://www.confindustria.sa.it/wp-content/uploads/2022/03/horecoast_8edizione_.jpg
END:VEVENT
BEGIN:VEVENT
DTSTART;TZID=Europe/Helsinki:20220318T090000
DTEND;TZID=Europe/Helsinki:20220318T113000
DTSTAMP:20260422T234954
CREATED:20220302T122730Z
LAST-MODIFIED:20220302T122730Z
UID:46017-1647594000-1647603000@www.confindustria.sa.it
SUMMARY:Iniziativa sul tema Start-up Donna\, promossa da Inner Wheel Battipaglia
DESCRIPTION:partecipa la presidente del Comitato Femminile Plurale\, Alessandra Puglisi \n  \nAnnamaria Laurenzano
URL:https://www.confindustria.sa.it/event/iniziativa-sul-tema-start-up-donna-promossa-da-inner-wheel-battipaglia/
CATEGORIES:Riunioni varie
ATTACH;FMTTYPE=image/png:https://www.confindustria.sa.it/wp-content/uploads/2022/03/logo_big.png
END:VEVENT
BEGIN:VEVENT
DTSTART;TZID=Europe/Helsinki:20220318T090000
DTEND;TZID=Europe/Helsinki:20220318T113000
DTSTAMP:20260422T234954
CREATED:20220302T122730Z
LAST-MODIFIED:20220302T122730Z
UID:72266-1647594000-1647603000@www.confindustria.sa.it
SUMMARY:Iniziativa sul tema Start-up Donna\, promossa da Inner Wheel Battipaglia
DESCRIPTION:partecipa la presidente del Comitato Femminile Plurale\, Alessandra Puglisi \n  \nAnnamaria Laurenzano
URL:https://www.confindustria.sa.it/event/iniziativa-sul-tema-start-up-donna-promossa-da-inner-wheel-battipaglia-2/
CATEGORIES:Riunioni varie
ATTACH;FMTTYPE=image/png:https://www.confindustria.sa.it/wp-content/uploads/2022/03/logo_big.png
END:VEVENT
BEGIN:VEVENT
DTSTART;TZID=Europe/Helsinki:20220318T090000
DTEND;TZID=Europe/Helsinki:20220318T113000
DTSTAMP:20260422T234954
CREATED:20220302T122730Z
LAST-MODIFIED:20220302T122730Z
UID:73289-1647594000-1647603000@www.confindustria.sa.it
SUMMARY:Iniziativa sul tema Start-up Donna\, promossa da Inner Wheel Battipaglia
DESCRIPTION:partecipa la presidente del Comitato Femminile Plurale\, Alessandra Puglisi \n  \nAnnamaria Laurenzano
URL:https://www.confindustria.sa.it/event/iniziativa-sul-tema-start-up-donna-promossa-da-inner-wheel-battipaglia-3/
CATEGORIES:Riunioni varie
ATTACH;FMTTYPE=image/png:https://www.confindustria.sa.it/wp-content/uploads/2022/03/logo_big.png
END:VEVENT
BEGIN:VEVENT
DTSTART;TZID=Europe/Helsinki:20220322T100000
DTEND;TZID=Europe/Helsinki:20220322T130000
DTSTAMP:20260422T234954
CREATED:20220318T163718Z
LAST-MODIFIED:20220318T163718Z
UID:47048-1647943200-1647954000@www.confindustria.sa.it
SUMMARY:Webinar “Le novità della guida operativa autorizzazione unica ambientale (A.U.A.). Il punto sul procedimento tra criticità e soluzioni”
DESCRIPTION: (Delibera della Giunta Regionale n. 25 del 18/01/2022)\, a cura di Confindustria Campania \npartecipa la vicepresidente delegata all’ambiente L. Piccolo \nAnnamaria Laurenzano
URL:https://www.confindustria.sa.it/event/webinar-le-novita-della-guida-operativa-autorizzazione-unica-ambientale-a-u-a-il-punto-sul-procedimento-tra-criticita-e-soluzioni/
LOCATION:confindustria salerno
CATEGORIES:Riunioni varie
ATTACH;FMTTYPE=image/jpeg:https://www.confindustria.sa.it/wp-content/uploads/2020/03/1confindustria_images_annafabi_thumb_medium256_192.jpg
END:VEVENT
BEGIN:VEVENT
DTSTART;TZID=Europe/Helsinki:20220322T100000
DTEND;TZID=Europe/Helsinki:20220322T130000
DTSTAMP:20260422T234954
CREATED:20220318T163718Z
LAST-MODIFIED:20220318T163718Z
UID:72280-1647943200-1647954000@www.confindustria.sa.it
SUMMARY:Webinar “Le novità della guida operativa autorizzazione unica ambientale (A.U.A.). Il punto sul procedimento tra criticità e soluzioni”
DESCRIPTION: (Delibera della Giunta Regionale n. 25 del 18/01/2022)\, a cura di Confindustria Campania \npartecipa la vicepresidente delegata all\’ambiente L. Piccolo \nAnnamaria Laurenzano
URL:https://www.confindustria.sa.it/event/webinar-le-novita-della-guida-operativa-autorizzazione-unica-ambientale-a-u-a-il-punto-sul-procedimento-tra-criticita-e-soluzioni-2/
LOCATION:confindustria salerno
CATEGORIES:Riunioni varie
ATTACH;FMTTYPE=image/jpeg:https://www.confindustria.sa.it/wp-content/uploads/2020/03/1confindustria_images_annafabi_thumb_medium256_192.jpg
END:VEVENT
BEGIN:VEVENT
DTSTART;TZID=Europe/Helsinki:20220322T100000
DTEND;TZID=Europe/Helsinki:20220322T130000
DTSTAMP:20260422T234954
CREATED:20220318T163718Z
LAST-MODIFIED:20220318T163718Z
UID:73303-1647943200-1647954000@www.confindustria.sa.it
SUMMARY:Webinar “Le novità della guida operativa autorizzazione unica ambientale (A.U.A.). Il punto sul procedimento tra criticità e soluzioni”
DESCRIPTION: (Delibera della Giunta Regionale n. 25 del 18/01/2022)\, a cura di Confindustria Campania \npartecipa la vicepresidente delegata all\’ambiente L. Piccolo \nAnnamaria Laurenzano
URL:https://www.confindustria.sa.it/event/webinar-le-novita-della-guida-operativa-autorizzazione-unica-ambientale-a-u-a-il-punto-sul-procedimento-tra-criticita-e-soluzioni-3/
LOCATION:confindustria salerno
CATEGORIES:Riunioni varie
ATTACH;FMTTYPE=image/jpeg:https://www.confindustria.sa.it/wp-content/uploads/2020/03/1confindustria_images_annafabi_thumb_medium256_192.jpg
END:VEVENT
BEGIN:VEVENT
DTSTART;TZID=Europe/Helsinki:20220323T103000
DTEND;TZID=Europe/Helsinki:20220323T130000
DTSTAMP:20260422T234954
CREATED:20220318T163822Z
LAST-MODIFIED:20220318T163822Z
UID:72281-1648031400-1648040400@www.confindustria.sa.it
SUMMARY:Consiglio Centrale Piccola Industria
DESCRIPTION:partecipa L. Piccolo \nAnnamaria Laurenzano
URL:https://www.confindustria.sa.it/event/consiglio-centrale-piccola-industria-8-2/
LOCATION:Roma – Confindustria
CATEGORIES:Riunioni varie
ATTACH;FMTTYPE=image/jpeg:https://www.confindustria.sa.it/wp-content/uploads/2020/03/1confindustria_images_annafabi_thumb_medium256_192.jpg
END:VEVENT
END:VCALENDAR