BEGIN:VCALENDAR
VERSION:2.0
PRODID:-//Confindustria Salerno - ECPv6.6.3//NONSGML v1.0//EN
CALSCALE:GREGORIAN
METHOD:PUBLISH
X-ORIGINAL-URL:https://www.confindustria.sa.it
X-WR-CALDESC:Eventi per Confindustria Salerno
REFRESH-INTERVAL;VALUE=DURATION:PT1H
X-Robots-Tag:noindex
X-PUBLISHED-TTL:PT1H
BEGIN:VTIMEZONE
TZID:Europe/Helsinki
BEGIN:DAYLIGHT
TZOFFSETFROM:+0200
TZOFFSETTO:+0300
TZNAME:EEST
DTSTART:20220327T010000
END:DAYLIGHT
BEGIN:STANDARD
TZOFFSETFROM:+0300
TZOFFSETTO:+0200
TZNAME:EET
DTSTART:20221030T010000
END:STANDARD
END:VTIMEZONE
BEGIN:VEVENT
DTSTART;TZID=Europe/Helsinki:20220421T150000
DTEND;TZID=Europe/Helsinki:20220421T170000
DTSTAMP:20260422T233056
CREATED:20220419T100621Z
LAST-MODIFIED:20220419T100621Z
UID:48703-1650553200-1650560400@www.confindustria.sa.it
SUMMARY:Consiglio Centrale Piccola Industria
DESCRIPTION:partecipa la presidente L. Piccolo \nAnnamaria Laurenzano
URL:https://www.confindustria.sa.it/event/consiglio-centrale-piccola-industria-9/
LOCATION:Roma – Confindustria
CATEGORIES:Riunioni varie
ATTACH;FMTTYPE=image/jpeg:https://www.confindustria.sa.it/wp-content/uploads/2020/07/piccola-1.jpg
END:VEVENT
BEGIN:VEVENT
DTSTART;TZID=Europe/Helsinki:20220421T150000
DTEND;TZID=Europe/Helsinki:20220421T170000
DTSTAMP:20260422T233056
CREATED:20220419T100621Z
LAST-MODIFIED:20220419T100621Z
UID:72319-1650553200-1650560400@www.confindustria.sa.it
SUMMARY:Consiglio Centrale Piccola Industria
DESCRIPTION:partecipa la presidente L. Piccolo \nAnnamaria Laurenzano
URL:https://www.confindustria.sa.it/event/consiglio-centrale-piccola-industria-9-2/
LOCATION:Roma – Confindustria
CATEGORIES:Riunioni varie
ATTACH;FMTTYPE=image/jpeg:https://www.confindustria.sa.it/wp-content/uploads/2020/07/piccola-1.jpg
END:VEVENT
BEGIN:VEVENT
DTSTART;TZID=Europe/Helsinki:20220421T150000
DTEND;TZID=Europe/Helsinki:20220421T170000
DTSTAMP:20260422T233056
CREATED:20220419T100621Z
LAST-MODIFIED:20220419T100621Z
UID:73342-1650553200-1650560400@www.confindustria.sa.it
SUMMARY:Consiglio Centrale Piccola Industria
DESCRIPTION:partecipa la presidente L. Piccolo \nAnnamaria Laurenzano
URL:https://www.confindustria.sa.it/event/consiglio-centrale-piccola-industria-9-3/
LOCATION:Roma – Confindustria
CATEGORIES:Riunioni varie
ATTACH;FMTTYPE=image/jpeg:https://www.confindustria.sa.it/wp-content/uploads/2020/07/piccola-1.jpg
END:VEVENT
BEGIN:VEVENT
DTSTART;TZID=Europe/Helsinki:20220422T093000
DTEND;TZID=Europe/Helsinki:20220422T170000
DTSTAMP:20260422T233056
CREATED:20220413T084816Z
LAST-MODIFIED:20220413T084816Z
UID:73340-1650619800-1650646800@www.confindustria.sa.it
SUMMARY:Consiglio Direttivo “allargato” del Gruppo Design Tessile Sistema Casa
DESCRIPTION:partecipa la presidente (E.Prete) \nAnnamaria Laurenzano
URL:https://www.confindustria.sa.it/event/consiglio-direttivo-allargato-del-gruppo-design-tessile-sistema-casa-2-3/
LOCATION:Confindustria Salerno
CATEGORIES:Riunioni varie
ATTACH;FMTTYPE=image/png:https://www.confindustria.sa.it/wp-content/uploads/2020/07/LogoConfindustria1-1.png
END:VEVENT
BEGIN:VEVENT
DTSTART;TZID=Europe/Helsinki:20220422T093000
DTEND;TZID=Europe/Helsinki:20220422T170000
DTSTAMP:20260422T233056
CREATED:20220413T084816Z
LAST-MODIFIED:20220413T084816Z
UID:48522-1650619800-1650646800@www.confindustria.sa.it
SUMMARY:Consiglio Direttivo “allargato” del Gruppo Design Tessile Sistema Casa
DESCRIPTION:partecipa la presidente (E.Prete) \nAnnamaria Laurenzano
URL:https://www.confindustria.sa.it/event/consiglio-direttivo-allargato-del-gruppo-design-tessile-sistema-casa-2/
LOCATION:Confindustria Salerno
CATEGORIES:Riunioni varie
ATTACH;FMTTYPE=image/png:https://www.confindustria.sa.it/wp-content/uploads/2020/07/LogoConfindustria1-1.png
END:VEVENT
BEGIN:VEVENT
DTSTART;TZID=Europe/Helsinki:20220422T093000
DTEND;TZID=Europe/Helsinki:20220422T170000
DTSTAMP:20260422T233056
CREATED:20220413T084816Z
LAST-MODIFIED:20220413T084816Z
UID:72317-1650619800-1650646800@www.confindustria.sa.it
SUMMARY:Consiglio Direttivo “allargato” del Gruppo Design Tessile Sistema Casa
DESCRIPTION:partecipa la presidente (E.Prete) \nAnnamaria Laurenzano
URL:https://www.confindustria.sa.it/event/consiglio-direttivo-allargato-del-gruppo-design-tessile-sistema-casa-2-2/
LOCATION:Confindustria Salerno
CATEGORIES:Riunioni varie
ATTACH;FMTTYPE=image/png:https://www.confindustria.sa.it/wp-content/uploads/2020/07/LogoConfindustria1-1.png
END:VEVENT
BEGIN:VEVENT
DTSTART;TZID=Europe/Helsinki:20220427T090000
DTEND;TZID=Europe/Helsinki:20220427T170000
DTSTAMP:20260422T233056
CREATED:20220419T123344Z
LAST-MODIFIED:20220419T123344Z
UID:48773-1651050000-1651078800@www.confindustria.sa.it
SUMMARY:Webinar -  Formazione per Internazionalizzazione. Corso Executive "Export Lab"\, Campania (web marketing inbound)
DESCRIPTION:webinar \nAnnamaria Laurenzano
URL:https://www.confindustria.sa.it/event/webinar-formazione-per-internazionalizzazione-corso-executive-export-lab-campania-web-marketing-inbound/
CATEGORIES:Riunioni varie
ATTACH;FMTTYPE=image/jpeg:https://www.confindustria.sa.it/wp-content/uploads/2022/04/PROGRAMMA-ICE-EXPORT-LAB-CAMPANIA.jpg
END:VEVENT
BEGIN:VEVENT
DTSTART;TZID=Europe/Helsinki:20220427T090000
DTEND;TZID=Europe/Helsinki:20220427T170000
DTSTAMP:20260422T233056
CREATED:20220419T123344Z
LAST-MODIFIED:20220419T123344Z
UID:72321-1651050000-1651078800@www.confindustria.sa.it
SUMMARY:Webinar -  Formazione per Internazionalizzazione. Corso Executive \"Export Lab\"\, Campania (web marketing inbound)
DESCRIPTION:webinar \nAnnamaria Laurenzano
URL:https://www.confindustria.sa.it/event/webinar-formazione-per-internazionalizzazione-corso-executive-export-lab-campania-web-marketing-inbound-2/
CATEGORIES:Riunioni varie
ATTACH;FMTTYPE=image/jpeg:https://www.confindustria.sa.it/wp-content/uploads/2022/04/PROGRAMMA-ICE-EXPORT-LAB-CAMPANIA.jpg
END:VEVENT
BEGIN:VEVENT
DTSTART;TZID=Europe/Helsinki:20220427T090000
DTEND;TZID=Europe/Helsinki:20220427T170000
DTSTAMP:20260422T233056
CREATED:20220419T123344Z
LAST-MODIFIED:20220419T123344Z
UID:73344-1651050000-1651078800@www.confindustria.sa.it
SUMMARY:Webinar -  Formazione per Internazionalizzazione. Corso Executive \"Export Lab\"\, Campania (web marketing inbound)
DESCRIPTION:webinar \nAnnamaria Laurenzano
URL:https://www.confindustria.sa.it/event/webinar-formazione-per-internazionalizzazione-corso-executive-export-lab-campania-web-marketing-inbound-3/
CATEGORIES:Riunioni varie
ATTACH;FMTTYPE=image/jpeg:https://www.confindustria.sa.it/wp-content/uploads/2022/04/PROGRAMMA-ICE-EXPORT-LAB-CAMPANIA.jpg
END:VEVENT
BEGIN:VEVENT
DTSTART;TZID=Europe/Helsinki:20220505T103000
DTEND;TZID=Europe/Helsinki:20220505T170000
DTSTAMP:20260422T233056
CREATED:20220429T144622Z
LAST-MODIFIED:20220502T094655Z
UID:49370-1651746600-1651770000@www.confindustria.sa.it
SUMMARY:Incontro seminariale "Donne\, Lavoro & impresa”
DESCRIPTION:Partecipa la presidente del Comitato femminile Plurale di Confindustria Salenro\, Alessandra Puglisi \n \n  \nAnnamaria Laurenzano
URL:https://www.confindustria.sa.it/event/seminario-donne-e-impresa/
LOCATION:Fisciano – Università degli Studi di Salerno
CATEGORIES:Riunioni varie
ATTACH;FMTTYPE=image/jpeg:https://www.confindustria.sa.it/wp-content/uploads/2022/04/IMG-20220430-WA0001-1.jpg
END:VEVENT
BEGIN:VEVENT
DTSTART;TZID=Europe/Helsinki:20220505T103000
DTEND;TZID=Europe/Helsinki:20220505T170000
DTSTAMP:20260422T233056
CREATED:20220429T144622Z
LAST-MODIFIED:20220429T144622Z
UID:72338-1651746600-1651770000@www.confindustria.sa.it
SUMMARY:Incontro seminariale \"Donne\, Lavoro & impresa”
DESCRIPTION:Partecipa la presidente del Comitato femminile Plurale di Confindustria Salenro\, Alessandra Puglisi \n \n  \nAnnamaria Laurenzano
URL:https://www.confindustria.sa.it/event/seminario-donne-e-impresa-2/
LOCATION:Fisciano – Università degli Studi di Salerno
CATEGORIES:Riunioni varie
ATTACH;FMTTYPE=image/jpeg:https://www.confindustria.sa.it/wp-content/uploads/2022/04/IMG-20220430-WA0001-1.jpg
END:VEVENT
BEGIN:VEVENT
DTSTART;TZID=Europe/Helsinki:20220505T103000
DTEND;TZID=Europe/Helsinki:20220505T170000
DTSTAMP:20260422T233056
CREATED:20220429T144622Z
LAST-MODIFIED:20220429T144622Z
UID:73361-1651746600-1651770000@www.confindustria.sa.it
SUMMARY:Incontro seminariale \"Donne\, Lavoro & impresa”
DESCRIPTION:Partecipa la presidente del Comitato femminile Plurale di Confindustria Salenro\, Alessandra Puglisi \n \n  \nAnnamaria Laurenzano
URL:https://www.confindustria.sa.it/event/seminario-donne-e-impresa-3/
LOCATION:Fisciano – Università degli Studi di Salerno
CATEGORIES:Riunioni varie
ATTACH;FMTTYPE=image/jpeg:https://www.confindustria.sa.it/wp-content/uploads/2022/04/IMG-20220430-WA0001-1.jpg
END:VEVENT
BEGIN:VEVENT
DTSTART;TZID=Europe/Helsinki:20220506T093000
DTEND;TZID=Europe/Helsinki:20220506T120000
DTSTAMP:20260422T233056
CREATED:20220429T145819Z
LAST-MODIFIED:20220429T145819Z
UID:49383-1651829400-1651838400@www.confindustria.sa.it
SUMMARY:Consiglio  Direttivo Gruppo Design Tessile Sistema Casa
DESCRIPTION:partecipa la presidente E.Prete \nAnnamaria Laurenzano
URL:https://www.confindustria.sa.it/event/consiglio-direttivo-gruppo-design-tessile-sistema-casa-2/
LOCATION:sede
CATEGORIES:Riunioni varie
ATTACH;FMTTYPE=image/jpeg:https://www.confindustria.sa.it/wp-content/uploads/2020/07/logo-confsa.jpg
END:VEVENT
BEGIN:VEVENT
DTSTART;TZID=Europe/Helsinki:20220506T093000
DTEND;TZID=Europe/Helsinki:20220506T120000
DTSTAMP:20260422T233056
CREATED:20220429T145819Z
LAST-MODIFIED:20220429T145819Z
UID:72342-1651829400-1651838400@www.confindustria.sa.it
SUMMARY:Consiglio  Direttivo Gruppo Design Tessile Sistema Casa
DESCRIPTION:partecipa la presidente E.Prete \nAnnamaria Laurenzano
URL:https://www.confindustria.sa.it/event/consiglio-direttivo-gruppo-design-tessile-sistema-casa-2-2/
LOCATION:sede
CATEGORIES:Riunioni varie
ATTACH;FMTTYPE=image/jpeg:https://www.confindustria.sa.it/wp-content/uploads/2020/07/logo-confsa.jpg
END:VEVENT
BEGIN:VEVENT
DTSTART;TZID=Europe/Helsinki:20220506T093000
DTEND;TZID=Europe/Helsinki:20220506T120000
DTSTAMP:20260422T233056
CREATED:20220429T145819Z
LAST-MODIFIED:20220429T145819Z
UID:73365-1651829400-1651838400@www.confindustria.sa.it
SUMMARY:Consiglio  Direttivo Gruppo Design Tessile Sistema Casa
DESCRIPTION:partecipa la presidente E.Prete \nAnnamaria Laurenzano
URL:https://www.confindustria.sa.it/event/consiglio-direttivo-gruppo-design-tessile-sistema-casa-2-3/
LOCATION:sede
CATEGORIES:Riunioni varie
ATTACH;FMTTYPE=image/jpeg:https://www.confindustria.sa.it/wp-content/uploads/2020/07/logo-confsa.jpg
END:VEVENT
BEGIN:VEVENT
DTSTART;TZID=Europe/Helsinki:20220526T110000
DTEND;TZID=Europe/Helsinki:20220526T170000
DTSTAMP:20260422T233056
CREATED:20220506T120055Z
LAST-MODIFIED:20220506T120055Z
UID:49873-1653562800-1653584400@www.confindustria.sa.it
SUMMARY:Riunione allargata Consiglio Centrale Piccola Industria
DESCRIPTION:partecipa la presidente del Comitato Piccola industria L. Piccolo \nAnnamaria Laurenzano
URL:https://www.confindustria.sa.it/event/riunione-allargata-consiglio-centrale-piccola-industria/
LOCATION:da remoto
CATEGORIES:Riunioni varie
ATTACH;FMTTYPE=image/jpeg:https://www.confindustria.sa.it/wp-content/uploads/2020/07/piccola-1.jpg
END:VEVENT
BEGIN:VEVENT
DTSTART;TZID=Europe/Helsinki:20220526T110000
DTEND;TZID=Europe/Helsinki:20220526T170000
DTSTAMP:20260422T233056
CREATED:20220506T120055Z
LAST-MODIFIED:20220506T120055Z
UID:72350-1653562800-1653584400@www.confindustria.sa.it
SUMMARY:Riunione allargata Consiglio Centrale Piccola Industria
DESCRIPTION:partecipa la presidente del Comitato Piccola industria L. Piccolo \nAnnamaria Laurenzano
URL:https://www.confindustria.sa.it/event/riunione-allargata-consiglio-centrale-piccola-industria-3/
LOCATION:da remoto
CATEGORIES:Riunioni varie
ATTACH;FMTTYPE=image/jpeg:https://www.confindustria.sa.it/wp-content/uploads/2020/07/piccola-1.jpg
END:VEVENT
BEGIN:VEVENT
DTSTART;TZID=Europe/Helsinki:20220526T110000
DTEND;TZID=Europe/Helsinki:20220526T170000
DTSTAMP:20260422T233056
CREATED:20220506T120055Z
LAST-MODIFIED:20220506T120055Z
UID:73373-1653562800-1653584400@www.confindustria.sa.it
SUMMARY:Riunione allargata Consiglio Centrale Piccola Industria
DESCRIPTION:partecipa la presidente del Comitato Piccola industria L. Piccolo \nAnnamaria Laurenzano
URL:https://www.confindustria.sa.it/event/riunione-allargata-consiglio-centrale-piccola-industria-4/
LOCATION:da remoto
CATEGORIES:Riunioni varie
ATTACH;FMTTYPE=image/jpeg:https://www.confindustria.sa.it/wp-content/uploads/2020/07/piccola-1.jpg
END:VEVENT
BEGIN:VEVENT
DTSTART;TZID=Europe/Helsinki:20220526T150000
DTEND;TZID=Europe/Helsinki:20220526T183000
DTSTAMP:20260422T233056
CREATED:20211223T130721Z
LAST-MODIFIED:20211223T130721Z
UID:42621-1653577200-1653589800@www.confindustria.sa.it
SUMMARY:Consiglio di Presidenza Confindustria Salerno
DESCRIPTION:partecipa il presidente A. Ferraioli \nAnnamaria Laurenzano
URL:https://www.confindustria.sa.it/event/consiglio-di-presidenza-confindustria-salerno-6/
LOCATION:Confindustria Salerno
CATEGORIES:Riunioni varie
ATTACH;FMTTYPE=image/jpeg:https://www.confindustria.sa.it/wp-content/uploads/2020/07/logo-confsa.jpg
END:VEVENT
BEGIN:VEVENT
DTSTART;TZID=Europe/Helsinki:20220526T150000
DTEND;TZID=Europe/Helsinki:20220526T183000
DTSTAMP:20260422T233056
CREATED:20211223T130721Z
LAST-MODIFIED:20211223T130721Z
UID:72224-1653577200-1653589800@www.confindustria.sa.it
SUMMARY:Consiglio di Presidenza Confindustria Salerno
DESCRIPTION:partecipa il presidente A. Ferraioli \nAnnamaria Laurenzano
URL:https://www.confindustria.sa.it/event/consiglio-di-presidenza-confindustria-salerno-6-2/
LOCATION:Confindustria Salerno
CATEGORIES:Riunioni varie
ATTACH;FMTTYPE=image/jpeg:https://www.confindustria.sa.it/wp-content/uploads/2020/07/logo-confsa.jpg
END:VEVENT
BEGIN:VEVENT
DTSTART;TZID=Europe/Helsinki:20220526T150000
DTEND;TZID=Europe/Helsinki:20220526T183000
DTSTAMP:20260422T233056
CREATED:20211223T130721Z
LAST-MODIFIED:20211223T130721Z
UID:73247-1653577200-1653589800@www.confindustria.sa.it
SUMMARY:Consiglio di Presidenza Confindustria Salerno
DESCRIPTION:partecipa il presidente A. Ferraioli \nAnnamaria Laurenzano
URL:https://www.confindustria.sa.it/event/consiglio-di-presidenza-confindustria-salerno-6-3/
LOCATION:Confindustria Salerno
CATEGORIES:Riunioni varie
ATTACH;FMTTYPE=image/jpeg:https://www.confindustria.sa.it/wp-content/uploads/2020/07/logo-confsa.jpg
END:VEVENT
BEGIN:VEVENT
DTSTART;TZID=Europe/Helsinki:20220527T093000
DTEND;TZID=Europe/Helsinki:20220527T113000
DTSTAMP:20260422T233056
CREATED:20220520T145137Z
LAST-MODIFIED:20220527T135025Z
UID:50774-1653643800-1653651000@www.confindustria.sa.it
SUMMARY:Conferenza Stampa Progetto "Campania Oncoterapie - Combattere la resistenza tumorale: piattaforma integrata multidisciplinare per un approccio tecnologico innovativo alle oncoterapie"
DESCRIPTION:Annamaria Laurenzano
URL:https://www.confindustria.sa.it/event/conferenza-stampa-progetto-campania-oncoterapie-combattere-la-resistenza-tumorale-piattaforma-integrata-multidisciplinare-per-un-approccio-tecnologico-innovativo-alle-oncoterapie/
LOCATION:Salerno – Fondazione Ebris
CATEGORIES:Riunioni varie
END:VEVENT
BEGIN:VEVENT
DTSTART;TZID=Europe/Helsinki:20220527T093000
DTEND;TZID=Europe/Helsinki:20220527T113000
DTSTAMP:20260422T233056
CREATED:20220520T145137Z
LAST-MODIFIED:20220520T145137Z
UID:72365-1653643800-1653651000@www.confindustria.sa.it
SUMMARY:Conferenza Stampa Progetto \"Campania Oncoterapie - Combattere la resistenza tumorale: piattaforma integrata multidisciplinare per un approccio tecnologico innovativo alle oncoterapie\"
DESCRIPTION:Annamaria Laurenzano
URL:https://www.confindustria.sa.it/event/conferenza-stampa-progetto-campania-oncoterapie-combattere-la-resistenza-tumorale-piattaforma-integrata-multidisciplinare-per-un-approccio-tecnologico-innovativo-alle-oncoterapie-2/
LOCATION:Salerno – Fondazione Ebris
CATEGORIES:Riunioni varie
END:VEVENT
BEGIN:VEVENT
DTSTART;TZID=Europe/Helsinki:20220527T093000
DTEND;TZID=Europe/Helsinki:20220527T113000
DTSTAMP:20260422T233056
CREATED:20220520T145137Z
LAST-MODIFIED:20220520T145137Z
UID:73388-1653643800-1653651000@www.confindustria.sa.it
SUMMARY:Conferenza Stampa Progetto \"Campania Oncoterapie - Combattere la resistenza tumorale: piattaforma integrata multidisciplinare per un approccio tecnologico innovativo alle oncoterapie\"
DESCRIPTION:Annamaria Laurenzano
URL:https://www.confindustria.sa.it/event/conferenza-stampa-progetto-campania-oncoterapie-combattere-la-resistenza-tumorale-piattaforma-integrata-multidisciplinare-per-un-approccio-tecnologico-innovativo-alle-oncoterapie-3/
LOCATION:Salerno – Fondazione Ebris
CATEGORIES:Riunioni varie
END:VEVENT
BEGIN:VEVENT
DTSTART;TZID=Europe/Helsinki:20220530T100000
DTEND;TZID=Europe/Helsinki:20220530T130000
DTSTAMP:20260422T233056
CREATED:20220527T151223Z
LAST-MODIFIED:20220527T151223Z
UID:73393-1653904800-1653915600@www.confindustria.sa.it
SUMMARY:Incontro con Assessore Squillante e il Consorzio Area Industriale Sarno
DESCRIPTION:partecipa la vicepresidente delegata L.Piccolo \nAnnamaria Laurenzano
URL:https://www.confindustria.sa.it/event/incontro-con-assessore-squillante-e-il-consorzio-area-industriale-sarno-3/
LOCATION:Sarno – Comune\, Area Consiliare
CATEGORIES:Riunioni varie
END:VEVENT
BEGIN:VEVENT
DTSTART;TZID=Europe/Helsinki:20220530T100000
DTEND;TZID=Europe/Helsinki:20220530T130000
DTSTAMP:20260422T233056
CREATED:20220527T151223Z
LAST-MODIFIED:20220527T151223Z
UID:51136-1653904800-1653915600@www.confindustria.sa.it
SUMMARY:Incontro con Assessore Squillante e il Consorzio Area Industriale Sarno
DESCRIPTION:partecipa la vicepresidente delegata L.Piccolo \nAnnamaria Laurenzano
URL:https://www.confindustria.sa.it/event/incontro-con-assessore-squillante-e-il-consorzio-area-industriale-sarno/
LOCATION:Sarno – Comune\, Area Consiliare
CATEGORIES:Riunioni varie
END:VEVENT
BEGIN:VEVENT
DTSTART;TZID=Europe/Helsinki:20220530T100000
DTEND;TZID=Europe/Helsinki:20220530T130000
DTSTAMP:20260422T233056
CREATED:20220527T151223Z
LAST-MODIFIED:20220527T151223Z
UID:72370-1653904800-1653915600@www.confindustria.sa.it
SUMMARY:Incontro con Assessore Squillante e il Consorzio Area Industriale Sarno
DESCRIPTION:partecipa la vicepresidente delegata L.Piccolo \nAnnamaria Laurenzano
URL:https://www.confindustria.sa.it/event/incontro-con-assessore-squillante-e-il-consorzio-area-industriale-sarno-2/
LOCATION:Sarno – Comune\, Area Consiliare
CATEGORIES:Riunioni varie
END:VEVENT
BEGIN:VEVENT
DTSTART;TZID=Europe/Helsinki:20220531T150000
DTEND;TZID=Europe/Helsinki:20220531T170000
DTSTAMP:20260422T233056
CREATED:20220520T145623Z
LAST-MODIFIED:20220520T145623Z
UID:73390-1654009200-1654016400@www.confindustria.sa.it
SUMMARY:evento formativo  “Gestione della Crisi d’Impresa” a cura dell’Ordine dei Dottori Commercialisti e degli Esperti Contabili di Salerno
DESCRIPTION:partecipa la vicepresidente L.Piccolo \nAnnamaria Laurenzano
URL:https://www.confindustria.sa.it/event/evento-formativo-gestione-della-crisi-dimpresa-a-cura-dellordine-dei-dottori-commercialisti-e-degli-esperti-contabili-di-salerno-3/
LOCATION:Salerno – Salone del Genovesi – CCIAA di Via Roma 29
CATEGORIES:Riunioni varie
ATTACH;FMTTYPE=image/jpeg:https://www.confindustria.sa.it/wp-content/uploads/2022/05/Locandina-COMPOSIZIONE-NEGOZIATA-DELLA-CRISI-31.05.22_def.jpg
END:VEVENT
BEGIN:VEVENT
DTSTART;TZID=Europe/Helsinki:20220531T150000
DTEND;TZID=Europe/Helsinki:20220531T170000
DTSTAMP:20260422T233056
CREATED:20220520T145623Z
LAST-MODIFIED:20220520T145623Z
UID:50782-1654009200-1654016400@www.confindustria.sa.it
SUMMARY:evento formativo  “Gestione della Crisi d’Impresa” a cura dell’Ordine dei Dottori Commercialisti e degli Esperti Contabili di Salerno
DESCRIPTION:partecipa la vicepresidente L.Piccolo \nAnnamaria Laurenzano
URL:https://www.confindustria.sa.it/event/evento-formativo-gestione-della-crisi-dimpresa-a-cura-dellordine-dei-dottori-commercialisti-e-degli-esperti-contabili-di-salerno/
LOCATION:Salerno – Salone del Genovesi – CCIAA di Via Roma 29
CATEGORIES:Riunioni varie
ATTACH;FMTTYPE=image/jpeg:https://www.confindustria.sa.it/wp-content/uploads/2022/05/Locandina-COMPOSIZIONE-NEGOZIATA-DELLA-CRISI-31.05.22_def.jpg
END:VEVENT
BEGIN:VEVENT
DTSTART;TZID=Europe/Helsinki:20220531T150000
DTEND;TZID=Europe/Helsinki:20220531T170000
DTSTAMP:20260422T233056
CREATED:20220520T145623Z
LAST-MODIFIED:20220520T145623Z
UID:72367-1654009200-1654016400@www.confindustria.sa.it
SUMMARY:evento formativo  “Gestione della Crisi d’Impresa” a cura dell’Ordine dei Dottori Commercialisti e degli Esperti Contabili di Salerno
DESCRIPTION:partecipa la vicepresidente L.Piccolo \nAnnamaria Laurenzano
URL:https://www.confindustria.sa.it/event/evento-formativo-gestione-della-crisi-dimpresa-a-cura-dellordine-dei-dottori-commercialisti-e-degli-esperti-contabili-di-salerno-2/
LOCATION:Salerno – Salone del Genovesi – CCIAA di Via Roma 29
CATEGORIES:Riunioni varie
ATTACH;FMTTYPE=image/jpeg:https://www.confindustria.sa.it/wp-content/uploads/2022/05/Locandina-COMPOSIZIONE-NEGOZIATA-DELLA-CRISI-31.05.22_def.jpg
END:VEVENT
END:VCALENDAR