BEGIN:VCALENDAR
VERSION:2.0
PRODID:-//Confindustria Salerno - ECPv6.6.3//NONSGML v1.0//EN
CALSCALE:GREGORIAN
METHOD:PUBLISH
X-ORIGINAL-URL:https://www.confindustria.sa.it
X-WR-CALDESC:Eventi per Confindustria Salerno
REFRESH-INTERVAL;VALUE=DURATION:PT1H
X-Robots-Tag:noindex
X-PUBLISHED-TTL:PT1H
BEGIN:VTIMEZONE
TZID:Europe/Helsinki
BEGIN:DAYLIGHT
TZOFFSETFROM:+0200
TZOFFSETTO:+0300
TZNAME:EEST
DTSTART:20210328T010000
END:DAYLIGHT
BEGIN:STANDARD
TZOFFSETFROM:+0300
TZOFFSETTO:+0200
TZNAME:EET
DTSTART:20211031T010000
END:STANDARD
END:VTIMEZONE
BEGIN:VEVENT
DTSTART;TZID=Europe/Helsinki:20211104T180000
DTEND;TZID=Europe/Helsinki:20211104T190000
DTSTAMP:20260423T091603
CREATED:20211020T140905Z
LAST-MODIFIED:20211020T140905Z
UID:73206-1636048800-1636052400@www.confindustria.sa.it
SUMMARY:Consiglio Direttivo “allargato” Gruppo Servizi Innovativi e Tecnologici
DESCRIPTION:partecipa il presidente del gruppo F. Serravalle \nAnnamaria Laurenzano
URL:https://www.confindustria.sa.it/event/consiglio-direttivo-allargato-gruppo-servizi-innovativi-e-tecnologici-3-3/
CATEGORIES:Riunioni varie
ATTACH;FMTTYPE=image/jpeg:https://www.confindustria.sa.it/wp-content/uploads/2020/07/logo-confsa.jpg
END:VEVENT
BEGIN:VEVENT
DTSTART;TZID=Europe/Helsinki:20211110T110000
DTEND;TZID=Europe/Helsinki:20211110T133000
DTSTAMP:20260423T091603
CREATED:20211102T155129Z
LAST-MODIFIED:20211102T155129Z
UID:39616-1636542000-1636551000@www.confindustria.sa.it
SUMMARY:Incontro tra istituzioni del Governo della Repubblica Centrafricana e imprenditori locali dei Nuclei Industriali di Buccino – Palomonte – Contursi Terme – Oliveto Citra
DESCRIPTION:Partecipa la Vice Presidente Lina Piccolo \n  \n  \nAnnamaria Laurenzano
URL:https://www.confindustria.sa.it/event/incontro-tra-istituzioni-del-governo-della-repubblica-centrafricana-e-imprenditori-locali-dei-nuclei-industriali-di-buccino-palomonte-contursi-terme-oliveto-citra/
LOCATION:Buccino – MACO INTERNATIONAL S.A.S.\, zona industriale
CATEGORIES:Riunioni varie
END:VEVENT
BEGIN:VEVENT
DTSTART;TZID=Europe/Helsinki:20211110T110000
DTEND;TZID=Europe/Helsinki:20211110T133000
DTSTAMP:20260423T091603
CREATED:20211102T155129Z
LAST-MODIFIED:20211102T155129Z
UID:73212-1636542000-1636551000@www.confindustria.sa.it
SUMMARY:Incontro tra istituzioni del Governo della Repubblica Centrafricana e imprenditori locali dei Nuclei Industriali di Buccino – Palomonte – Contursi Terme – Oliveto Citra
DESCRIPTION:Partecipa la Vice Presidente Lina Piccolo \n  \n  \nAnnamaria Laurenzano
URL:https://www.confindustria.sa.it/event/incontro-tra-istituzioni-del-governo-della-repubblica-centrafricana-e-imprenditori-locali-dei-nuclei-industriali-di-buccino-palomonte-contursi-terme-oliveto-citra-3/
LOCATION:Buccino – MACO INTERNATIONAL S.A.S.\, zona industriale
CATEGORIES:Riunioni varie
END:VEVENT
BEGIN:VEVENT
DTSTART;TZID=Europe/Helsinki:20211110T110000
DTEND;TZID=Europe/Helsinki:20211110T133000
DTSTAMP:20260423T091603
CREATED:20211102T155129Z
LAST-MODIFIED:20211102T155129Z
UID:72189-1636542000-1636551000@www.confindustria.sa.it
SUMMARY:Incontro tra istituzioni del Governo della Repubblica Centrafricana e imprenditori locali dei Nuclei Industriali di Buccino – Palomonte – Contursi Terme – Oliveto Citra
DESCRIPTION:Partecipa la Vice Presidente Lina Piccolo \n  \n  \nAnnamaria Laurenzano
URL:https://www.confindustria.sa.it/event/incontro-tra-istituzioni-del-governo-della-repubblica-centrafricana-e-imprenditori-locali-dei-nuclei-industriali-di-buccino-palomonte-contursi-terme-oliveto-citra-2/
LOCATION:Buccino – MACO INTERNATIONAL S.A.S.\, zona industriale
CATEGORIES:Riunioni varie
END:VEVENT
BEGIN:VEVENT
DTSTART;TZID=Europe/Helsinki:20211111T103000
DTEND;TZID=Europe/Helsinki:20211111T130000
DTSTAMP:20260423T091603
CREATED:20211029T150506Z
LAST-MODIFIED:20211029T150506Z
UID:72187-1636626600-1636635600@www.confindustria.sa.it
SUMMARY:Assemblea per il rinnovo Presidenza del Gruppo Alberghi Turismo e Tempo Libero
DESCRIPTION:partecipa il Presidente FF (G.Schiavo) \nAnnamaria Laurenzano
URL:https://www.confindustria.sa.it/event/assemblea-per-il-rinnovo-presidenza-del-gruppo-alberghi-turismo-e-tempo-libero-2/
LOCATION:Confindustria Salerno
CATEGORIES:Riunioni varie
ATTACH;FMTTYPE=image/jpeg:https://www.confindustria.sa.it/wp-content/uploads/2020/07/logo-confsa.jpg
END:VEVENT
BEGIN:VEVENT
DTSTART;TZID=Europe/Helsinki:20211111T103000
DTEND;TZID=Europe/Helsinki:20211111T130000
DTSTAMP:20260423T091603
CREATED:20211029T150506Z
LAST-MODIFIED:20211029T150506Z
UID:39560-1636626600-1636635600@www.confindustria.sa.it
SUMMARY:Assemblea per il rinnovo Presidenza del Gruppo Alberghi Turismo e Tempo Libero
DESCRIPTION:partecipa il Presidente FF (G.Schiavo) \nAnnamaria Laurenzano
URL:https://www.confindustria.sa.it/event/assemblea-per-il-rinnovo-presidenza-del-gruppo-alberghi-turismo-e-tempo-libero/
LOCATION:Confindustria Salerno
CATEGORIES:Riunioni varie
ATTACH;FMTTYPE=image/jpeg:https://www.confindustria.sa.it/wp-content/uploads/2020/07/logo-confsa.jpg
END:VEVENT
BEGIN:VEVENT
DTSTART;TZID=Europe/Helsinki:20211111T103000
DTEND;TZID=Europe/Helsinki:20211111T130000
DTSTAMP:20260423T091603
CREATED:20211029T150506Z
LAST-MODIFIED:20211029T150506Z
UID:73210-1636626600-1636635600@www.confindustria.sa.it
SUMMARY:Assemblea per il rinnovo Presidenza del Gruppo Alberghi Turismo e Tempo Libero
DESCRIPTION:partecipa il Presidente FF (G.Schiavo) \nAnnamaria Laurenzano
URL:https://www.confindustria.sa.it/event/assemblea-per-il-rinnovo-presidenza-del-gruppo-alberghi-turismo-e-tempo-libero-3/
LOCATION:Confindustria Salerno
CATEGORIES:Riunioni varie
ATTACH;FMTTYPE=image/jpeg:https://www.confindustria.sa.it/wp-content/uploads/2020/07/logo-confsa.jpg
END:VEVENT
BEGIN:VEVENT
DTSTART;TZID=Europe/Helsinki:20211112T120000
DTEND;TZID=Europe/Helsinki:20211112T133000
DTSTAMP:20260423T091603
CREATED:20211103T125610Z
LAST-MODIFIED:20211103T125610Z
UID:72190-1636718400-1636723800@www.confindustria.sa.it
SUMMARY:Webinar “Decreto 231/01 e  modelli organizzativi. Le nuove linee guida di Confindustria per orientare le imprese”
DESCRIPTION:Partecipa il Presidente del Comitato Piccola Industria Lina Piccolo \n \nAnnamaria Laurenzano
URL:https://www.confindustria.sa.it/event/webinar-decreto-231-01-e-modelli-organizzativi-le-nuove-linee-guida-di-confindustria-per-orientare-le-imprese-2/
LOCATION:Sede – sala biblioteca
CATEGORIES:Riunioni varie
ATTACH;FMTTYPE=image/png:https://www.confindustria.sa.it/wp-content/uploads/2020/07/LogoConfindustria1.png
END:VEVENT
BEGIN:VEVENT
DTSTART;TZID=Europe/Helsinki:20211112T120000
DTEND;TZID=Europe/Helsinki:20211112T133000
DTSTAMP:20260423T091603
CREATED:20211103T125610Z
LAST-MODIFIED:20211103T125610Z
UID:39708-1636718400-1636723800@www.confindustria.sa.it
SUMMARY:Webinar “Decreto 231/01 e  modelli organizzativi. Le nuove linee guida di Confindustria per orientare le imprese”
DESCRIPTION:Partecipa il Presidente del Comitato Piccola Industria Lina Piccolo \n \nAnnamaria Laurenzano
URL:https://www.confindustria.sa.it/event/webinar-decreto-231-01-e-modelli-organizzativi-le-nuove-linee-guida-di-confindustria-per-orientare-le-imprese/
LOCATION:Sede – sala biblioteca
CATEGORIES:Riunioni varie
ATTACH;FMTTYPE=image/png:https://www.confindustria.sa.it/wp-content/uploads/2020/07/LogoConfindustria1.png
END:VEVENT
BEGIN:VEVENT
DTSTART;TZID=Europe/Helsinki:20211112T120000
DTEND;TZID=Europe/Helsinki:20211112T133000
DTSTAMP:20260423T091603
CREATED:20211103T125610Z
LAST-MODIFIED:20211103T125610Z
UID:73213-1636718400-1636723800@www.confindustria.sa.it
SUMMARY:Webinar “Decreto 231/01 e  modelli organizzativi. Le nuove linee guida di Confindustria per orientare le imprese”
DESCRIPTION:Partecipa il Presidente del Comitato Piccola Industria Lina Piccolo \n \nAnnamaria Laurenzano
URL:https://www.confindustria.sa.it/event/webinar-decreto-231-01-e-modelli-organizzativi-le-nuove-linee-guida-di-confindustria-per-orientare-le-imprese-3/
LOCATION:Sede – sala biblioteca
CATEGORIES:Riunioni varie
ATTACH;FMTTYPE=image/png:https://www.confindustria.sa.it/wp-content/uploads/2020/07/LogoConfindustria1.png
END:VEVENT
BEGIN:VEVENT
DTSTART;TZID=Europe/Helsinki:20211116T093000
DTEND;TZID=Europe/Helsinki:20211116T170000
DTSTAMP:20260423T091603
CREATED:20211105T164926Z
LAST-MODIFIED:20211105T164926Z
UID:72192-1637055000-1637082000@www.confindustria.sa.it
SUMMARY:Export Flying Desk ICE
DESCRIPTION:partecipa la vicepresidende S.Rinaldi \nAnnamaria Laurenzano
URL:https://www.confindustria.sa.it/event/export-flying-desk-ice-3-2/
LOCATION:confindustria salerno
CATEGORIES:Riunioni varie
ATTACH;FMTTYPE=image/jpeg:https://www.confindustria.sa.it/wp-content/uploads/2021/10/ice.jpg
END:VEVENT
BEGIN:VEVENT
DTSTART;TZID=Europe/Helsinki:20211116T093000
DTEND;TZID=Europe/Helsinki:20211116T170000
DTSTAMP:20260423T091603
CREATED:20211105T164926Z
LAST-MODIFIED:20211105T164926Z
UID:39851-1637055000-1637082000@www.confindustria.sa.it
SUMMARY:Export Flying Desk ICE
DESCRIPTION:partecipa la vicepresidende S.Rinaldi \nAnnamaria Laurenzano
URL:https://www.confindustria.sa.it/event/export-flying-desk-ice-3/
LOCATION:confindustria salerno
CATEGORIES:Riunioni varie
ATTACH;FMTTYPE=image/jpeg:https://www.confindustria.sa.it/wp-content/uploads/2021/10/ice.jpg
END:VEVENT
BEGIN:VEVENT
DTSTART;TZID=Europe/Helsinki:20211116T093000
DTEND;TZID=Europe/Helsinki:20211116T170000
DTSTAMP:20260423T091603
CREATED:20211105T164926Z
LAST-MODIFIED:20211105T164926Z
UID:73215-1637055000-1637082000@www.confindustria.sa.it
SUMMARY:Export Flying Desk ICE
DESCRIPTION:partecipa la vicepresidende S.Rinaldi \nAnnamaria Laurenzano
URL:https://www.confindustria.sa.it/event/export-flying-desk-ice-3-3/
LOCATION:confindustria salerno
CATEGORIES:Riunioni varie
ATTACH;FMTTYPE=image/jpeg:https://www.confindustria.sa.it/wp-content/uploads/2021/10/ice.jpg
END:VEVENT
BEGIN:VEVENT
DTSTART;TZID=Europe/Helsinki:20211116T130000
DTEND;TZID=Europe/Helsinki:20211116T143000
DTSTAMP:20260423T091603
CREATED:20211105T165033Z
LAST-MODIFIED:20211105T165033Z
UID:72193-1637067600-1637073000@www.confindustria.sa.it
SUMMARY:Consiglio direttivo “allargato” Gruppo Giovani
DESCRIPTION:partecipa il presidente (M.Gambardella) \nAnnamaria Laurenzano
URL:https://www.confindustria.sa.it/event/sede-consiglio-direttivo-allargato-gruppo-giovani-2/
LOCATION:Confindustria Salerno
CATEGORIES:Riunioni varie
ATTACH;FMTTYPE=image/jpeg:https://www.confindustria.sa.it/wp-content/uploads/2019/09/logo_confindustria_giovani_imprenditori.jpg
END:VEVENT
BEGIN:VEVENT
DTSTART;TZID=Europe/Helsinki:20211116T130000
DTEND;TZID=Europe/Helsinki:20211116T143000
DTSTAMP:20260423T091603
CREATED:20211105T165033Z
LAST-MODIFIED:20211108T151633Z
UID:39853-1637067600-1637073000@www.confindustria.sa.it
SUMMARY:Consiglio direttivo “allargato” Gruppo Giovani
DESCRIPTION:partecipa il presidente (M.Gambardella) \nAnnamaria Laurenzano
URL:https://www.confindustria.sa.it/event/sede-consiglio-direttivo-allargato-gruppo-giovani/
LOCATION:Confindustria Salerno
CATEGORIES:Riunioni varie
ATTACH;FMTTYPE=image/jpeg:https://www.confindustria.sa.it/wp-content/uploads/2019/09/logo_confindustria_giovani_imprenditori.jpg
END:VEVENT
BEGIN:VEVENT
DTSTART;TZID=Europe/Helsinki:20211116T130000
DTEND;TZID=Europe/Helsinki:20211116T143000
DTSTAMP:20260423T091603
CREATED:20211105T165033Z
LAST-MODIFIED:20211105T165033Z
UID:73216-1637067600-1637073000@www.confindustria.sa.it
SUMMARY:Consiglio direttivo “allargato” Gruppo Giovani
DESCRIPTION:partecipa il presidente (M.Gambardella) \nAnnamaria Laurenzano
URL:https://www.confindustria.sa.it/event/sede-consiglio-direttivo-allargato-gruppo-giovani-3/
LOCATION:Confindustria Salerno
CATEGORIES:Riunioni varie
ATTACH;FMTTYPE=image/jpeg:https://www.confindustria.sa.it/wp-content/uploads/2019/09/logo_confindustria_giovani_imprenditori.jpg
END:VEVENT
BEGIN:VEVENT
DTSTART;TZID=Europe/Helsinki:20211117T153000
DTEND;TZID=Europe/Helsinki:20211117T170000
DTSTAMP:20260423T091603
CREATED:20211105T165446Z
LAST-MODIFIED:20211105T165446Z
UID:72195-1637163000-1637168400@www.confindustria.sa.it
SUMMARY:Consiglio Direttivo Gruppo Chimica Gomma Plastica
DESCRIPTION:partecipa il presidente del Gruppo (G.Rinaldi) \nAnnamaria Laurenzano
URL:https://www.confindustria.sa.it/event/consiglio-direttivo-gruppo-chimica-gomma-plastica-4-2/
LOCATION:confindustria salerno
CATEGORIES:Riunioni varie
ATTACH;FMTTYPE=image/jpeg:https://www.confindustria.sa.it/wp-content/uploads/2020/05/logo-quadrato-conf.jpg
END:VEVENT
BEGIN:VEVENT
DTSTART;TZID=Europe/Helsinki:20211117T153000
DTEND;TZID=Europe/Helsinki:20211117T170000
DTSTAMP:20260423T091603
CREATED:20211105T165446Z
LAST-MODIFIED:20211105T165446Z
UID:39857-1637163000-1637168400@www.confindustria.sa.it
SUMMARY:Consiglio Direttivo Gruppo Chimica Gomma Plastica
DESCRIPTION:partecipa il presidente del Gruppo (G.Rinaldi) \nAnnamaria Laurenzano
URL:https://www.confindustria.sa.it/event/consiglio-direttivo-gruppo-chimica-gomma-plastica-4/
LOCATION:confindustria salerno
CATEGORIES:Riunioni varie
ATTACH;FMTTYPE=image/jpeg:https://www.confindustria.sa.it/wp-content/uploads/2020/05/logo-quadrato-conf.jpg
END:VEVENT
BEGIN:VEVENT
DTSTART;TZID=Europe/Helsinki:20211117T153000
DTEND;TZID=Europe/Helsinki:20211117T170000
DTSTAMP:20260423T091603
CREATED:20211105T165446Z
LAST-MODIFIED:20211105T165446Z
UID:73218-1637163000-1637168400@www.confindustria.sa.it
SUMMARY:Consiglio Direttivo Gruppo Chimica Gomma Plastica
DESCRIPTION:partecipa il presidente del Gruppo (G.Rinaldi) \nAnnamaria Laurenzano
URL:https://www.confindustria.sa.it/event/consiglio-direttivo-gruppo-chimica-gomma-plastica-4-3/
LOCATION:confindustria salerno
CATEGORIES:Riunioni varie
ATTACH;FMTTYPE=image/jpeg:https://www.confindustria.sa.it/wp-content/uploads/2020/05/logo-quadrato-conf.jpg
END:VEVENT
BEGIN:VEVENT
DTSTART;TZID=Europe/Helsinki:20211118T150000
DTEND;TZID=Europe/Helsinki:20211118T170000
DTSTAMP:20260423T091603
CREATED:20211112T130544Z
LAST-MODIFIED:20211112T130544Z
UID:72203-1637247600-1637254800@www.confindustria.sa.it
SUMMARY:Consiglio Direttivo del Gruppo Alberghi\, Turismo e Tempo Libero
DESCRIPTION:Partecipa il Presidente Andrea Ferraioli \nAnnamaria Laurenzano
URL:https://www.confindustria.sa.it/event/consiglio-direttivo-del-gruppo-alberghi-turismo-e-tempo-libero-3-2/
LOCATION:sede – Sala biblioteca
CATEGORIES:Riunioni varie
ATTACH;FMTTYPE=image/png:https://www.confindustria.sa.it/wp-content/uploads/2020/07/LogoConfindustria1.png
END:VEVENT
BEGIN:VEVENT
DTSTART;TZID=Europe/Helsinki:20211118T150000
DTEND;TZID=Europe/Helsinki:20211118T170000
DTSTAMP:20260423T091603
CREATED:20211112T130544Z
LAST-MODIFIED:20211112T130544Z
UID:40194-1637247600-1637254800@www.confindustria.sa.it
SUMMARY:Consiglio Direttivo del Gruppo Alberghi\, Turismo e Tempo Libero
DESCRIPTION:Partecipa il Presidente Andrea Ferraioli \nAnnamaria Laurenzano
URL:https://www.confindustria.sa.it/event/consiglio-direttivo-del-gruppo-alberghi-turismo-e-tempo-libero-3/
LOCATION:sede – Sala biblioteca
CATEGORIES:Riunioni varie
ATTACH;FMTTYPE=image/png:https://www.confindustria.sa.it/wp-content/uploads/2020/07/LogoConfindustria1.png
END:VEVENT
BEGIN:VEVENT
DTSTART;TZID=Europe/Helsinki:20211118T150000
DTEND;TZID=Europe/Helsinki:20211118T170000
DTSTAMP:20260423T091603
CREATED:20211112T130544Z
LAST-MODIFIED:20211112T130544Z
UID:73226-1637247600-1637254800@www.confindustria.sa.it
SUMMARY:Consiglio Direttivo del Gruppo Alberghi\, Turismo e Tempo Libero
DESCRIPTION:Partecipa il Presidente Andrea Ferraioli \nAnnamaria Laurenzano
URL:https://www.confindustria.sa.it/event/consiglio-direttivo-del-gruppo-alberghi-turismo-e-tempo-libero-3-3/
LOCATION:sede – Sala biblioteca
CATEGORIES:Riunioni varie
ATTACH;FMTTYPE=image/png:https://www.confindustria.sa.it/wp-content/uploads/2020/07/LogoConfindustria1.png
END:VEVENT
BEGIN:VEVENT
DTSTART;TZID=Europe/Helsinki:20211125T100000
DTEND;TZID=Europe/Helsinki:20211125T130000
DTSTAMP:20260423T091603
CREATED:20211124T092959Z
LAST-MODIFIED:20211124T092959Z
UID:72208-1637834400-1637845200@www.confindustria.sa.it
SUMMARY:Conferenza stampa di apertura BMTA 2021
DESCRIPTION:Partecipano il Vice Presidente Vito Cinque ed il Presidente del Gruppo Turismo Andrea Ferraioli \n  \nAnnamaria Laurenzano
URL:https://www.confindustria.sa.it/event/conferenza-stampa-di-apertura-bmta-2021-2/
LOCATION:Paestum – Tabacchificio Cafasso
CATEGORIES:Riunioni varie
ATTACH;FMTTYPE=image/jpeg:https://www.confindustria.sa.it/wp-content/uploads/2021/11/BMTA21_Testata-ita-940x200_SITO-3loghi.x50452-1.jpg
END:VEVENT
BEGIN:VEVENT
DTSTART;TZID=Europe/Helsinki:20211125T100000
DTEND;TZID=Europe/Helsinki:20211125T130000
DTSTAMP:20260423T091603
CREATED:20211124T092959Z
LAST-MODIFIED:20211125T112502Z
UID:40835-1637834400-1637845200@www.confindustria.sa.it
SUMMARY:Conferenza stampa di apertura BMTA 2021
DESCRIPTION:Partecipano il Vice Presidente Vito Cinque ed il Presidente del Gruppo Turismo Andrea Ferraioli \n  \nAnnamaria Laurenzano
URL:https://www.confindustria.sa.it/event/conferenza-stampa-di-apertura-bmta-2021/
LOCATION:Paestum – Tabacchificio Cafasso
CATEGORIES:Riunioni varie
ATTACH;FMTTYPE=image/jpeg:https://www.confindustria.sa.it/wp-content/uploads/2021/11/BMTA21_Testata-ita-940x200_SITO-3loghi.x50452-1.jpg
END:VEVENT
BEGIN:VEVENT
DTSTART;TZID=Europe/Helsinki:20211125T100000
DTEND;TZID=Europe/Helsinki:20211125T130000
DTSTAMP:20260423T091603
CREATED:20211124T092959Z
LAST-MODIFIED:20211124T092959Z
UID:73231-1637834400-1637845200@www.confindustria.sa.it
SUMMARY:Conferenza stampa di apertura BMTA 2021
DESCRIPTION:Partecipano il Vice Presidente Vito Cinque ed il Presidente del Gruppo Turismo Andrea Ferraioli \n  \nAnnamaria Laurenzano
URL:https://www.confindustria.sa.it/event/conferenza-stampa-di-apertura-bmta-2021-3/
LOCATION:Paestum – Tabacchificio Cafasso
CATEGORIES:Riunioni varie
ATTACH;FMTTYPE=image/jpeg:https://www.confindustria.sa.it/wp-content/uploads/2021/11/BMTA21_Testata-ita-940x200_SITO-3loghi.x50452-1.jpg
END:VEVENT
BEGIN:VEVENT
DTSTART;TZID=Europe/Helsinki:20211125T153000
DTEND;TZID=Europe/Helsinki:20211125T170000
DTSTAMP:20260423T091603
CREATED:20211105T164823Z
LAST-MODIFIED:20211105T164823Z
UID:72191-1637854200-1637859600@www.confindustria.sa.it
SUMMARY:Consiglio di Presidenza
DESCRIPTION:partecipa il Presidente A. Ferraioli \nAnnamaria Laurenzano
URL:https://www.confindustria.sa.it/event/consiglio-di-presidenza-10-2/
LOCATION:confindustria salerno
CATEGORIES:Riunioni varie
ATTACH;FMTTYPE=image/jpeg:https://www.confindustria.sa.it/wp-content/uploads/2020/07/logo-confsa.jpg
END:VEVENT
BEGIN:VEVENT
DTSTART;TZID=Europe/Helsinki:20211125T153000
DTEND;TZID=Europe/Helsinki:20211125T170000
DTSTAMP:20260423T091603
CREATED:20211105T164823Z
LAST-MODIFIED:20211118T113333Z
UID:39849-1637854200-1637859600@www.confindustria.sa.it
SUMMARY:Consiglio di Presidenza
DESCRIPTION:partecipa il Presidente A. Ferraioli \nAnnamaria Laurenzano
URL:https://www.confindustria.sa.it/event/consiglio-di-presidenza-10/
LOCATION:confindustria salerno
CATEGORIES:Riunioni varie
ATTACH;FMTTYPE=image/jpeg:https://www.confindustria.sa.it/wp-content/uploads/2020/07/logo-confsa.jpg
END:VEVENT
BEGIN:VEVENT
DTSTART;TZID=Europe/Helsinki:20211125T153000
DTEND;TZID=Europe/Helsinki:20211125T170000
DTSTAMP:20260423T091603
CREATED:20211105T164823Z
LAST-MODIFIED:20211105T164823Z
UID:73214-1637854200-1637859600@www.confindustria.sa.it
SUMMARY:Consiglio di Presidenza
DESCRIPTION:partecipa il Presidente A. Ferraioli \nAnnamaria Laurenzano
URL:https://www.confindustria.sa.it/event/consiglio-di-presidenza-10-3/
LOCATION:confindustria salerno
CATEGORIES:Riunioni varie
ATTACH;FMTTYPE=image/jpeg:https://www.confindustria.sa.it/wp-content/uploads/2020/07/logo-confsa.jpg
END:VEVENT
BEGIN:VEVENT
DTSTART;TZID=Europe/Helsinki:20211126T150000
DTEND;TZID=Europe/Helsinki:20211126T170000
DTSTAMP:20260423T091603
CREATED:20211126T152708Z
LAST-MODIFIED:20211126T152708Z
UID:72209-1637938800-1637946000@www.confindustria.sa.it
SUMMARY:convegno “LA VALUTAZIONE DEGLI ASSET IMMATERIALI. Impatto nelle decisioni di merger and acquisition e nei sistemi di rating”
DESCRIPTION:Annamaria Laurenzano
URL:https://www.confindustria.sa.it/event/convegno-la-valutazione-degli-asset-immateriali-impatto-nelle-decisioni-di-merger-and-acquisition-e-nei-sistemi-di-rating-2/
CATEGORIES:Riunioni varie
END:VEVENT
BEGIN:VEVENT
DTSTART;TZID=Europe/Helsinki:20211126T150000
DTEND;TZID=Europe/Helsinki:20211126T170000
DTSTAMP:20260423T091603
CREATED:20211126T152708Z
LAST-MODIFIED:20211126T152708Z
UID:41075-1637938800-1637946000@www.confindustria.sa.it
SUMMARY:convegno “LA VALUTAZIONE DEGLI ASSET IMMATERIALI. Impatto nelle decisioni di merger and acquisition e nei sistemi di rating”
DESCRIPTION:Annamaria Laurenzano
URL:https://www.confindustria.sa.it/event/convegno-la-valutazione-degli-asset-immateriali-impatto-nelle-decisioni-di-merger-and-acquisition-e-nei-sistemi-di-rating/
CATEGORIES:Riunioni varie
END:VEVENT
END:VCALENDAR