BEGIN:VCALENDAR
VERSION:2.0
PRODID:-//Confindustria Salerno - ECPv6.6.3//NONSGML v1.0//EN
CALSCALE:GREGORIAN
METHOD:PUBLISH
X-ORIGINAL-URL:https://www.confindustria.sa.it
X-WR-CALDESC:Eventi per Confindustria Salerno
REFRESH-INTERVAL;VALUE=DURATION:PT1H
X-Robots-Tag:noindex
X-PUBLISHED-TTL:PT1H
BEGIN:VTIMEZONE
TZID:Europe/Helsinki
BEGIN:DAYLIGHT
TZOFFSETFROM:+0200
TZOFFSETTO:+0300
TZNAME:EEST
DTSTART:20210328T010000
END:DAYLIGHT
BEGIN:STANDARD
TZOFFSETFROM:+0300
TZOFFSETTO:+0200
TZNAME:EET
DTSTART:20211031T010000
END:STANDARD
END:VTIMEZONE
BEGIN:VEVENT
DTSTART;TZID=Europe/Helsinki:20210428T153000
DTEND;TZID=Europe/Helsinki:20210428T173000
DTSTAMP:20260423T135147
CREATED:20210331T104057Z
LAST-MODIFIED:20210331T104057Z
UID:72051-1619623800-1619631000@www.confindustria.sa.it
SUMMARY:Donne\, lavoro e impresa - Seminario \"Gender diversity: un fattore di crescita delle imprese\"
DESCRIPTION:Partecipa la Presidente del Comitato Femminile Plurale\, Alessandra Puglisi \n \nAnnamaria Laurenzano
URL:https://www.confindustria.sa.it/event/donne-lavoro-e-impresa-seminario-gender-diversity-un-fattore-di-crescita-delle-impresetions-2/
CATEGORIES:Riunioni varie
ATTACH;FMTTYPE=image/png:https://www.confindustria.sa.it/wp-content/uploads/2021/03/unnamed.png
END:VEVENT
BEGIN:VEVENT
DTSTART;TZID=Europe/Helsinki:20210428T153000
DTEND;TZID=Europe/Helsinki:20210428T173000
DTSTAMP:20260423T135147
CREATED:20210331T104057Z
LAST-MODIFIED:20210331T104057Z
UID:73074-1619623800-1619631000@www.confindustria.sa.it
SUMMARY:Donne\, lavoro e impresa - Seminario \"Gender diversity: un fattore di crescita delle imprese\"
DESCRIPTION:Partecipa la Presidente del Comitato Femminile Plurale\, Alessandra Puglisi \n \nAnnamaria Laurenzano
URL:https://www.confindustria.sa.it/event/donne-lavoro-e-impresa-seminario-gender-diversity-un-fattore-di-crescita-delle-impresetions-3/
CATEGORIES:Riunioni varie
ATTACH;FMTTYPE=image/png:https://www.confindustria.sa.it/wp-content/uploads/2021/03/unnamed.png
END:VEVENT
BEGIN:VEVENT
DTSTART;TZID=Europe/Helsinki:20210501T170000
DTEND;TZID=Europe/Helsinki:20210501T183000
DTSTAMP:20260423T135147
CREATED:20210421T093143Z
LAST-MODIFIED:20210421T093143Z
UID:72076-1619888400-1619893800@www.confindustria.sa.it
SUMMARY:1° maggio 2021: evento “Donne e lavoro”\, su piattaforma zoom
DESCRIPTION:Evento promosso e organizzato dal network Women in Businss di Kinetès – Arte.Cultura.Ricerca.Impresa. \nPartecipa la Presidente del Comitato Femminile Plurale\, Alessandra Puglisi \n1MAGGIO 2021 (1) \nAnnamaria Laurenzano
URL:https://www.confindustria.sa.it/event/1-maggio-2021-evento-donne-e-lavoro-su-piattaforma-zoom-2/
CATEGORIES:Riunioni varie
ATTACH;FMTTYPE=image/jpeg:https://www.confindustria.sa.it/wp-content/uploads/2021/04/kinetes.jpg
END:VEVENT
BEGIN:VEVENT
DTSTART;TZID=Europe/Helsinki:20210501T170000
DTEND;TZID=Europe/Helsinki:20210501T183000
DTSTAMP:20260423T135147
CREATED:20210421T093143Z
LAST-MODIFIED:20210421T093143Z
UID:73099-1619888400-1619893800@www.confindustria.sa.it
SUMMARY:1° maggio 2021: evento “Donne e lavoro”\, su piattaforma zoom
DESCRIPTION:Evento promosso e organizzato dal network Women in Businss di Kinetès – Arte.Cultura.Ricerca.Impresa. \nPartecipa la Presidente del Comitato Femminile Plurale\, Alessandra Puglisi \n1MAGGIO 2021 (1) \nAnnamaria Laurenzano
URL:https://www.confindustria.sa.it/event/1-maggio-2021-evento-donne-e-lavoro-su-piattaforma-zoom-3/
CATEGORIES:Riunioni varie
ATTACH;FMTTYPE=image/jpeg:https://www.confindustria.sa.it/wp-content/uploads/2021/04/kinetes.jpg
END:VEVENT
BEGIN:VEVENT
DTSTART;TZID=Europe/Helsinki:20210501T170000
DTEND;TZID=Europe/Helsinki:20210501T183000
DTSTAMP:20260423T135147
CREATED:20210421T093143Z
LAST-MODIFIED:20210421T093143Z
UID:29217-1619888400-1619893800@www.confindustria.sa.it
SUMMARY:1° maggio 2021: evento “Donne e lavoro”\, su piattaforma zoom
DESCRIPTION:Evento promosso e organizzato dal network Women in Businss di Kinetès – Arte.Cultura.Ricerca.Impresa. \nPartecipa la Presidente del Comitato Femminile Plurale\, Alessandra Puglisi \n1MAGGIO 2021 (1) \nAnnamaria Laurenzano
URL:https://www.confindustria.sa.it/event/1-maggio-2021-evento-donne-e-lavoro-su-piattaforma-zoom/
CATEGORIES:Riunioni varie
ATTACH;FMTTYPE=image/jpeg:https://www.confindustria.sa.it/wp-content/uploads/2021/04/kinetes.jpg
END:VEVENT
BEGIN:VEVENT
DTSTART;TZID=Europe/Helsinki:20210503T080000
DTEND;TZID=Europe/Helsinki:20210503T170000
DTSTAMP:20260423T135147
CREATED:20210503T153857Z
LAST-MODIFIED:20210503T153857Z
UID:73114-1620028800-1620061200@www.confindustria.sa.it
SUMMARY:Consiglio Centrale Piccola Industria
DESCRIPTION:(da remoto) \npartecipa il Presidente (L.Piccolo) \nAnnamaria Laurenzano
URL:https://www.confindustria.sa.it/event/consiglio-centrale-piccola-industria-3-3/
LOCATION:Roma – Confindustria
CATEGORIES:Riunioni varie
ATTACH;FMTTYPE=image/jpeg:https://www.confindustria.sa.it/wp-content/uploads/2020/03/1confindustria_images_annafabi_thumb_medium256_192.jpg
END:VEVENT
BEGIN:VEVENT
DTSTART;TZID=Europe/Helsinki:20210503T080000
DTEND;TZID=Europe/Helsinki:20210503T170000
DTSTAMP:20260423T135147
CREATED:20210503T153857Z
LAST-MODIFIED:20210503T153857Z
UID:30033-1620028800-1620061200@www.confindustria.sa.it
SUMMARY:Consiglio Centrale Piccola Industria
DESCRIPTION:(da remoto) \npartecipa il Presidente (L.Piccolo) \nAnnamaria Laurenzano
URL:https://www.confindustria.sa.it/event/consiglio-centrale-piccola-industria-3/
LOCATION:Roma – Confindustria
CATEGORIES:Riunioni varie
ATTACH;FMTTYPE=image/jpeg:https://www.confindustria.sa.it/wp-content/uploads/2020/03/1confindustria_images_annafabi_thumb_medium256_192.jpg
END:VEVENT
BEGIN:VEVENT
DTSTART;TZID=Europe/Helsinki:20210503T080000
DTEND;TZID=Europe/Helsinki:20210503T170000
DTSTAMP:20260423T135147
CREATED:20210503T153857Z
LAST-MODIFIED:20210503T153857Z
UID:72091-1620028800-1620061200@www.confindustria.sa.it
SUMMARY:Consiglio Centrale Piccola Industria
DESCRIPTION:(da remoto) \npartecipa il Presidente (L.Piccolo) \nAnnamaria Laurenzano
URL:https://www.confindustria.sa.it/event/consiglio-centrale-piccola-industria-3-2/
LOCATION:Roma – Confindustria
CATEGORIES:Riunioni varie
ATTACH;FMTTYPE=image/jpeg:https://www.confindustria.sa.it/wp-content/uploads/2020/03/1confindustria_images_annafabi_thumb_medium256_192.jpg
END:VEVENT
BEGIN:VEVENT
DTSTART;TZID=Europe/Helsinki:20210503T080000
DTEND;TZID=Europe/Helsinki:20210503T170000
DTSTAMP:20260423T135147
CREATED:20210503T155018Z
LAST-MODIFIED:20210503T155018Z
UID:73119-1620028800-1620061200@www.confindustria.sa.it
SUMMARY:Incontro con l’Ambasciatore di Algeria S.E. Ahmed Boutache
DESCRIPTION:partecipa il presidente \nAnnamaria Laurenzano
URL:https://www.confindustria.sa.it/event/incontro-con-lambasciatore-di-algeria-s-e-ahmed-boutache-4/
LOCATION:Confindustria Salerno
CATEGORIES:Riunioni varie
END:VEVENT
BEGIN:VEVENT
DTSTART;TZID=Europe/Helsinki:20210503T080000
DTEND;TZID=Europe/Helsinki:20210503T170000
DTSTAMP:20260423T135147
CREATED:20210503T155018Z
LAST-MODIFIED:20210503T155018Z
UID:30043-1620028800-1620061200@www.confindustria.sa.it
SUMMARY:Incontro con l’Ambasciatore di Algeria S.E. Ahmed Boutache
DESCRIPTION:partecipa il presidente \nAnnamaria Laurenzano
URL:https://www.confindustria.sa.it/event/incontro-con-lambasciatore-di-algeria-s-e-ahmed-boutache/
LOCATION:Confindustria Salerno
CATEGORIES:Riunioni varie
END:VEVENT
BEGIN:VEVENT
DTSTART;TZID=Europe/Helsinki:20210503T080000
DTEND;TZID=Europe/Helsinki:20210503T170000
DTSTAMP:20260423T135147
CREATED:20210503T155018Z
LAST-MODIFIED:20210503T155018Z
UID:72096-1620028800-1620061200@www.confindustria.sa.it
SUMMARY:Incontro con l’Ambasciatore di Algeria S.E. Ahmed Boutache
DESCRIPTION:partecipa il presidente \nAnnamaria Laurenzano
URL:https://www.confindustria.sa.it/event/incontro-con-lambasciatore-di-algeria-s-e-ahmed-boutache-3/
LOCATION:Confindustria Salerno
CATEGORIES:Riunioni varie
END:VEVENT
BEGIN:VEVENT
DTSTART;TZID=Europe/Helsinki:20210506T143000
DTEND;TZID=Europe/Helsinki:20210506T170000
DTSTAMP:20260423T135147
CREATED:20210421T101543Z
LAST-MODIFIED:20210421T101543Z
UID:29226-1620311400-1620320400@www.confindustria.sa.it
SUMMARY:Consiglio Direttivo del Gruppo Metalmeccanico "allargato" alle Aziende del Gruppo e Focus su Ice Agenzia - Iniziative per l'internazionalizzazione
DESCRIPTION:Partecipa il Presidente Pasquale Gaito \nAnnamaria Laurenzano
URL:https://www.confindustria.sa.it/event/consiglio-direttivo-del-gruppo-metalmeccanico-allargato-alle-aziende-del-gruppo-e-focus-su-ice-agenzia-iniziative-per-linternazionalizzazione/
CATEGORIES:Riunioni varie
ATTACH;FMTTYPE=image/png:https://www.confindustria.sa.it/wp-content/uploads/2020/07/LogoConfindustria1.png
END:VEVENT
BEGIN:VEVENT
DTSTART;TZID=Europe/Helsinki:20210506T143000
DTEND;TZID=Europe/Helsinki:20210506T170000
DTSTAMP:20260423T135147
CREATED:20210421T101543Z
LAST-MODIFIED:20210421T101543Z
UID:72078-1620311400-1620320400@www.confindustria.sa.it
SUMMARY:Consiglio Direttivo del Gruppo Metalmeccanico \"allargato\" alle Aziende del Gruppo e Focus su Ice Agenzia - Iniziative per l\'internazionalizzazione
DESCRIPTION:Partecipa il Presidente Pasquale Gaito \nAnnamaria Laurenzano
URL:https://www.confindustria.sa.it/event/consiglio-direttivo-del-gruppo-metalmeccanico-allargato-alle-aziende-del-gruppo-e-focus-su-ice-agenzia-iniziative-per-linternazionalizzazione-2/
CATEGORIES:Riunioni varie
ATTACH;FMTTYPE=image/png:https://www.confindustria.sa.it/wp-content/uploads/2020/07/LogoConfindustria1.png
END:VEVENT
BEGIN:VEVENT
DTSTART;TZID=Europe/Helsinki:20210506T143000
DTEND;TZID=Europe/Helsinki:20210506T170000
DTSTAMP:20260423T135147
CREATED:20210421T101543Z
LAST-MODIFIED:20210421T101543Z
UID:73101-1620311400-1620320400@www.confindustria.sa.it
SUMMARY:Consiglio Direttivo del Gruppo Metalmeccanico \"allargato\" alle Aziende del Gruppo e Focus su Ice Agenzia - Iniziative per l\'internazionalizzazione
DESCRIPTION:Partecipa il Presidente Pasquale Gaito \nAnnamaria Laurenzano
URL:https://www.confindustria.sa.it/event/consiglio-direttivo-del-gruppo-metalmeccanico-allargato-alle-aziende-del-gruppo-e-focus-su-ice-agenzia-iniziative-per-linternazionalizzazione-3/
CATEGORIES:Riunioni varie
ATTACH;FMTTYPE=image/png:https://www.confindustria.sa.it/wp-content/uploads/2020/07/LogoConfindustria1.png
END:VEVENT
BEGIN:VEVENT
DTSTART;TZID=Europe/Helsinki:20210507T003000
DTEND;TZID=Europe/Helsinki:20210507T013000
DTSTAMP:20260423T135147
CREATED:20210505T102108Z
LAST-MODIFIED:20210505T102108Z
UID:72098-1620347400-1620351000@www.confindustria.sa.it
SUMMARY:Incontro sulla revisione della Plastic Tax con l\'On. Piero De Luca e i Componenti del Consiglio Direttivo del Gruppo Chimica Gomma Plastica di Confindustria Salerno
DESCRIPTION:Partecipano il Presidente Antonio Ferraioli ed il Presidente Giuseppe Rinaldi \nAnnamaria Laurenzano
URL:https://www.confindustria.sa.it/event/incontro-sulla-revisione-della-plastic-tax-con-lon-piero-de-luca-e-i-componenti-del-consiglio-direttivo-del-gruppo-chimica-gomma-plastica-di-confindustria-salerno-2/
LOCATION:confindustria salerno
CATEGORIES:Riunioni varie
ATTACH;FMTTYPE=image/png:https://www.confindustria.sa.it/wp-content/uploads/2020/07/LogoConfindustria1-1.png
END:VEVENT
BEGIN:VEVENT
DTSTART;TZID=Europe/Helsinki:20210507T003000
DTEND;TZID=Europe/Helsinki:20210507T013000
DTSTAMP:20260423T135147
CREATED:20210505T102108Z
LAST-MODIFIED:20210505T102108Z
UID:73121-1620347400-1620351000@www.confindustria.sa.it
SUMMARY:Incontro sulla revisione della Plastic Tax con l\'On. Piero De Luca e i Componenti del Consiglio Direttivo del Gruppo Chimica Gomma Plastica di Confindustria Salerno
DESCRIPTION:Partecipano il Presidente Antonio Ferraioli ed il Presidente Giuseppe Rinaldi \nAnnamaria Laurenzano
URL:https://www.confindustria.sa.it/event/incontro-sulla-revisione-della-plastic-tax-con-lon-piero-de-luca-e-i-componenti-del-consiglio-direttivo-del-gruppo-chimica-gomma-plastica-di-confindustria-salerno-3/
LOCATION:confindustria salerno
CATEGORIES:Riunioni varie
ATTACH;FMTTYPE=image/png:https://www.confindustria.sa.it/wp-content/uploads/2020/07/LogoConfindustria1-1.png
END:VEVENT
BEGIN:VEVENT
DTSTART;TZID=Europe/Helsinki:20210507T003000
DTEND;TZID=Europe/Helsinki:20210507T013000
DTSTAMP:20260423T135147
CREATED:20210505T102108Z
LAST-MODIFIED:20210505T102108Z
UID:30145-1620347400-1620351000@www.confindustria.sa.it
SUMMARY:Incontro sulla revisione della Plastic Tax con l'On. Piero De Luca e i Componenti del Consiglio Direttivo del Gruppo Chimica Gomma Plastica di Confindustria Salerno
DESCRIPTION:Partecipano il Presidente Antonio Ferraioli ed il Presidente Giuseppe Rinaldi \nAnnamaria Laurenzano
URL:https://www.confindustria.sa.it/event/incontro-sulla-revisione-della-plastic-tax-con-lon-piero-de-luca-e-i-componenti-del-consiglio-direttivo-del-gruppo-chimica-gomma-plastica-di-confindustria-salerno/
LOCATION:confindustria salerno
CATEGORIES:Riunioni varie
ATTACH;FMTTYPE=image/png:https://www.confindustria.sa.it/wp-content/uploads/2020/07/LogoConfindustria1-1.png
END:VEVENT
BEGIN:VEVENT
DTSTART;TZID=Europe/Helsinki:20210507T020000
DTEND;TZID=Europe/Helsinki:20210507T170000
DTSTAMP:20260423T135147
CREATED:20210503T153104Z
LAST-MODIFIED:20210503T153104Z
UID:73111-1620352800-1620406800@www.confindustria.sa.it
SUMMARY:Consiglio Direttivo Comitato Femminile Plurale
DESCRIPTION:in presenza e su piattaforma zoom \npartecipa il presidente del Comitato (A. Puglisi) \nAnnamaria Laurenzano
URL:https://www.confindustria.sa.it/event/consiglio-direttivo-comitato-femminile-plurale-4-3/
CATEGORIES:Riunioni varie
ATTACH;FMTTYPE=image/jpeg:https://www.confindustria.sa.it/wp-content/uploads/2020/07/logo-confsa.jpg
END:VEVENT
BEGIN:VEVENT
DTSTART;TZID=Europe/Helsinki:20210507T020000
DTEND;TZID=Europe/Helsinki:20210507T170000
DTSTAMP:20260423T135147
CREATED:20210503T153104Z
LAST-MODIFIED:20210503T153104Z
UID:30024-1620352800-1620406800@www.confindustria.sa.it
SUMMARY:Consiglio Direttivo Comitato Femminile Plurale
DESCRIPTION:in presenza e su piattaforma zoom \npartecipa il presidente del Comitato (A. Puglisi) \nAnnamaria Laurenzano
URL:https://www.confindustria.sa.it/event/consiglio-direttivo-comitato-femminile-plurale-4/
CATEGORIES:Riunioni varie
ATTACH;FMTTYPE=image/jpeg:https://www.confindustria.sa.it/wp-content/uploads/2020/07/logo-confsa.jpg
END:VEVENT
BEGIN:VEVENT
DTSTART;TZID=Europe/Helsinki:20210507T020000
DTEND;TZID=Europe/Helsinki:20210507T170000
DTSTAMP:20260423T135147
CREATED:20210503T153104Z
LAST-MODIFIED:20210503T153104Z
UID:72088-1620352800-1620406800@www.confindustria.sa.it
SUMMARY:Consiglio Direttivo Comitato Femminile Plurale
DESCRIPTION:in presenza e su piattaforma zoom \npartecipa il presidente del Comitato (A. Puglisi) \nAnnamaria Laurenzano
URL:https://www.confindustria.sa.it/event/consiglio-direttivo-comitato-femminile-plurale-4-2/
CATEGORIES:Riunioni varie
ATTACH;FMTTYPE=image/jpeg:https://www.confindustria.sa.it/wp-content/uploads/2020/07/logo-confsa.jpg
END:VEVENT
BEGIN:VEVENT
DTSTART;TZID=Europe/Helsinki:20210510T003000
DTEND;TZID=Europe/Helsinki:20210510T143000
DTSTAMP:20260423T135147
CREATED:20210428T104017Z
LAST-MODIFIED:20210428T104017Z
UID:73105-1620606600-1620657000@www.confindustria.sa.it
SUMMARY:Consiglio Direttivo Gruppo Gruppo Servizi Innovativi e Tecnologici\, in forma congiunta con il Gruppo Giovani Imprenditori di Confindustria Salerno\, in videoconferenza
DESCRIPTION:Partecipano il Presidente dei G.I.\, Marco Gambardella ed il Presidente del Gruppo Servizi Innovativi e Tecnologici\, Francesco Serravalle \nAnnamaria Laurenzano
URL:https://www.confindustria.sa.it/event/consiglio-direttivo-gruppo-gruppo-servizi-innovativi-e-tecnologici-in-forma-congiunta-con-il-gruppo-giovani-imprenditori-di-confindustria-salerno-in-videoconferenza-3/
CATEGORIES:Riunioni varie
ATTACH;FMTTYPE=image/png:https://www.confindustria.sa.it/wp-content/uploads/2020/07/LogoConfindustria1.png
END:VEVENT
BEGIN:VEVENT
DTSTART;TZID=Europe/Helsinki:20210510T003000
DTEND;TZID=Europe/Helsinki:20210510T143000
DTSTAMP:20260423T135147
CREATED:20210428T104017Z
LAST-MODIFIED:20210428T104017Z
UID:29679-1620606600-1620657000@www.confindustria.sa.it
SUMMARY:Consiglio Direttivo Gruppo Gruppo Servizi Innovativi e Tecnologici\, in forma congiunta con il Gruppo Giovani Imprenditori di Confindustria Salerno\, in videoconferenza
DESCRIPTION:Partecipano il Presidente dei G.I.\, Marco Gambardella ed il Presidente del Gruppo Servizi Innovativi e Tecnologici\, Francesco Serravalle \nAnnamaria Laurenzano
URL:https://www.confindustria.sa.it/event/consiglio-direttivo-gruppo-gruppo-servizi-innovativi-e-tecnologici-in-forma-congiunta-con-il-gruppo-giovani-imprenditori-di-confindustria-salerno-in-videoconferenza/
CATEGORIES:Riunioni varie
ATTACH;FMTTYPE=image/png:https://www.confindustria.sa.it/wp-content/uploads/2020/07/LogoConfindustria1.png
END:VEVENT
BEGIN:VEVENT
DTSTART;TZID=Europe/Helsinki:20210510T003000
DTEND;TZID=Europe/Helsinki:20210510T143000
DTSTAMP:20260423T135147
CREATED:20210428T104017Z
LAST-MODIFIED:20210428T104017Z
UID:72082-1620606600-1620657000@www.confindustria.sa.it
SUMMARY:Consiglio Direttivo Gruppo Gruppo Servizi Innovativi e Tecnologici\, in forma congiunta con il Gruppo Giovani Imprenditori di Confindustria Salerno\, in videoconferenza
DESCRIPTION:Partecipano il Presidente dei G.I.\, Marco Gambardella ed il Presidente del Gruppo Servizi Innovativi e Tecnologici\, Francesco Serravalle \nAnnamaria Laurenzano
URL:https://www.confindustria.sa.it/event/consiglio-direttivo-gruppo-gruppo-servizi-innovativi-e-tecnologici-in-forma-congiunta-con-il-gruppo-giovani-imprenditori-di-confindustria-salerno-in-videoconferenza-2/
CATEGORIES:Riunioni varie
ATTACH;FMTTYPE=image/png:https://www.confindustria.sa.it/wp-content/uploads/2020/07/LogoConfindustria1.png
END:VEVENT
BEGIN:VEVENT
DTSTART;TZID=Europe/Helsinki:20210512T143000
DTEND;TZID=Europe/Helsinki:20210512T163000
DTSTAMP:20260423T135147
CREATED:20210419T115632Z
LAST-MODIFIED:20210419T115632Z
UID:73096-1620829800-1620837000@www.confindustria.sa.it
SUMMARY:Roadshow Conai 2021 - Webinar  “ Il punto sulle novità introdotte nella gestione dei rifiuti dal d.lgs n. 116/2020
DESCRIPTION:Partecipa la Vicepresidente Lina Piccolo \nAnnamaria Laurenzano
URL:https://www.confindustria.sa.it/event/roadshow-conai-2021-webinar-aggiornamento-delle-novita-post-116-in-sostanza-dopo-aver-spiegato-negli-eventi-del-2020-le-nuove-disposizioni-ora-a-distanza-di-6-mesi-diciamo-cosa-e-successo-di-nuov-3/
CATEGORIES:Riunioni varie
ATTACH;FMTTYPE=image/png:https://www.confindustria.sa.it/wp-content/uploads/2021/04/logo-conai-2019@2x.png
END:VEVENT
BEGIN:VEVENT
DTSTART;TZID=Europe/Helsinki:20210512T143000
DTEND;TZID=Europe/Helsinki:20210512T163000
DTSTAMP:20260423T135148
CREATED:20210419T115632Z
LAST-MODIFIED:20210429T100126Z
UID:29075-1620829800-1620837000@www.confindustria.sa.it
SUMMARY:Roadshow Conai 2021 - Webinar  “ Il punto sulle novità introdotte nella gestione dei rifiuti dal d.lgs n. 116/2020
DESCRIPTION:Partecipa la Vicepresidente Lina Piccolo \nAnnamaria Laurenzano
URL:https://www.confindustria.sa.it/event/roadshow-conai-2021-webinar-aggiornamento-delle-novita-post-116-in-sostanza-dopo-aver-spiegato-negli-eventi-del-2020-le-nuove-disposizioni-ora-a-distanza-di-6-mesi-diciamo-cosa-e-successo-di-nuov/
CATEGORIES:Riunioni varie
ATTACH;FMTTYPE=image/png:https://www.confindustria.sa.it/wp-content/uploads/2021/04/logo-conai-2019@2x.png
END:VEVENT
BEGIN:VEVENT
DTSTART;TZID=Europe/Helsinki:20210512T143000
DTEND;TZID=Europe/Helsinki:20210512T163000
DTSTAMP:20260423T135148
CREATED:20210419T115632Z
LAST-MODIFIED:20210419T115632Z
UID:72073-1620829800-1620837000@www.confindustria.sa.it
SUMMARY:Roadshow Conai 2021 - Webinar  “ Il punto sulle novità introdotte nella gestione dei rifiuti dal d.lgs n. 116/2020
DESCRIPTION:Partecipa la Vicepresidente Lina Piccolo \nAnnamaria Laurenzano
URL:https://www.confindustria.sa.it/event/roadshow-conai-2021-webinar-aggiornamento-delle-novita-post-116-in-sostanza-dopo-aver-spiegato-negli-eventi-del-2020-le-nuove-disposizioni-ora-a-distanza-di-6-mesi-diciamo-cosa-e-successo-di-nuov-2/
CATEGORIES:Riunioni varie
ATTACH;FMTTYPE=image/png:https://www.confindustria.sa.it/wp-content/uploads/2021/04/logo-conai-2019@2x.png
END:VEVENT
BEGIN:VEVENT
DTSTART;TZID=Europe/Helsinki:20210519T143000
DTEND;TZID=Europe/Helsinki:20210519T163000
DTSTAMP:20260423T135148
CREATED:20210419T115758Z
LAST-MODIFIED:20210419T115758Z
UID:73097-1621434600-1621441800@www.confindustria.sa.it
SUMMARY:Roadshow Conai 2021: Webinar  “ La gestione dei rifiuti urbani nelle imprese post d.lgs n. 116/2020.”
DESCRIPTION:Partecipa la Vicepresidente Lina Piccolo \nAnnamaria Laurenzano
URL:https://www.confindustria.sa.it/event/roadshow-conai-2021-webinar-gestione-dei-rifiuti-urbani-nelle-imprese-in-sostanza-consigli-alle-imprese-per-la-scelta-fornitore-e-comunicazione-al-31-maggio-al-comune-3/
CATEGORIES:Riunioni varie
ATTACH;FMTTYPE=image/png:https://www.confindustria.sa.it/wp-content/uploads/2021/04/logo-conai-2019@2x.png
END:VEVENT
BEGIN:VEVENT
DTSTART;TZID=Europe/Helsinki:20210519T143000
DTEND;TZID=Europe/Helsinki:20210519T163000
DTSTAMP:20260423T135148
CREATED:20210419T115758Z
LAST-MODIFIED:20210429T100155Z
UID:29078-1621434600-1621441800@www.confindustria.sa.it
SUMMARY:Roadshow Conai 2021: Webinar  “ La gestione dei rifiuti urbani nelle imprese post d.lgs n. 116/2020.”
DESCRIPTION:Partecipa la Vicepresidente Lina Piccolo \nAnnamaria Laurenzano
URL:https://www.confindustria.sa.it/event/roadshow-conai-2021-webinar-gestione-dei-rifiuti-urbani-nelle-imprese-in-sostanza-consigli-alle-imprese-per-la-scelta-fornitore-e-comunicazione-al-31-maggio-al-comune/
CATEGORIES:Riunioni varie
ATTACH;FMTTYPE=image/png:https://www.confindustria.sa.it/wp-content/uploads/2021/04/logo-conai-2019@2x.png
END:VEVENT
BEGIN:VEVENT
DTSTART;TZID=Europe/Helsinki:20210519T143000
DTEND;TZID=Europe/Helsinki:20210519T163000
DTSTAMP:20260423T135148
CREATED:20210419T115758Z
LAST-MODIFIED:20210419T115758Z
UID:72074-1621434600-1621441800@www.confindustria.sa.it
SUMMARY:Roadshow Conai 2021: Webinar  “ La gestione dei rifiuti urbani nelle imprese post d.lgs n. 116/2020.”
DESCRIPTION:Partecipa la Vicepresidente Lina Piccolo \nAnnamaria Laurenzano
URL:https://www.confindustria.sa.it/event/roadshow-conai-2021-webinar-gestione-dei-rifiuti-urbani-nelle-imprese-in-sostanza-consigli-alle-imprese-per-la-scelta-fornitore-e-comunicazione-al-31-maggio-al-comune-2/
CATEGORIES:Riunioni varie
ATTACH;FMTTYPE=image/png:https://www.confindustria.sa.it/wp-content/uploads/2021/04/logo-conai-2019@2x.png
END:VEVENT
BEGIN:VEVENT
DTSTART;TZID=Europe/Helsinki:20210519T150000
DTEND;TZID=Europe/Helsinki:20210519T170000
DTSTAMP:20260423T135148
CREATED:20210325T164200Z
LAST-MODIFIED:20210325T164200Z
UID:73069-1621436400-1621443600@www.confindustria.sa.it
SUMMARY:Assemblea dei Delegati Confindustria
DESCRIPTION:Partecipa il Presidente Antonio Ferraioli \n  \nAnnamaria Laurenzano
URL:https://www.confindustria.sa.it/event/assemblea-dei-delegati-confindustria-4/
LOCATION:Roma – Confindustria
CATEGORIES:eventi-confindustria,Riunioni varie
ATTACH;FMTTYPE=image/jpeg:https://www.confindustria.sa.it/wp-content/uploads/2020/03/1confindustria_images_annafabi_thumb_medium256_192.jpg
END:VEVENT
END:VCALENDAR