BEGIN:VCALENDAR
VERSION:2.0
PRODID:-//Confindustria Salerno - ECPv6.6.3//NONSGML v1.0//EN
CALSCALE:GREGORIAN
METHOD:PUBLISH
X-ORIGINAL-URL:https://www.confindustria.sa.it
X-WR-CALDESC:Eventi per Confindustria Salerno
REFRESH-INTERVAL;VALUE=DURATION:PT1H
X-Robots-Tag:noindex
X-PUBLISHED-TTL:PT1H
BEGIN:VTIMEZONE
TZID:Europe/Helsinki
BEGIN:DAYLIGHT
TZOFFSETFROM:+0200
TZOFFSETTO:+0300
TZNAME:EEST
DTSTART:20210328T010000
END:DAYLIGHT
BEGIN:STANDARD
TZOFFSETFROM:+0300
TZOFFSETTO:+0200
TZNAME:EET
DTSTART:20211031T010000
END:STANDARD
END:VTIMEZONE
BEGIN:VEVENT
DTSTART;TZID=Europe/Helsinki:20210415T150000
DTEND;TZID=Europe/Helsinki:20210415T170000
DTSTAMP:20260423T113107
CREATED:20210408T105806Z
LAST-MODIFIED:20210408T105806Z
UID:73081-1618498800-1618506000@www.confindustria.sa.it
SUMMARY:Young Business Stories - 3 ^ puntata
DESCRIPTION:Partecipa il Presidente G.I.\, Marco Gambardella \nAnnamaria Laurenzano
URL:https://www.confindustria.sa.it/event/young-business-stories-3-puntata-3/
CATEGORIES:Riunioni varie
ATTACH;FMTTYPE=image/png:https://www.confindustria.sa.it/wp-content/uploads/2020/10/giovani.png
END:VEVENT
BEGIN:VEVENT
DTSTART;TZID=Europe/Helsinki:20210415T150000
DTEND;TZID=Europe/Helsinki:20210415T170000
DTSTAMP:20260423T113107
CREATED:20210408T105806Z
LAST-MODIFIED:20210408T105806Z
UID:28451-1618498800-1618506000@www.confindustria.sa.it
SUMMARY:Young Business Stories - 3 ^ puntata
DESCRIPTION:Partecipa il Presidente G.I.\, Marco Gambardella \nAnnamaria Laurenzano
URL:https://www.confindustria.sa.it/event/young-business-stories-3-puntata/
CATEGORIES:Riunioni varie
ATTACH;FMTTYPE=image/png:https://www.confindustria.sa.it/wp-content/uploads/2020/10/giovani.png
END:VEVENT
BEGIN:VEVENT
DTSTART;TZID=Europe/Helsinki:20210415T153000
DTEND;TZID=Europe/Helsinki:20210415T170000
DTSTAMP:20260423T113107
CREATED:20210408T110120Z
LAST-MODIFIED:20210408T110120Z
UID:28453-1618500600-1618506000@www.confindustria.sa.it
SUMMARY:Webinar: "Il contributo dei Licei Economico Sociali per il Sud. Storie di resilienza giovanile"
DESCRIPTION:A cura di Rete Campania dei Licei Economico sociali. \nPartecipa il Presidente G.I.\, Marco Gambardella \nAnnamaria Laurenzano
URL:https://www.confindustria.sa.it/event/webinar-il-contributo-dei-licei-economico-sociali-per-il-sud-storie-di-resilienza-giovanile/
CATEGORIES:Riunioni varie
ATTACH;FMTTYPE=image/png:https://www.confindustria.sa.it/wp-content/uploads/2021/04/les.png
END:VEVENT
BEGIN:VEVENT
DTSTART;TZID=Europe/Helsinki:20210415T153000
DTEND;TZID=Europe/Helsinki:20210415T170000
DTSTAMP:20260423T113107
CREATED:20210408T110120Z
LAST-MODIFIED:20210408T110120Z
UID:72059-1618500600-1618506000@www.confindustria.sa.it
SUMMARY:Webinar: \"Il contributo dei Licei Economico Sociali per il Sud. Storie di resilienza giovanile\"
DESCRIPTION:A cura di Rete Campania dei Licei Economico sociali. \nPartecipa il Presidente G.I.\, Marco Gambardella \nAnnamaria Laurenzano
URL:https://www.confindustria.sa.it/event/webinar-il-contributo-dei-licei-economico-sociali-per-il-sud-storie-di-resilienza-giovanile-2/
CATEGORIES:Riunioni varie
ATTACH;FMTTYPE=image/png:https://www.confindustria.sa.it/wp-content/uploads/2021/04/les.png
END:VEVENT
BEGIN:VEVENT
DTSTART;TZID=Europe/Helsinki:20210415T153000
DTEND;TZID=Europe/Helsinki:20210415T170000
DTSTAMP:20260423T113107
CREATED:20210408T110120Z
LAST-MODIFIED:20210408T110120Z
UID:73082-1618500600-1618506000@www.confindustria.sa.it
SUMMARY:Webinar: \"Il contributo dei Licei Economico Sociali per il Sud. Storie di resilienza giovanile\"
DESCRIPTION:A cura di Rete Campania dei Licei Economico sociali. \nPartecipa il Presidente G.I.\, Marco Gambardella \nAnnamaria Laurenzano
URL:https://www.confindustria.sa.it/event/webinar-il-contributo-dei-licei-economico-sociali-per-il-sud-storie-di-resilienza-giovanile-3/
CATEGORIES:Riunioni varie
ATTACH;FMTTYPE=image/png:https://www.confindustria.sa.it/wp-content/uploads/2021/04/les.png
END:VEVENT
BEGIN:VEVENT
DTSTART;TZID=Europe/Helsinki:20210419T143000
DTEND;TZID=Europe/Helsinki:20210419T170000
DTSTAMP:20260423T113107
CREATED:20210409T135505Z
LAST-MODIFIED:20210409T135505Z
UID:72063-1618842600-1618851600@www.confindustria.sa.it
SUMMARY:Consiglio Direttivo Gruppo Servizi Innovativi e Tecnologici
DESCRIPTION:Partecipa il Presidente Francesco Serravalle \nAnnamaria Laurenzano
URL:https://www.confindustria.sa.it/event/consiglio-direttivo-gruppo-servizi-innovativi-e-tecnologici-4/
CATEGORIES:Riunioni varie
ATTACH;FMTTYPE=image/png:https://www.confindustria.sa.it/wp-content/uploads/2020/07/LogoConfindustria1.png
END:VEVENT
BEGIN:VEVENT
DTSTART;TZID=Europe/Helsinki:20210419T143000
DTEND;TZID=Europe/Helsinki:20210419T170000
DTSTAMP:20260423T113107
CREATED:20210409T135505Z
LAST-MODIFIED:20210409T135505Z
UID:73086-1618842600-1618851600@www.confindustria.sa.it
SUMMARY:Consiglio Direttivo Gruppo Servizi Innovativi e Tecnologici
DESCRIPTION:Partecipa il Presidente Francesco Serravalle \nAnnamaria Laurenzano
URL:https://www.confindustria.sa.it/event/consiglio-direttivo-gruppo-servizi-innovativi-e-tecnologici-5/
CATEGORIES:Riunioni varie
ATTACH;FMTTYPE=image/png:https://www.confindustria.sa.it/wp-content/uploads/2020/07/LogoConfindustria1.png
END:VEVENT
BEGIN:VEVENT
DTSTART;TZID=Europe/Helsinki:20210419T143000
DTEND;TZID=Europe/Helsinki:20210419T170000
DTSTAMP:20260423T113107
CREATED:20210409T135505Z
LAST-MODIFIED:20210409T135505Z
UID:28589-1618842600-1618851600@www.confindustria.sa.it
SUMMARY:Consiglio Direttivo Gruppo Servizi Innovativi e Tecnologici
DESCRIPTION:Partecipa il Presidente Francesco Serravalle \nAnnamaria Laurenzano
URL:https://www.confindustria.sa.it/event/consiglio-direttivo-gruppo-servizi-innovativi-e-tecnologici/
CATEGORIES:Riunioni varie
ATTACH;FMTTYPE=image/png:https://www.confindustria.sa.it/wp-content/uploads/2020/07/LogoConfindustria1.png
END:VEVENT
BEGIN:VEVENT
DTSTART;TZID=Europe/Helsinki:20210419T150000
DTEND;TZID=Europe/Helsinki:20210419T170000
DTSTAMP:20260423T113107
CREATED:20210409T135203Z
LAST-MODIFIED:20210409T135203Z
UID:72062-1618844400-1618851600@www.confindustria.sa.it
SUMMARY:Consiglio Direttivo allargato Gruppo Servizi Innovativi e Tecnologici
DESCRIPTION:Partecipa il Presidente Francesco Serravalle \nAnnamaria Laurenzano
URL:https://www.confindustria.sa.it/event/consiglio-direttivo-allargato-gruppo-servizi-innovativi-e-tecnologici-2-2/
CATEGORIES:Riunioni varie
ATTACH;FMTTYPE=image/png:https://www.confindustria.sa.it/wp-content/uploads/2020/07/LogoConfindustria1.png
END:VEVENT
BEGIN:VEVENT
DTSTART;TZID=Europe/Helsinki:20210419T150000
DTEND;TZID=Europe/Helsinki:20210419T170000
DTSTAMP:20260423T113107
CREATED:20210409T135203Z
LAST-MODIFIED:20210409T135203Z
UID:73085-1618844400-1618851600@www.confindustria.sa.it
SUMMARY:Consiglio Direttivo allargato Gruppo Servizi Innovativi e Tecnologici
DESCRIPTION:Partecipa il Presidente Francesco Serravalle \nAnnamaria Laurenzano
URL:https://www.confindustria.sa.it/event/consiglio-direttivo-allargato-gruppo-servizi-innovativi-e-tecnologici-2-3/
CATEGORIES:Riunioni varie
ATTACH;FMTTYPE=image/png:https://www.confindustria.sa.it/wp-content/uploads/2020/07/LogoConfindustria1.png
END:VEVENT
BEGIN:VEVENT
DTSTART;TZID=Europe/Helsinki:20210419T150000
DTEND;TZID=Europe/Helsinki:20210419T170000
DTSTAMP:20260423T113107
CREATED:20210409T135203Z
LAST-MODIFIED:20210409T135203Z
UID:28587-1618844400-1618851600@www.confindustria.sa.it
SUMMARY:Consiglio Direttivo allargato Gruppo Servizi Innovativi e Tecnologici
DESCRIPTION:Partecipa il Presidente Francesco Serravalle \nAnnamaria Laurenzano
URL:https://www.confindustria.sa.it/event/consiglio-direttivo-allargato-gruppo-servizi-innovativi-e-tecnologici-2/
CATEGORIES:Riunioni varie
ATTACH;FMTTYPE=image/png:https://www.confindustria.sa.it/wp-content/uploads/2020/07/LogoConfindustria1.png
END:VEVENT
BEGIN:VEVENT
DTSTART;TZID=Europe/Helsinki:20210420T093000
DTEND;TZID=Europe/Helsinki:20210420T093000
DTSTAMP:20260423T113107
CREATED:20210409T134940Z
LAST-MODIFIED:20210409T134940Z
UID:72061-1618911000-1618911000@www.confindustria.sa.it
SUMMARY:2nd MULTISECTORAL CONFERENCE “The impact of gender equality plans on internal and external stakeholders: Lessons in engagement from the R&I PEERS project”
DESCRIPTION:Partecipa la Presidente del Comitato Femminile Plurale\, Alessandra Puglisi \nAnnamaria Laurenzano
URL:https://www.confindustria.sa.it/event/2nd-multisectoral-conference-the-impact-of-gender-equality-plans-on-internal-and-external-stakeholders-lessons-in-engagement-from-the-ri-peers-project-2/
CATEGORIES:Riunioni varie
ATTACH;FMTTYPE=image/png:https://www.confindustria.sa.it/wp-content/uploads/2020/07/LogoConfindustria1.png
END:VEVENT
BEGIN:VEVENT
DTSTART;TZID=Europe/Helsinki:20210420T093000
DTEND;TZID=Europe/Helsinki:20210420T093000
DTSTAMP:20260423T113107
CREATED:20210409T134940Z
LAST-MODIFIED:20210409T134940Z
UID:73084-1618911000-1618911000@www.confindustria.sa.it
SUMMARY:2nd MULTISECTORAL CONFERENCE “The impact of gender equality plans on internal and external stakeholders: Lessons in engagement from the R&I PEERS project”
DESCRIPTION:Partecipa la Presidente del Comitato Femminile Plurale\, Alessandra Puglisi \nAnnamaria Laurenzano
URL:https://www.confindustria.sa.it/event/2nd-multisectoral-conference-the-impact-of-gender-equality-plans-on-internal-and-external-stakeholders-lessons-in-engagement-from-the-ri-peers-project-3/
CATEGORIES:Riunioni varie
ATTACH;FMTTYPE=image/png:https://www.confindustria.sa.it/wp-content/uploads/2020/07/LogoConfindustria1.png
END:VEVENT
BEGIN:VEVENT
DTSTART;TZID=Europe/Helsinki:20210420T093000
DTEND;TZID=Europe/Helsinki:20210420T093000
DTSTAMP:20260423T113107
CREATED:20210409T134940Z
LAST-MODIFIED:20210409T134940Z
UID:28585-1618911000-1618911000@www.confindustria.sa.it
SUMMARY:2nd MULTISECTORAL CONFERENCE “The impact of gender equality plans on internal and external stakeholders: Lessons in engagement from the R&I PEERS project”
DESCRIPTION:Partecipa la Presidente del Comitato Femminile Plurale\, Alessandra Puglisi \nAnnamaria Laurenzano
URL:https://www.confindustria.sa.it/event/2nd-multisectoral-conference-the-impact-of-gender-equality-plans-on-internal-and-external-stakeholders-lessons-in-engagement-from-the-ri-peers-project/
CATEGORIES:Riunioni varie
ATTACH;FMTTYPE=image/png:https://www.confindustria.sa.it/wp-content/uploads/2020/07/LogoConfindustria1.png
END:VEVENT
BEGIN:VEVENT
DTSTART;TZID=Europe/Helsinki:20210423T100000
DTEND;TZID=Europe/Helsinki:20210423T130000
DTSTAMP:20260423T113107
CREATED:20210419T115350Z
LAST-MODIFIED:20210419T115350Z
UID:29072-1619172000-1619182800@www.confindustria.sa.it
SUMMARY:Progetto R&I Peers : “Project meeting: summary\, conclusions and comments of the events”
DESCRIPTION:partecipa la Presidente del Comitato Femminile Plurale Alessandra Puglisi \nAnnamaria Laurenzano
URL:https://www.confindustria.sa.it/event/progetto-ri-peers-project-meeting-summary-conclusions-and-comments-of-the-events/
CATEGORIES:Riunioni varie
ATTACH;FMTTYPE=image/jpeg:https://www.confindustria.sa.it/wp-content/uploads/2021/04/cropped-Icon-RIArtboard-1-copy-4@4x-100-5.jpg
END:VEVENT
BEGIN:VEVENT
DTSTART;TZID=Europe/Helsinki:20210423T100000
DTEND;TZID=Europe/Helsinki:20210423T130000
DTSTAMP:20260423T113107
CREATED:20210419T115350Z
LAST-MODIFIED:20210419T115350Z
UID:72072-1619172000-1619182800@www.confindustria.sa.it
SUMMARY:Progetto R&I Peers : “Project meeting: summary\, conclusions and comments of the events”
DESCRIPTION:partecipa la Presidente del Comitato Femminile Plurale Alessandra Puglisi \nAnnamaria Laurenzano
URL:https://www.confindustria.sa.it/event/progetto-ri-peers-project-meeting-summary-conclusions-and-comments-of-the-events-2/
CATEGORIES:Riunioni varie
ATTACH;FMTTYPE=image/jpeg:https://www.confindustria.sa.it/wp-content/uploads/2021/04/cropped-Icon-RIArtboard-1-copy-4@4x-100-5.jpg
END:VEVENT
BEGIN:VEVENT
DTSTART;TZID=Europe/Helsinki:20210423T100000
DTEND;TZID=Europe/Helsinki:20210423T130000
DTSTAMP:20260423T113107
CREATED:20210419T115350Z
LAST-MODIFIED:20210419T115350Z
UID:73095-1619172000-1619182800@www.confindustria.sa.it
SUMMARY:Progetto R&I Peers : “Project meeting: summary\, conclusions and comments of the events”
DESCRIPTION:partecipa la Presidente del Comitato Femminile Plurale Alessandra Puglisi \nAnnamaria Laurenzano
URL:https://www.confindustria.sa.it/event/progetto-ri-peers-project-meeting-summary-conclusions-and-comments-of-the-events-3/
CATEGORIES:Riunioni varie
ATTACH;FMTTYPE=image/jpeg:https://www.confindustria.sa.it/wp-content/uploads/2021/04/cropped-Icon-RIArtboard-1-copy-4@4x-100-5.jpg
END:VEVENT
BEGIN:VEVENT
DTSTART;TZID=Europe/Helsinki:20210423T103000
DTEND;TZID=Europe/Helsinki:20210423T120000
DTSTAMP:20260423T113107
CREATED:20210415T123305Z
LAST-MODIFIED:20210415T123305Z
UID:72069-1619173800-1619179200@www.confindustria.sa.it
SUMMARY:Consiglio Centrale Giovani Imprenditori
DESCRIPTION:partecipa il presidente (M.Gambardella) \nAnnamaria Laurenzano
URL:https://www.confindustria.sa.it/event/consiglio-centrale-giovani-imprenditori-8/
CATEGORIES:Riunioni varie
ATTACH;FMTTYPE=image/png:https://www.confindustria.sa.it/wp-content/uploads/2020/10/giovani.png
END:VEVENT
BEGIN:VEVENT
DTSTART;TZID=Europe/Helsinki:20210423T103000
DTEND;TZID=Europe/Helsinki:20210423T120000
DTSTAMP:20260423T113107
CREATED:20210415T123305Z
LAST-MODIFIED:20210415T123305Z
UID:73092-1619173800-1619179200@www.confindustria.sa.it
SUMMARY:Consiglio Centrale Giovani Imprenditori
DESCRIPTION:partecipa il presidente (M.Gambardella) \nAnnamaria Laurenzano
URL:https://www.confindustria.sa.it/event/consiglio-centrale-giovani-imprenditori-9/
CATEGORIES:Riunioni varie
ATTACH;FMTTYPE=image/png:https://www.confindustria.sa.it/wp-content/uploads/2020/10/giovani.png
END:VEVENT
BEGIN:VEVENT
DTSTART;TZID=Europe/Helsinki:20210423T103000
DTEND;TZID=Europe/Helsinki:20210423T120000
DTSTAMP:20260423T113107
CREATED:20210415T123305Z
LAST-MODIFIED:20210415T123305Z
UID:28982-1619173800-1619179200@www.confindustria.sa.it
SUMMARY:Consiglio Centrale Giovani Imprenditori
DESCRIPTION:partecipa il presidente (M.Gambardella) \nAnnamaria Laurenzano
URL:https://www.confindustria.sa.it/event/consiglio-centrale-giovani-imprenditori/
CATEGORIES:Riunioni varie
ATTACH;FMTTYPE=image/png:https://www.confindustria.sa.it/wp-content/uploads/2020/10/giovani.png
END:VEVENT
BEGIN:VEVENT
DTSTART;TZID=Europe/Helsinki:20210423T150000
DTEND;TZID=Europe/Helsinki:20210423T170000
DTSTAMP:20260423T113107
CREATED:20210422T123149Z
LAST-MODIFIED:20210422T123149Z
UID:72079-1619190000-1619197200@www.confindustria.sa.it
SUMMARY:Consiglio Direttivo del RAGGRUPPAMENTO DI INTERESSE TERRITORIALE DELLE AZIENDE DEL VALLO DI DIANO
DESCRIPTION:partecipa il coordinatore A.Curcio \nsu piattaforma Zoom \nAnnamaria Laurenzano
URL:https://www.confindustria.sa.it/event/consiglio-direttivo-del-raggruppamento-di-interesse-territoriale-delle-aziende-del-vallo-di-diano-3-2/
CATEGORIES:Riunioni varie
ATTACH;FMTTYPE=image/png:https://www.confindustria.sa.it/wp-content/uploads/2020/07/LogoConfindustria1.png
END:VEVENT
BEGIN:VEVENT
DTSTART;TZID=Europe/Helsinki:20210423T150000
DTEND;TZID=Europe/Helsinki:20210423T170000
DTSTAMP:20260423T113107
CREATED:20210422T123149Z
LAST-MODIFIED:20210422T123149Z
UID:73102-1619190000-1619197200@www.confindustria.sa.it
SUMMARY:Consiglio Direttivo del RAGGRUPPAMENTO DI INTERESSE TERRITORIALE DELLE AZIENDE DEL VALLO DI DIANO
DESCRIPTION:partecipa il coordinatore A.Curcio \nsu piattaforma Zoom \nAnnamaria Laurenzano
URL:https://www.confindustria.sa.it/event/consiglio-direttivo-del-raggruppamento-di-interesse-territoriale-delle-aziende-del-vallo-di-diano-3-3/
CATEGORIES:Riunioni varie
ATTACH;FMTTYPE=image/png:https://www.confindustria.sa.it/wp-content/uploads/2020/07/LogoConfindustria1.png
END:VEVENT
BEGIN:VEVENT
DTSTART;TZID=Europe/Helsinki:20210423T150000
DTEND;TZID=Europe/Helsinki:20210423T170000
DTSTAMP:20260423T113107
CREATED:20210422T123149Z
LAST-MODIFIED:20210422T123149Z
UID:29392-1619190000-1619197200@www.confindustria.sa.it
SUMMARY:Consiglio Direttivo del RAGGRUPPAMENTO DI INTERESSE TERRITORIALE DELLE AZIENDE DEL VALLO DI DIANO
DESCRIPTION:partecipa il coordinatore A.Curcio \nsu piattaforma Zoom \nAnnamaria Laurenzano
URL:https://www.confindustria.sa.it/event/consiglio-direttivo-del-raggruppamento-di-interesse-territoriale-delle-aziende-del-vallo-di-diano-3/
CATEGORIES:Riunioni varie
ATTACH;FMTTYPE=image/png:https://www.confindustria.sa.it/wp-content/uploads/2020/07/LogoConfindustria1.png
END:VEVENT
BEGIN:VEVENT
DTSTART;TZID=Europe/Helsinki:20210423T180000
DTEND;TZID=Europe/Helsinki:20210423T193000
DTSTAMP:20260423T113107
CREATED:20210330T142929Z
LAST-MODIFIED:20210421T094641Z
UID:28151-1619200800-1619206200@www.confindustria.sa.it
SUMMARY:Assemblea dei soci della BCC CAMPANIA CENTRO e talk online “Protagonisti della Cooperazione”
DESCRIPTION:organizzato da Banca Campania Centro \nPartecipa il Presidente Antonio Ferraioli \nAnnamaria Laurenzano
URL:https://www.confindustria.sa.it/event/assemblea-dei-soci-della-bcc-campania-centro-e-talk-online-protagonisti-della-cooperazione/
LOCATION:Battipaglia – sede BCC Campania Centro\, P.zza De Curtis 1-2
CATEGORIES:Riunioni varie
ATTACH;FMTTYPE=image/png:https://www.confindustria.sa.it/wp-content/uploads/2021/03/logo-3-righe.png
END:VEVENT
BEGIN:VEVENT
DTSTART;TZID=Europe/Helsinki:20210423T180000
DTEND;TZID=Europe/Helsinki:20210423T193000
DTSTAMP:20260423T113107
CREATED:20210330T142929Z
LAST-MODIFIED:20210330T142929Z
UID:72047-1619200800-1619206200@www.confindustria.sa.it
SUMMARY:Assemblea dei soci della BCC CAMPANIA CENTRO e talk online “Protagonisti della Cooperazione”
DESCRIPTION:organizzato da Banca Campania Centro \nPartecipa il Presidente Antonio Ferraioli \nAnnamaria Laurenzano
URL:https://www.confindustria.sa.it/event/assemblea-dei-soci-della-bcc-campania-centro-e-talk-online-protagonisti-della-cooperazione-2/
LOCATION:Battipaglia – sede BCC Campania Centro\, P.zza De Curtis 1-2
CATEGORIES:Riunioni varie
ATTACH;FMTTYPE=image/png:https://www.confindustria.sa.it/wp-content/uploads/2021/03/logo-3-righe.png
END:VEVENT
BEGIN:VEVENT
DTSTART;TZID=Europe/Helsinki:20210423T180000
DTEND;TZID=Europe/Helsinki:20210423T193000
DTSTAMP:20260423T113107
CREATED:20210330T142929Z
LAST-MODIFIED:20210330T142929Z
UID:73070-1619200800-1619206200@www.confindustria.sa.it
SUMMARY:Assemblea dei soci della BCC CAMPANIA CENTRO e talk online “Protagonisti della Cooperazione”
DESCRIPTION:organizzato da Banca Campania Centro \nPartecipa il Presidente Antonio Ferraioli \nAnnamaria Laurenzano
URL:https://www.confindustria.sa.it/event/assemblea-dei-soci-della-bcc-campania-centro-e-talk-online-protagonisti-della-cooperazione-3/
LOCATION:Battipaglia – sede BCC Campania Centro\, P.zza De Curtis 1-2
CATEGORIES:Riunioni varie
ATTACH;FMTTYPE=image/png:https://www.confindustria.sa.it/wp-content/uploads/2021/03/logo-3-righe.png
END:VEVENT
BEGIN:VEVENT
DTSTART;TZID=Europe/Helsinki:20210426T103000
DTEND;TZID=Europe/Helsinki:20210426T123000
DTSTAMP:20260423T113107
CREATED:20210426T145626Z
LAST-MODIFIED:20210426T145626Z
UID:72081-1619433000-1619440200@www.confindustria.sa.it
SUMMARY:Export Flying Desk ICE
DESCRIPTION:partecipa il vicepresidente delegato all\’Internazionalizzazione (S. Rinaldi ) \nAnnamaria Laurenzano
URL:https://www.confindustria.sa.it/event/export-flying-desk-ice-4/
CATEGORIES:Riunioni varie
END:VEVENT
BEGIN:VEVENT
DTSTART;TZID=Europe/Helsinki:20210426T103000
DTEND;TZID=Europe/Helsinki:20210426T123000
DTSTAMP:20260423T113107
CREATED:20210426T145626Z
LAST-MODIFIED:20210426T145626Z
UID:73104-1619433000-1619440200@www.confindustria.sa.it
SUMMARY:Export Flying Desk ICE
DESCRIPTION:partecipa il vicepresidente delegato all\’Internazionalizzazione (S. Rinaldi ) \nAnnamaria Laurenzano
URL:https://www.confindustria.sa.it/event/export-flying-desk-ice-5/
CATEGORIES:Riunioni varie
END:VEVENT
BEGIN:VEVENT
DTSTART;TZID=Europe/Helsinki:20210426T103000
DTEND;TZID=Europe/Helsinki:20210426T123000
DTSTAMP:20260423T113107
CREATED:20210426T145626Z
LAST-MODIFIED:20210426T145626Z
UID:29565-1619433000-1619440200@www.confindustria.sa.it
SUMMARY:Export Flying Desk ICE
DESCRIPTION:partecipa il vicepresidente delegato all’Internazionalizzazione (S. Rinaldi ) \nAnnamaria Laurenzano
URL:https://www.confindustria.sa.it/event/export-flying-desk-ice/
CATEGORIES:Riunioni varie
END:VEVENT
BEGIN:VEVENT
DTSTART;TZID=Europe/Helsinki:20210426T163000
DTEND;TZID=Europe/Helsinki:20210426T180000
DTSTAMP:20260423T113107
CREATED:20210420T101202Z
LAST-MODIFIED:20210420T101202Z
UID:72075-1619454600-1619460000@www.confindustria.sa.it
SUMMARY:Consiglio di Presidenza Confindustria Campania
DESCRIPTION:Partecipa il Presidente Antonio Ferraioli \nAnnamaria Laurenzano
URL:https://www.confindustria.sa.it/event/consiglio-di-presidenza-confindustria-campania-2-2/
LOCATION:Napoli – Unione Industriali
CATEGORIES:Riunioni varie
ATTACH;FMTTYPE=image/png:https://www.confindustria.sa.it/wp-content/uploads/2021/01/logo-confindustria-campania.png
END:VEVENT
END:VCALENDAR