BEGIN:VCALENDAR
VERSION:2.0
PRODID:-//Confindustria Salerno - ECPv6.6.3//NONSGML v1.0//EN
CALSCALE:GREGORIAN
METHOD:PUBLISH
X-WR-CALNAME:Confindustria Salerno
X-ORIGINAL-URL:https://www.confindustria.sa.it
X-WR-CALDESC:Eventi per Confindustria Salerno
REFRESH-INTERVAL;VALUE=DURATION:PT1H
X-Robots-Tag:noindex
X-PUBLISHED-TTL:PT1H
BEGIN:VTIMEZONE
TZID:Europe/Helsinki
BEGIN:DAYLIGHT
TZOFFSETFROM:+0200
TZOFFSETTO:+0300
TZNAME:EEST
DTSTART:20210328T010000
END:DAYLIGHT
BEGIN:STANDARD
TZOFFSETFROM:+0300
TZOFFSETTO:+0200
TZNAME:EET
DTSTART:20211031T010000
END:STANDARD
END:VTIMEZONE
BEGIN:VEVENT
DTSTART;TZID=Europe/Helsinki:20210920T150000
DTEND;TZID=Europe/Helsinki:20210920T170000
DTSTAMP:20260423T093151
CREATED:20210917T153533Z
LAST-MODIFIED:20210917T153533Z
UID:72161-1632150000-1632157200@www.confindustria.sa.it
SUMMARY:Incontro con il Ministro Giorgetti promosso dalla Fondazione Mezzogiorno Tirrenico
DESCRIPTION:partecipa il Presidente A. Ferraioli \nAnnamaria Laurenzano
URL:https://www.confindustria.sa.it/event/incontro-con-il-ministro-giorgetti-promosso-dalla-fondazione-mezzogiorno-tirrenico-2/
LOCATION:Napoli – sede Unione Industriali
CATEGORIES:eventi-confindustria,Riunioni varie
ATTACH;FMTTYPE=image/jpeg:https://www.confindustria.sa.it/wp-content/uploads/2020/03/1confindustria_images_annafabi_thumb_medium256_192.jpg
END:VEVENT
BEGIN:VEVENT
DTSTART;TZID=Europe/Helsinki:20210920T150000
DTEND;TZID=Europe/Helsinki:20210920T170000
DTSTAMP:20260423T093151
CREATED:20210917T153533Z
LAST-MODIFIED:20210917T153533Z
UID:73184-1632150000-1632157200@www.confindustria.sa.it
SUMMARY:Incontro con il Ministro Giorgetti promosso dalla Fondazione Mezzogiorno Tirrenico
DESCRIPTION:partecipa il Presidente A. Ferraioli \nAnnamaria Laurenzano
URL:https://www.confindustria.sa.it/event/incontro-con-il-ministro-giorgetti-promosso-dalla-fondazione-mezzogiorno-tirrenico-3/
LOCATION:Napoli – sede Unione Industriali
CATEGORIES:eventi-confindustria,Riunioni varie
ATTACH;FMTTYPE=image/jpeg:https://www.confindustria.sa.it/wp-content/uploads/2020/03/1confindustria_images_annafabi_thumb_medium256_192.jpg
END:VEVENT
BEGIN:VEVENT
DTSTART;TZID=Europe/Helsinki:20210923T173000
DTEND;TZID=Europe/Helsinki:20210923T190000
DTSTAMP:20260423T093151
CREATED:20210914T115826Z
LAST-MODIFIED:20210917T115741Z
UID:36639-1632418200-1632423600@www.confindustria.sa.it
SUMMARY:Consiglio Direttivo Comitato Piccola Industria Confindustria Salerno
DESCRIPTION:Partecipa il Presidente Lina Piccolo \nAnnamaria Laurenzano
URL:https://www.confindustria.sa.it/event/consiglio-direttivo-comitato-piccola-industria-confindustria-salerno-5/
LOCATION:Confindustria Salerno
CATEGORIES:Riunioni varie
ATTACH;FMTTYPE=image/jpeg:https://www.confindustria.sa.it/wp-content/uploads/2020/07/piccola.jpg
END:VEVENT
BEGIN:VEVENT
DTSTART;TZID=Europe/Helsinki:20210923T173000
DTEND;TZID=Europe/Helsinki:20210923T190000
DTSTAMP:20260423T093151
CREATED:20210914T115826Z
LAST-MODIFIED:20210914T115826Z
UID:72159-1632418200-1632423600@www.confindustria.sa.it
SUMMARY:Consiglio Direttivo Comitato Piccola Industria Confindustria Salerno
DESCRIPTION:Partecipa il Presidente Lina Piccolo \nAnnamaria Laurenzano
URL:https://www.confindustria.sa.it/event/consiglio-direttivo-comitato-piccola-industria-confindustria-salerno-5-2/
LOCATION:Confindustria Salerno
CATEGORIES:Riunioni varie
ATTACH;FMTTYPE=image/jpeg:https://www.confindustria.sa.it/wp-content/uploads/2020/07/piccola.jpg
END:VEVENT
BEGIN:VEVENT
DTSTART;TZID=Europe/Helsinki:20210923T173000
DTEND;TZID=Europe/Helsinki:20210923T190000
DTSTAMP:20260423T093151
CREATED:20210914T115826Z
LAST-MODIFIED:20210914T115826Z
UID:73182-1632418200-1632423600@www.confindustria.sa.it
SUMMARY:Consiglio Direttivo Comitato Piccola Industria Confindustria Salerno
DESCRIPTION:Partecipa il Presidente Lina Piccolo \nAnnamaria Laurenzano
URL:https://www.confindustria.sa.it/event/consiglio-direttivo-comitato-piccola-industria-confindustria-salerno-5-3/
LOCATION:Confindustria Salerno
CATEGORIES:Riunioni varie
ATTACH;FMTTYPE=image/jpeg:https://www.confindustria.sa.it/wp-content/uploads/2020/07/piccola.jpg
END:VEVENT
BEGIN:VEVENT
DTSTART;TZID=Europe/Helsinki:20210924T150000
DTEND;TZID=Europe/Helsinki:20210924T160000
DTSTAMP:20260423T093151
CREATED:20210903T152337Z
LAST-MODIFIED:20210903T152337Z
UID:73179-1632495600-1632499200@www.confindustria.sa.it
SUMMARY:Consiglio di Presidenza
DESCRIPTION:partecipa il presidente A. Ferraioli \nAnnamaria Laurenzano
URL:https://www.confindustria.sa.it/event/consiglio-di-presidenza-8-3/
LOCATION:Confindustria Salerno
CATEGORIES:Riunioni varie
ATTACH;FMTTYPE=image/jpeg:https://www.confindustria.sa.it/wp-content/uploads/2020/05/logo-quadrato-conf.jpg
END:VEVENT
BEGIN:VEVENT
DTSTART;TZID=Europe/Helsinki:20210924T150000
DTEND;TZID=Europe/Helsinki:20210924T160000
DTSTAMP:20260423T093151
CREATED:20210903T152337Z
LAST-MODIFIED:20210903T152337Z
UID:36186-1632495600-1632499200@www.confindustria.sa.it
SUMMARY:Consiglio di Presidenza
DESCRIPTION:partecipa il presidente A. Ferraioli \nAnnamaria Laurenzano
URL:https://www.confindustria.sa.it/event/consiglio-di-presidenza-8/
LOCATION:Confindustria Salerno
CATEGORIES:Riunioni varie
ATTACH;FMTTYPE=image/jpeg:https://www.confindustria.sa.it/wp-content/uploads/2020/05/logo-quadrato-conf.jpg
END:VEVENT
BEGIN:VEVENT
DTSTART;TZID=Europe/Helsinki:20210924T150000
DTEND;TZID=Europe/Helsinki:20210924T160000
DTSTAMP:20260423T093151
CREATED:20210903T152337Z
LAST-MODIFIED:20210903T152337Z
UID:72156-1632495600-1632499200@www.confindustria.sa.it
SUMMARY:Consiglio di Presidenza
DESCRIPTION:partecipa il presidente A. Ferraioli \nAnnamaria Laurenzano
URL:https://www.confindustria.sa.it/event/consiglio-di-presidenza-8-2/
LOCATION:Confindustria Salerno
CATEGORIES:Riunioni varie
ATTACH;FMTTYPE=image/jpeg:https://www.confindustria.sa.it/wp-content/uploads/2020/05/logo-quadrato-conf.jpg
END:VEVENT
BEGIN:VEVENT
DTSTART;TZID=Europe/Helsinki:20210924T163000
DTEND;TZID=Europe/Helsinki:20210924T183000
DTSTAMP:20260423T093151
CREATED:20210331T103331Z
LAST-MODIFIED:20210331T103331Z
UID:28163-1632501000-1632508200@www.confindustria.sa.it
SUMMARY:Consiglio Generale
DESCRIPTION:Annamaria Laurenzano
URL:https://www.confindustria.sa.it/event/consiglio-generale-6/
CATEGORIES:Riunioni varie
ATTACH;FMTTYPE=image/jpeg:https://www.confindustria.sa.it/wp-content/uploads/2020/07/logo-confsa.jpg
END:VEVENT
BEGIN:VEVENT
DTSTART;TZID=Europe/Helsinki:20210924T163000
DTEND;TZID=Europe/Helsinki:20210924T183000
DTSTAMP:20260423T093151
CREATED:20210331T103331Z
LAST-MODIFIED:20210331T103331Z
UID:72049-1632501000-1632508200@www.confindustria.sa.it
SUMMARY:Consiglio Generale
DESCRIPTION:Annamaria Laurenzano
URL:https://www.confindustria.sa.it/event/consiglio-generale-6-2/
CATEGORIES:Riunioni varie
ATTACH;FMTTYPE=image/jpeg:https://www.confindustria.sa.it/wp-content/uploads/2020/07/logo-confsa.jpg
END:VEVENT
BEGIN:VEVENT
DTSTART;TZID=Europe/Helsinki:20210924T163000
DTEND;TZID=Europe/Helsinki:20210924T183000
DTSTAMP:20260423T093151
CREATED:20210331T103331Z
LAST-MODIFIED:20210331T103331Z
UID:73072-1632501000-1632508200@www.confindustria.sa.it
SUMMARY:Consiglio Generale
DESCRIPTION:Annamaria Laurenzano
URL:https://www.confindustria.sa.it/event/consiglio-generale-6-3/
CATEGORIES:Riunioni varie
ATTACH;FMTTYPE=image/jpeg:https://www.confindustria.sa.it/wp-content/uploads/2020/07/logo-confsa.jpg
END:VEVENT
BEGIN:VEVENT
DTSTART;TZID=Europe/Helsinki:20210928T113000
DTEND;TZID=Europe/Helsinki:20210928T170000
DTSTAMP:20260423T093151
CREATED:20210927T122106Z
LAST-MODIFIED:20210927T122106Z
UID:37352-1632828600-1632848400@www.confindustria.sa.it
SUMMARY:Consiglio Direttivo Piccola Industria Confindustria Campania
DESCRIPTION:partecipa il presidente (L. Piccolo) \nAnnamaria Laurenzano
URL:https://www.confindustria.sa.it/event/consiglio-direttivo-piccola-industria-confindustria-campania-2/
LOCATION:Napoli – Unione Industriali
CATEGORIES:Riunioni varie
ATTACH;FMTTYPE=image/jpeg:https://www.confindustria.sa.it/wp-content/uploads/2020/07/piccola-1.jpg
END:VEVENT
BEGIN:VEVENT
DTSTART;TZID=Europe/Helsinki:20210928T113000
DTEND;TZID=Europe/Helsinki:20210928T170000
DTSTAMP:20260423T093151
CREATED:20210927T122106Z
LAST-MODIFIED:20210927T122106Z
UID:72163-1632828600-1632848400@www.confindustria.sa.it
SUMMARY:Consiglio Direttivo Piccola Industria Confindustria Campania
DESCRIPTION:partecipa il presidente (L. Piccolo) \nAnnamaria Laurenzano
URL:https://www.confindustria.sa.it/event/consiglio-direttivo-piccola-industria-confindustria-campania-2-2/
LOCATION:Napoli – Unione Industriali
CATEGORIES:Riunioni varie
ATTACH;FMTTYPE=image/jpeg:https://www.confindustria.sa.it/wp-content/uploads/2020/07/piccola-1.jpg
END:VEVENT
BEGIN:VEVENT
DTSTART;TZID=Europe/Helsinki:20210928T113000
DTEND;TZID=Europe/Helsinki:20210928T170000
DTSTAMP:20260423T093151
CREATED:20210927T122106Z
LAST-MODIFIED:20210927T122106Z
UID:73186-1632828600-1632848400@www.confindustria.sa.it
SUMMARY:Consiglio Direttivo Piccola Industria Confindustria Campania
DESCRIPTION:partecipa il presidente (L. Piccolo) \nAnnamaria Laurenzano
URL:https://www.confindustria.sa.it/event/consiglio-direttivo-piccola-industria-confindustria-campania-2-3/
LOCATION:Napoli – Unione Industriali
CATEGORIES:Riunioni varie
ATTACH;FMTTYPE=image/jpeg:https://www.confindustria.sa.it/wp-content/uploads/2020/07/piccola-1.jpg
END:VEVENT
BEGIN:VEVENT
DTSTART;TZID=Europe/Helsinki:20211004T150000
DTEND;TZID=Europe/Helsinki:20211004T170000
DTSTAMP:20260423T093151
CREATED:20210927T122311Z
LAST-MODIFIED:20210927T122311Z
UID:37355-1633359600-1633366800@www.confindustria.sa.it
SUMMARY:Consiglio di Presidenza Confindustria Campania
DESCRIPTION:Annamaria Laurenzano
URL:https://www.confindustria.sa.it/event/consiglio-di-presidenza-confindustria-campania-3/
LOCATION:Napoli – Confidustria Campania
CATEGORIES:Riunioni varie
ATTACH;FMTTYPE=image/jpeg:https://www.confindustria.sa.it/wp-content/uploads/2019/12/1confindustria_images_annafabi_thumb_medium256_192.jpg
END:VEVENT
BEGIN:VEVENT
DTSTART;TZID=Europe/Helsinki:20211004T150000
DTEND;TZID=Europe/Helsinki:20211004T170000
DTSTAMP:20260423T093151
CREATED:20210927T122311Z
LAST-MODIFIED:20210927T122311Z
UID:72164-1633359600-1633366800@www.confindustria.sa.it
SUMMARY:Consiglio di Presidenza Confindustria Campania
DESCRIPTION:Annamaria Laurenzano
URL:https://www.confindustria.sa.it/event/consiglio-di-presidenza-confindustria-campania-3-2/
LOCATION:Napoli – Confidustria Campania
CATEGORIES:Riunioni varie
ATTACH;FMTTYPE=image/jpeg:https://www.confindustria.sa.it/wp-content/uploads/2019/12/1confindustria_images_annafabi_thumb_medium256_192.jpg
END:VEVENT
BEGIN:VEVENT
DTSTART;TZID=Europe/Helsinki:20211004T150000
DTEND;TZID=Europe/Helsinki:20211004T170000
DTSTAMP:20260423T093151
CREATED:20210927T122311Z
LAST-MODIFIED:20210927T122311Z
UID:73187-1633359600-1633366800@www.confindustria.sa.it
SUMMARY:Consiglio di Presidenza Confindustria Campania
DESCRIPTION:Annamaria Laurenzano
URL:https://www.confindustria.sa.it/event/consiglio-di-presidenza-confindustria-campania-3-3/
LOCATION:Napoli – Confidustria Campania
CATEGORIES:Riunioni varie
ATTACH;FMTTYPE=image/jpeg:https://www.confindustria.sa.it/wp-content/uploads/2019/12/1confindustria_images_annafabi_thumb_medium256_192.jpg
END:VEVENT
BEGIN:VEVENT
DTSTART;TZID=Europe/Helsinki:20211013T110000
DTEND;TZID=Europe/Helsinki:20211013T133000
DTSTAMP:20260423T093151
CREATED:20211007T111128Z
LAST-MODIFIED:20211007T111128Z
UID:38058-1634122800-1634131800@www.confindustria.sa.it
SUMMARY:Cerimonia di Saluto del Ministro dell'Economia del Messico\, Dott.ssa Tatiana Clouthier in occasione della visita ministeriale compiuta in Italia nell’ambito del G20
DESCRIPTION:partecipa il vicepresidente con delega all’internazionalizzazione S.Rinaldi \nAnnamaria Laurenzano
URL:https://www.confindustria.sa.it/event/cerimonia-di-saluto-del-ministro-delleconomia-del-messico-dott-ssa-tatiana-clouthier-in-occasione-della-visita-ministeriale-compiuta-in-italia-nellambito-del-g20/
CATEGORIES:Riunioni varie
END:VEVENT
BEGIN:VEVENT
DTSTART;TZID=Europe/Helsinki:20211013T110000
DTEND;TZID=Europe/Helsinki:20211013T133000
DTSTAMP:20260423T093151
CREATED:20211007T111128Z
LAST-MODIFIED:20211007T111128Z
UID:72169-1634122800-1634131800@www.confindustria.sa.it
SUMMARY:Cerimonia di Saluto del Ministro dell\'Economia del Messico\, Dott.ssa Tatiana Clouthier in occasione della visita ministeriale compiuta in Italia nell’ambito del G20
DESCRIPTION:partecipa il vicepresidente con delega all\’internazionalizzazione S.Rinaldi \nAnnamaria Laurenzano
URL:https://www.confindustria.sa.it/event/cerimonia-di-saluto-del-ministro-delleconomia-del-messico-dott-ssa-tatiana-clouthier-in-occasione-della-visita-ministeriale-compiuta-in-italia-nellambito-del-g20-2/
CATEGORIES:Riunioni varie
END:VEVENT
BEGIN:VEVENT
DTSTART;TZID=Europe/Helsinki:20211013T110000
DTEND;TZID=Europe/Helsinki:20211013T133000
DTSTAMP:20260423T093151
CREATED:20211007T111128Z
LAST-MODIFIED:20211007T111128Z
UID:73192-1634122800-1634131800@www.confindustria.sa.it
SUMMARY:Cerimonia di Saluto del Ministro dell\'Economia del Messico\, Dott.ssa Tatiana Clouthier in occasione della visita ministeriale compiuta in Italia nell’ambito del G20
DESCRIPTION:partecipa il vicepresidente con delega all\’internazionalizzazione S.Rinaldi \nAnnamaria Laurenzano
URL:https://www.confindustria.sa.it/event/cerimonia-di-saluto-del-ministro-delleconomia-del-messico-dott-ssa-tatiana-clouthier-in-occasione-della-visita-ministeriale-compiuta-in-italia-nellambito-del-g20-3/
CATEGORIES:Riunioni varie
END:VEVENT
BEGIN:VEVENT
DTSTART;TZID=Europe/Helsinki:20211014T153000
DTEND;TZID=Europe/Helsinki:20211014T170000
DTSTAMP:20260423T093151
CREATED:20211007T160134Z
LAST-MODIFIED:20211007T160134Z
UID:73194-1634225400-1634230800@www.confindustria.sa.it
SUMMARY:Consiglio Direttivo del Gruppo Metalmeccanico “allargato” alla partecipazione dei rappresentanti di tutte le Aziende del Gruppo
DESCRIPTION:Partecipa il Presidente del Gruppo Metalmeccanico\, Pasquale Gaito \nAnnamaria Laurenzano
URL:https://www.confindustria.sa.it/event/consiglio-direttivo-del-gruppo-metalmeccanico-allargato-alla-partecipazione-dei-rappresentanti-di-tutte-le-aziende-del-gruppo-3/
LOCATION:sede
CATEGORIES:Riunioni varie
ATTACH;FMTTYPE=image/png:https://www.confindustria.sa.it/wp-content/uploads/2020/07/LogoConfindustria1.png
END:VEVENT
BEGIN:VEVENT
DTSTART;TZID=Europe/Helsinki:20211014T153000
DTEND;TZID=Europe/Helsinki:20211014T170000
DTSTAMP:20260423T093151
CREATED:20211007T160134Z
LAST-MODIFIED:20211007T160134Z
UID:38118-1634225400-1634230800@www.confindustria.sa.it
SUMMARY:Consiglio Direttivo del Gruppo Metalmeccanico “allargato” alla partecipazione dei rappresentanti di tutte le Aziende del Gruppo
DESCRIPTION:Partecipa il Presidente del Gruppo Metalmeccanico\, Pasquale Gaito \nAnnamaria Laurenzano
URL:https://www.confindustria.sa.it/event/consiglio-direttivo-del-gruppo-metalmeccanico-allargato-alla-partecipazione-dei-rappresentanti-di-tutte-le-aziende-del-gruppo/
LOCATION:sede
CATEGORIES:Riunioni varie
ATTACH;FMTTYPE=image/png:https://www.confindustria.sa.it/wp-content/uploads/2020/07/LogoConfindustria1.png
END:VEVENT
BEGIN:VEVENT
DTSTART;TZID=Europe/Helsinki:20211014T153000
DTEND;TZID=Europe/Helsinki:20211014T170000
DTSTAMP:20260423T093151
CREATED:20211007T160134Z
LAST-MODIFIED:20211007T160134Z
UID:72171-1634225400-1634230800@www.confindustria.sa.it
SUMMARY:Consiglio Direttivo del Gruppo Metalmeccanico “allargato” alla partecipazione dei rappresentanti di tutte le Aziende del Gruppo
DESCRIPTION:Partecipa il Presidente del Gruppo Metalmeccanico\, Pasquale Gaito \nAnnamaria Laurenzano
URL:https://www.confindustria.sa.it/event/consiglio-direttivo-del-gruppo-metalmeccanico-allargato-alla-partecipazione-dei-rappresentanti-di-tutte-le-aziende-del-gruppo-2/
LOCATION:sede
CATEGORIES:Riunioni varie
ATTACH;FMTTYPE=image/png:https://www.confindustria.sa.it/wp-content/uploads/2020/07/LogoConfindustria1.png
END:VEVENT
BEGIN:VEVENT
DTSTART;TZID=Europe/Helsinki:20211019T113000
DTEND;TZID=Europe/Helsinki:20211019T133000
DTSTAMP:20260423T093151
CREATED:20211014T104745Z
LAST-MODIFIED:20211014T113517Z
UID:38516-1634643000-1634650200@www.confindustria.sa.it
SUMMARY:Consiglio di Presidenza di Confindustria Campania
DESCRIPTION:Partecipa il Presidente Antonio Ferraioli \n  \n  \nAnnamaria Laurenzano
URL:https://www.confindustria.sa.it/event/consiglio-di-presidenza-di-confindustria-campania-3/
LOCATION:Napoli – Unione Industriali\, Sala Cenzato
CATEGORIES:Riunioni varie
ATTACH;FMTTYPE=image/png:https://www.confindustria.sa.it/wp-content/uploads/2021/01/logo-confindustria-campania.png
END:VEVENT
BEGIN:VEVENT
DTSTART;TZID=Europe/Helsinki:20211019T113000
DTEND;TZID=Europe/Helsinki:20211019T133000
DTSTAMP:20260423T093151
CREATED:20211014T104745Z
LAST-MODIFIED:20211014T104745Z
UID:72179-1634643000-1634650200@www.confindustria.sa.it
SUMMARY:Consiglio di Presidenza di Confindustria Campania
DESCRIPTION:Partecipa il Presidente Antonio Ferraioli \n  \n  \nAnnamaria Laurenzano
URL:https://www.confindustria.sa.it/event/consiglio-di-presidenza-di-confindustria-campania-3-2/
LOCATION:Napoli – Unione Industriali\, Sala Cenzato
CATEGORIES:Riunioni varie
ATTACH;FMTTYPE=image/png:https://www.confindustria.sa.it/wp-content/uploads/2021/01/logo-confindustria-campania.png
END:VEVENT
BEGIN:VEVENT
DTSTART;TZID=Europe/Helsinki:20211019T113000
DTEND;TZID=Europe/Helsinki:20211019T133000
DTSTAMP:20260423T093151
CREATED:20211014T104745Z
LAST-MODIFIED:20211014T104745Z
UID:73202-1634643000-1634650200@www.confindustria.sa.it
SUMMARY:Consiglio di Presidenza di Confindustria Campania
DESCRIPTION:Partecipa il Presidente Antonio Ferraioli \n  \n  \nAnnamaria Laurenzano
URL:https://www.confindustria.sa.it/event/consiglio-di-presidenza-di-confindustria-campania-3-3/
LOCATION:Napoli – Unione Industriali\, Sala Cenzato
CATEGORIES:Riunioni varie
ATTACH;FMTTYPE=image/png:https://www.confindustria.sa.it/wp-content/uploads/2021/01/logo-confindustria-campania.png
END:VEVENT
BEGIN:VEVENT
DTSTART;TZID=Europe/Helsinki:20211019T150000
DTEND;TZID=Europe/Helsinki:20211019T170000
DTSTAMP:20260423T093151
CREATED:20211011T104053Z
LAST-MODIFIED:20211011T104053Z
UID:73197-1634655600-1634662800@www.confindustria.sa.it
SUMMARY:convegno “Conoscere per proteggersi”\, organizzato dal Consiglio Notarile di Salerno e  Banca d’Italia per promuovere l’alfabetizzazione giuridico-finanziaria delle donne.
DESCRIPTION:Partecipa la Presidente del Comitato Femminile Plurale di Confindustria Salerno\, Alessandra Puglisi \n \nAnnamaria Laurenzano
URL:https://www.confindustria.sa.it/event/convegno-conoscere-per-proteggersi-organizzato-dal-consiglio-notarile-di-salerno-e-banca-ditalia-per-promuovere-lalfabetizzazione-giuridico-finanziaria-delle-3/
LOCATION:Salerno – Comune\,  Salone dei Marmi
CATEGORIES:Riunioni varie
END:VEVENT
BEGIN:VEVENT
DTSTART;TZID=Europe/Helsinki:20211019T150000
DTEND;TZID=Europe/Helsinki:20211019T170000
DTSTAMP:20260423T093151
CREATED:20211011T104053Z
LAST-MODIFIED:20211011T104053Z
UID:38187-1634655600-1634662800@www.confindustria.sa.it
SUMMARY:convegno “Conoscere per proteggersi”\, organizzato dal Consiglio Notarile di Salerno e  Banca d’Italia per promuovere l’alfabetizzazione giuridico-finanziaria delle donne.
DESCRIPTION:Partecipa la Presidente del Comitato Femminile Plurale di Confindustria Salerno\, Alessandra Puglisi \n \nAnnamaria Laurenzano
URL:https://www.confindustria.sa.it/event/convegno-conoscere-per-proteggersi-organizzato-dal-consiglio-notarile-di-salerno-e-banca-ditalia-per-promuovere-lalfabetizzazione-giuridico-finanziaria-delle/
LOCATION:Salerno – Comune\,  Salone dei Marmi
CATEGORIES:Riunioni varie
END:VEVENT
BEGIN:VEVENT
DTSTART;TZID=Europe/Helsinki:20211019T150000
DTEND;TZID=Europe/Helsinki:20211019T170000
DTSTAMP:20260423T093151
CREATED:20211011T104053Z
LAST-MODIFIED:20211011T104053Z
UID:72174-1634655600-1634662800@www.confindustria.sa.it
SUMMARY:convegno “Conoscere per proteggersi”\, organizzato dal Consiglio Notarile di Salerno e  Banca d’Italia per promuovere l’alfabetizzazione giuridico-finanziaria delle donne.
DESCRIPTION:Partecipa la Presidente del Comitato Femminile Plurale di Confindustria Salerno\, Alessandra Puglisi \n \nAnnamaria Laurenzano
URL:https://www.confindustria.sa.it/event/convegno-conoscere-per-proteggersi-organizzato-dal-consiglio-notarile-di-salerno-e-banca-ditalia-per-promuovere-lalfabetizzazione-giuridico-finanziaria-delle-2/
LOCATION:Salerno – Comune\,  Salone dei Marmi
CATEGORIES:Riunioni varie
END:VEVENT
BEGIN:VEVENT
DTSTART;TZID=Europe/Helsinki:20211020T163000
DTEND;TZID=Europe/Helsinki:20211020T193000
DTSTAMP:20260423T093151
CREATED:20211013T112539Z
LAST-MODIFIED:20211014T104502Z
UID:38396-1634747400-1634758200@www.confindustria.sa.it
SUMMARY:Convegno organizzato dall’ODCEC di Nocera Inferiore:  “Nuove regole per i finanziamenti Simest: digitale e transizione verde in prima fila. Le nuove opportunità per Professionisti ed Imprese”
DESCRIPTION:Partecipa il Vicepresidente Pierluigi Pastore \n \nAnnamaria Laurenzano
URL:https://www.confindustria.sa.it/event/convegno-organizzato-dallodcec-di-nocera-inferiore-nuove-regole-per-i-finanziamenti-simest-digitale-e-transizione-verde-in-prima-fila-le-nuove-opportunita-per-professionisti/
LOCATION:Nocera Inferiore – Sala Consiliare del Comune
CATEGORIES:Riunioni varie
ATTACH;FMTTYPE=image/jpeg:https://www.confindustria.sa.it/wp-content/uploads/2021/10/Logo_odcec_new_dantonio.jpg
END:VEVENT
END:VCALENDAR