BEGIN:VCALENDAR
VERSION:2.0
PRODID:-//Confindustria Salerno - ECPv6.6.3//NONSGML v1.0//EN
CALSCALE:GREGORIAN
METHOD:PUBLISH
X-ORIGINAL-URL:https://www.confindustria.sa.it
X-WR-CALDESC:Eventi per Confindustria Salerno
REFRESH-INTERVAL;VALUE=DURATION:PT1H
X-Robots-Tag:noindex
X-PUBLISHED-TTL:PT1H
BEGIN:VTIMEZONE
TZID:Europe/Paris
BEGIN:DAYLIGHT
TZOFFSETFROM:+0100
TZOFFSETTO:+0200
TZNAME:CEST
DTSTART:20250330T010000
END:DAYLIGHT
BEGIN:STANDARD
TZOFFSETFROM:+0200
TZOFFSETTO:+0100
TZNAME:CET
DTSTART:20251026T010000
END:STANDARD
END:VTIMEZONE
BEGIN:VEVENT
DTSTART;TZID=Europe/Paris:20250404T090000
DTEND;TZID=Europe/Paris:20250404T170000
DTSTAMP:20260419T165828
CREATED:20250320T130237Z
LAST-MODIFIED:20250320T130237Z
UID:93494-1743757200-1743786000@www.confindustria.sa.it
SUMMARY:LUMINA 2025 “Crescere insieme orientati al futuro”
DESCRIPTION:partecipa il presidente del gruppo Giovani Vincenzo Iennaco \nAnnamaria Laurenzano
URL:https://www.confindustria.sa.it/event/lumina-2025-crescere-insieme-orientati-al-futuro/
LOCATION:Paestum – Savoy Beach  Hotel
CATEGORIES:Riunioni varie
ATTACH;FMTTYPE=image/jpeg:https://www.confindustria.sa.it/wp-content/uploads/2025/03/GI-SAVOY-APRILE-25.jpg
END:VEVENT
BEGIN:VEVENT
DTSTART;TZID=Europe/Paris:20250404T100000
DTEND;TZID=Europe/Paris:20250404T110000
DTSTAMP:20260419T165828
CREATED:20250331T100634Z
LAST-MODIFIED:20250331T100634Z
UID:93941-1743760800-1743764400@www.confindustria.sa.it
SUMMARY:Consiglio Direttivo “allargato” del Gruppo Giovani Imprenditori
DESCRIPTION:partecipa il Presidente del gruppo Giovani Vincenzo Iennaco \nAnnamaria Laurenzano
URL:https://www.confindustria.sa.it/event/consiglio-direttivo-allargato-del-gruppo-giovani-imprenditori-10/
LOCATION:Capaccio Paestum -c/o La Dispensa – Azienda Agricola San Salvatore (SS18\, Località\, Via Cafasso)
CATEGORIES:Riunioni varie
ATTACH;FMTTYPE=image/jpeg:https://www.confindustria.sa.it/wp-content/uploads/2019/09/logo_confindustria_giovani_imprenditori.jpg
END:VEVENT
END:VCALENDAR