BEGIN:VCALENDAR
VERSION:2.0
PRODID:-//Confindustria Salerno - ECPv6.6.3//NONSGML v1.0//EN
CALSCALE:GREGORIAN
METHOD:PUBLISH
X-WR-CALNAME:Confindustria Salerno
X-ORIGINAL-URL:https://www.confindustria.sa.it
X-WR-CALDESC:Eventi per Confindustria Salerno
REFRESH-INTERVAL;VALUE=DURATION:PT1H
X-Robots-Tag:noindex
X-PUBLISHED-TTL:PT1H
BEGIN:VTIMEZONE
TZID:Europe/Paris
BEGIN:DAYLIGHT
TZOFFSETFROM:+0100
TZOFFSETTO:+0200
TZNAME:CEST
DTSTART:20250330T010000
END:DAYLIGHT
BEGIN:STANDARD
TZOFFSETFROM:+0200
TZOFFSETTO:+0100
TZNAME:CET
DTSTART:20251026T010000
END:STANDARD
END:VTIMEZONE
BEGIN:VEVENT
DTSTART;TZID=Europe/Paris:20250402T080000
DTEND;TZID=Europe/Paris:20250402T170000
DTSTAMP:20260419T181953
CREATED:20250402T105216Z
LAST-MODIFIED:20250402T105736Z
UID:94227-1743580800-1743613200@www.confindustria.sa.it
SUMMARY:Educational Tour “Salerno Wonders” - Workshop B2B con i buyer  inglesi e francesi
DESCRIPTION:partecipa il presidente del Gruppo Alberghi Turismo e tempo libero Michelangelo Lurgi \npromosso dalla CCIAA Salerno \nnews \nAnnamaria Laurenzano
URL:https://www.confindustria.sa.it/event/educational-tour-salerno-wonders-workshop-b2b-con-i-buyer-inglesi-e-francesi/
CATEGORIES:Riunioni varie
ATTACH;FMTTYPE=image/png:https://www.confindustria.sa.it/wp-content/uploads/2025/03/cciaa-salerno-logo-2020.png
END:VEVENT
BEGIN:VEVENT
DTSTART;TZID=Europe/Paris:20250402T150000
DTEND;TZID=Europe/Paris:20250402T170000
DTSTAMP:20260419T181953
CREATED:20250328T154105Z
LAST-MODIFIED:20250328T154105Z
UID:93923-1743606000-1743613200@www.confindustria.sa.it
SUMMARY:Consiglio Direttivo del Gruppo Design/Tessile/Sistema Casa “allargato” alla partecipazione degli iscritti e alle Aziende aderenti alla Salerno Design Week
DESCRIPTION:partecipa il presidente del Gruppo Design/Tessile/Sistema Casa Giovanna Basile \nAnnamaria Laurenzano
URL:https://www.confindustria.sa.it/event/consiglio-direttivo-del-gruppo-design-tessile-sistema-casa-allargato-alla-partecipazione-degli-iscritti-e-alle-aziende-aderenti-alla-salerno-design-week/
LOCATION:su piattaforma Zoom
CATEGORIES:Riunioni varie
ATTACH;FMTTYPE=image/jpeg:https://www.confindustria.sa.it/wp-content/uploads/2020/06/logo-quadrato-conf.jpg
END:VEVENT
END:VCALENDAR