BEGIN:VCALENDAR
VERSION:2.0
PRODID:-//Confindustria Salerno - ECPv6.6.3//NONSGML v1.0//EN
CALSCALE:GREGORIAN
METHOD:PUBLISH
X-WR-CALNAME:Confindustria Salerno
X-ORIGINAL-URL:https://www.confindustria.sa.it
X-WR-CALDESC:Eventi per Confindustria Salerno
REFRESH-INTERVAL;VALUE=DURATION:PT1H
X-Robots-Tag:noindex
X-PUBLISHED-TTL:PT1H
BEGIN:VTIMEZONE
TZID:Europe/Paris
BEGIN:DAYLIGHT
TZOFFSETFROM:+0100
TZOFFSETTO:+0200
TZNAME:CEST
DTSTART:20250330T010000
END:DAYLIGHT
BEGIN:STANDARD
TZOFFSETFROM:+0200
TZOFFSETTO:+0100
TZNAME:CET
DTSTART:20251026T010000
END:STANDARD
END:VTIMEZONE
BEGIN:VEVENT
DTSTART;TZID=Europe/Paris:20250225T100000
DTEND;TZID=Europe/Paris:20250225T133000
DTSTAMP:20260419T150729
CREATED:20250219T162329Z
LAST-MODIFIED:20250219T162329Z
UID:91901-1740477600-1740490200@www.confindustria.sa.it
SUMMARY:Evento di presentazione “Digitalizzazione\, Autorizzazioni ambientali”
DESCRIPTION:Annamaria Laurenzano
URL:https://www.confindustria.sa.it/event/evento-di-presentazione-digitalizzazione-autorizzazioni-ambientali/
LOCATION:Napoli – Auditorium regionale (Centro direzionale – Isola C3
CATEGORIES:Riunioni varie
END:VEVENT
BEGIN:VEVENT
DTSTART;TZID=Europe/Paris:20250225T153000
DTEND;TZID=Europe/Paris:20250225T170000
DTSTAMP:20260419T150729
CREATED:20250217T151009Z
LAST-MODIFIED:20250217T151009Z
UID:91800-1740497400-1740502800@www.confindustria.sa.it
SUMMARY:Consiglio Direttivo “allargato” del Gruppo Design/Tessile/Sistema Casa
DESCRIPTION:partecipa il presidente del Gruppo Giovanna Basile \nAnnamaria Laurenzano
URL:https://www.confindustria.sa.it/event/consiglio-direttivo-allargato-del-gruppo-design-tessile-sistema-casa-10/
LOCATION:Confindustria Salerno
CATEGORIES:Riunioni varie
ATTACH;FMTTYPE=image/jpeg:https://www.confindustria.sa.it/wp-content/uploads/2020/07/logo-confsa.jpg
END:VEVENT
END:VCALENDAR