BEGIN:VCALENDAR
VERSION:2.0
PRODID:-//Confindustria Salerno - ECPv6.6.3//NONSGML v1.0//EN
CALSCALE:GREGORIAN
METHOD:PUBLISH
X-ORIGINAL-URL:https://www.confindustria.sa.it
X-WR-CALDESC:Eventi per Confindustria Salerno
REFRESH-INTERVAL;VALUE=DURATION:PT1H
X-Robots-Tag:noindex
X-PUBLISHED-TTL:PT1H
BEGIN:VTIMEZONE
TZID:Europe/Helsinki
BEGIN:DAYLIGHT
TZOFFSETFROM:+0200
TZOFFSETTO:+0300
TZNAME:EEST
DTSTART:20240331T010000
END:DAYLIGHT
BEGIN:STANDARD
TZOFFSETFROM:+0300
TZOFFSETTO:+0200
TZNAME:EET
DTSTART:20241027T010000
END:STANDARD
END:VTIMEZONE
BEGIN:VEVENT
DTSTART;TZID=Europe/Helsinki:20241212T153000
DTEND;TZID=Europe/Helsinki:20241212T170000
DTSTAMP:20260419T191933
CREATED:20241212T101245Z
LAST-MODIFIED:20241212T101245Z
UID:89529-1734017400-1734022800@www.confindustria.sa.it
SUMMARY:Consiglio Direttivo del Gruppo Design/Tessile/Sistema Casa “allargato” alla partecipazione degli iscritti
DESCRIPTION:partecipa il presidente del Gruppo Design/Tessile/Sistema Casa Giovanna Basile \nAnnamaria Laurenzano
URL:https://www.confindustria.sa.it/event/consiglio-direttivo-del-gruppo-design-tessile-sistema-casa-allargato-alla-partecipazione-degli-iscritti-2/
LOCATION:sede\, su piattaforma zoom
CATEGORIES:Riunioni varie
ATTACH;FMTTYPE=image/jpeg:https://www.confindustria.sa.it/wp-content/uploads/2020/07/logo-confsa.jpg
END:VEVENT
END:VCALENDAR