BEGIN:VCALENDAR
VERSION:2.0
PRODID:-//Confindustria Salerno - ECPv6.6.3//NONSGML v1.0//EN
CALSCALE:GREGORIAN
METHOD:PUBLISH
X-WR-CALNAME:Confindustria Salerno
X-ORIGINAL-URL:https://www.confindustria.sa.it
X-WR-CALDESC:Eventi per Confindustria Salerno
REFRESH-INTERVAL;VALUE=DURATION:PT1H
X-Robots-Tag:noindex
X-PUBLISHED-TTL:PT1H
BEGIN:VTIMEZONE
TZID:Europe/Helsinki
BEGIN:DAYLIGHT
TZOFFSETFROM:+0200
TZOFFSETTO:+0300
TZNAME:EEST
DTSTART:20240331T010000
END:DAYLIGHT
BEGIN:STANDARD
TZOFFSETFROM:+0300
TZOFFSETTO:+0200
TZNAME:EET
DTSTART:20241027T010000
END:STANDARD
END:VTIMEZONE
BEGIN:VEVENT
DTSTART;TZID=Europe/Helsinki:20241120T153000
DTEND;TZID=Europe/Helsinki:20241120T170000
DTSTAMP:20260419T204258
CREATED:20241113T093730Z
LAST-MODIFIED:20241113T093730Z
UID:88096-1732116600-1732122000@www.confindustria.sa.it
SUMMARY:Consiglio Direttivo del Gruppo Chimica Gomma Plastica
DESCRIPTION:partecipa il Presidente Alfonso Campitelli \nAnnamaria Laurenzano
URL:https://www.confindustria.sa.it/event/consiglio-direttivo-del-gruppo-chimica-gomma-plastica-6/
LOCATION:presso la sede dell’azienda Bioplast in AREA ASI – Località Cervito 11\, a Fisciano (Sa)
CATEGORIES:Riunioni varie
ATTACH;FMTTYPE=image/png:https://www.confindustria.sa.it/wp-content/uploads/2020/07/LogoConfindustria1-1.png
END:VEVENT
END:VCALENDAR