BEGIN:VCALENDAR
VERSION:2.0
PRODID:-//Confindustria Salerno - ECPv6.6.3//NONSGML v1.0//EN
CALSCALE:GREGORIAN
METHOD:PUBLISH
X-ORIGINAL-URL:https://www.confindustria.sa.it
X-WR-CALDESC:Eventi per Confindustria Salerno
REFRESH-INTERVAL;VALUE=DURATION:PT1H
X-Robots-Tag:noindex
X-PUBLISHED-TTL:PT1H
BEGIN:VTIMEZONE
TZID:Europe/Helsinki
BEGIN:DAYLIGHT
TZOFFSETFROM:+0200
TZOFFSETTO:+0300
TZNAME:EEST
DTSTART:20240331T010000
END:DAYLIGHT
BEGIN:STANDARD
TZOFFSETFROM:+0300
TZOFFSETTO:+0200
TZNAME:EET
DTSTART:20241027T010000
END:STANDARD
END:VTIMEZONE
BEGIN:VEVENT
DTSTART;TZID=Europe/Helsinki:20241010T103000
DTEND;TZID=Europe/Helsinki:20241010T170000
DTSTAMP:20260419T220036
CREATED:20241004T150408Z
LAST-MODIFIED:20241004T150408Z
UID:86152-1728556200-1728579600@www.confindustria.sa.it
SUMMARY:Conferenza stampa "Salerno - Vietri sul Mare: un volo tra le bellezze"\, con focus incentrato sull'Aeroporto "Costa d'Amalfi".
DESCRIPTION:partecipa il presidente del Gruppo Alberghi Turismo e tempo libero Michelangelo Lurgi \nAnnamaria Laurenzano
URL:https://www.confindustria.sa.it/event/conferenza-stampa-salerno-vietri-sul-mare-un-volo-tra-le-bellezze-con-focus-incentrato-sullaeroporto-costa-damalfi/
LOCATION:TGG di Rimini – Padiglione della Regione Campania
CATEGORIES:Riunioni varie
END:VEVENT
END:VCALENDAR