BEGIN:VCALENDAR
VERSION:2.0
PRODID:-//Confindustria Salerno - ECPv6.6.3//NONSGML v1.0//EN
CALSCALE:GREGORIAN
METHOD:PUBLISH
X-WR-CALNAME:Confindustria Salerno
X-ORIGINAL-URL:https://www.confindustria.sa.it
X-WR-CALDESC:Eventi per Confindustria Salerno
REFRESH-INTERVAL;VALUE=DURATION:PT1H
X-Robots-Tag:noindex
X-PUBLISHED-TTL:PT1H
BEGIN:VTIMEZONE
TZID:Europe/Helsinki
BEGIN:DAYLIGHT
TZOFFSETFROM:+0200
TZOFFSETTO:+0300
TZNAME:EEST
DTSTART:20240331T010000
END:DAYLIGHT
BEGIN:STANDARD
TZOFFSETFROM:+0300
TZOFFSETTO:+0200
TZNAME:EET
DTSTART:20241027T010000
END:STANDARD
END:VTIMEZONE
BEGIN:VEVENT
DTSTART;TZID=Europe/Helsinki:20240920T093000
DTEND;TZID=Europe/Helsinki:20240920T133000
DTSTAMP:20260419T232138
CREATED:20240617T093218Z
LAST-MODIFIED:20240917T114906Z
UID:81248-1726824600-1726839000@www.confindustria.sa.it
SUMMARY:Finanza e disclosure ESG. Soluzioni di sistema per le imprese 3° Modulo formativo «Reporting ESG volontario»
DESCRIPTION:partecipano i vicepresidenti Velleda Virno e  Pierluigi Pastore \nnews \nAnnamaria Laurenzano
URL:https://www.confindustria.sa.it/event/finanza-e-disclosure-esg-soluzioni-di-sistema-per-le-imprese-3-modulo-formativo-reporting-esg-volontario/
LOCATION:Confindustria  Salerno
CATEGORIES:eventi-confindustria,Riunioni varie
ATTACH;FMTTYPE=image/jpeg:https://www.confindustria.sa.it/wp-content/uploads/2024/06/Evento_20-Settembre-2024_Deloitte-scaled.jpg
END:VEVENT
END:VCALENDAR