BEGIN:VCALENDAR
VERSION:2.0
PRODID:-//Confindustria Salerno - ECPv6.6.3//NONSGML v1.0//EN
CALSCALE:GREGORIAN
METHOD:PUBLISH
X-WR-CALNAME:Confindustria Salerno
X-ORIGINAL-URL:https://www.confindustria.sa.it
X-WR-CALDESC:Eventi per Confindustria Salerno
REFRESH-INTERVAL;VALUE=DURATION:PT1H
X-Robots-Tag:noindex
X-PUBLISHED-TTL:PT1H
BEGIN:VTIMEZONE
TZID:Europe/Helsinki
BEGIN:DAYLIGHT
TZOFFSETFROM:+0200
TZOFFSETTO:+0300
TZNAME:EEST
DTSTART:20240331T010000
END:DAYLIGHT
BEGIN:STANDARD
TZOFFSETFROM:+0300
TZOFFSETTO:+0200
TZNAME:EET
DTSTART:20241027T010000
END:STANDARD
END:VTIMEZONE
BEGIN:VEVENT
DTSTART;TZID=Europe/Helsinki:20240911T090000
DTEND;TZID=Europe/Helsinki:20240911T120000
DTSTAMP:20260419T231558
CREATED:20240910T081003Z
LAST-MODIFIED:20240910T081003Z
UID:84615-1726045200-1726056000@www.confindustria.sa.it
SUMMARY:inaugurazione ITSVIL Factory
DESCRIPTION:partecipa il Presidente del Gruppo Giovani Vincenzo Iennaco \nAnnamaria Laurenzano
URL:https://www.confindustria.sa.it/event/inaugurazione-itsvil-factory/
LOCATION:Salerno – Via Antonio Amato\, 26
CATEGORIES:Riunioni varie
END:VEVENT
END:VCALENDAR