BEGIN:VCALENDAR
VERSION:2.0
PRODID:-//Confindustria Salerno - ECPv6.6.3//NONSGML v1.0//EN
CALSCALE:GREGORIAN
METHOD:PUBLISH
X-WR-CALNAME:Confindustria Salerno
X-ORIGINAL-URL:https://www.confindustria.sa.it
X-WR-CALDESC:Eventi per Confindustria Salerno
REFRESH-INTERVAL;VALUE=DURATION:PT1H
X-Robots-Tag:noindex
X-PUBLISHED-TTL:PT1H
BEGIN:VTIMEZONE
TZID:Europe/Helsinki
BEGIN:DAYLIGHT
TZOFFSETFROM:+0200
TZOFFSETTO:+0300
TZNAME:EEST
DTSTART:20240331T010000
END:DAYLIGHT
BEGIN:STANDARD
TZOFFSETFROM:+0300
TZOFFSETTO:+0200
TZNAME:EET
DTSTART:20241027T010000
END:STANDARD
END:VTIMEZONE
BEGIN:VEVENT
DTSTART;TZID=Europe/Helsinki:20240227T163000
DTEND;TZID=Europe/Helsinki:20240227T180000
DTSTAMP:20260420T073147
CREATED:20240223T161618Z
LAST-MODIFIED:20240223T161618Z
UID:75143-1709051400-1709056800@www.confindustria.sa.it
SUMMARY:Consiglio Direttivo allargato del Comitato Femminile Plurale
DESCRIPTION:partecipa la presidente del Comitato femminile Alessandra Puglisi \nAnnamaria Laurenzano
URL:https://www.confindustria.sa.it/event/consiglio-direttivo-allargato-del-comitato-femminile-plurale/
LOCATION:Salerno – Marina D’Arechi Salerno Port Village\, via S. Allende
CATEGORIES:Riunioni varie
ATTACH;FMTTYPE=image/jpeg:https://www.confindustria.sa.it/wp-content/uploads/2020/07/logo-confsa.jpg
END:VEVENT
END:VCALENDAR