BEGIN:VCALENDAR
VERSION:2.0
PRODID:-//Confindustria Salerno - ECPv6.6.3//NONSGML v1.0//EN
CALSCALE:GREGORIAN
METHOD:PUBLISH
X-WR-CALNAME:Confindustria Salerno
X-ORIGINAL-URL:https://www.confindustria.sa.it
X-WR-CALDESC:Eventi per Confindustria Salerno
REFRESH-INTERVAL;VALUE=DURATION:PT1H
X-Robots-Tag:noindex
X-PUBLISHED-TTL:PT1H
BEGIN:VTIMEZONE
TZID:Europe/Helsinki
BEGIN:DAYLIGHT
TZOFFSETFROM:+0200
TZOFFSETTO:+0300
TZNAME:EEST
DTSTART:20220327T010000
END:DAYLIGHT
BEGIN:STANDARD
TZOFFSETFROM:+0300
TZOFFSETTO:+0200
TZNAME:EET
DTSTART:20221030T010000
END:STANDARD
END:VTIMEZONE
BEGIN:VEVENT
DTSTART;TZID=Europe/Helsinki:20220325T100000
DTEND;TZID=Europe/Helsinki:20220325T170000
DTSTAMP:20260422T132757
CREATED:20220314T163503Z
LAST-MODIFIED:20220314T163503Z
UID:46679-1648202400-1648227600@www.confindustria.sa.it
SUMMARY:Convocazione Assemblea Ordinaria Soci Campania DIH
DESCRIPTION:partecipa il presidente del Gruppo Servizi (F. Serravalle) \nAnnamaria Laurenzano
URL:https://www.confindustria.sa.it/event/convocazione-assemblea-ordinaria-soci-campania-dih/
CATEGORIES:Riunioni varie
END:VEVENT
BEGIN:VEVENT
DTSTART;TZID=Europe/Helsinki:20220325T100000
DTEND;TZID=Europe/Helsinki:20220325T170000
DTSTAMP:20260422T132757
CREATED:20220314T163503Z
LAST-MODIFIED:20220314T163503Z
UID:72275-1648202400-1648227600@www.confindustria.sa.it
SUMMARY:Convocazione Assemblea Ordinaria Soci Campania DIH
DESCRIPTION:partecipa il presidente del Gruppo Servizi (F. Serravalle) \nAnnamaria Laurenzano
URL:https://www.confindustria.sa.it/event/convocazione-assemblea-ordinaria-soci-campania-dih-2/
CATEGORIES:Riunioni varie
END:VEVENT
BEGIN:VEVENT
DTSTART;TZID=Europe/Helsinki:20220325T100000
DTEND;TZID=Europe/Helsinki:20220325T170000
DTSTAMP:20260422T132757
CREATED:20220314T163503Z
LAST-MODIFIED:20220314T163503Z
UID:73298-1648202400-1648227600@www.confindustria.sa.it
SUMMARY:Convocazione Assemblea Ordinaria Soci Campania DIH
DESCRIPTION:partecipa il presidente del Gruppo Servizi (F. Serravalle) \nAnnamaria Laurenzano
URL:https://www.confindustria.sa.it/event/convocazione-assemblea-ordinaria-soci-campania-dih-3/
CATEGORIES:Riunioni varie
END:VEVENT
END:VCALENDAR