BEGIN:VCALENDAR
VERSION:2.0
PRODID:-//Confindustria Salerno - ECPv6.6.3//NONSGML v1.0//EN
CALSCALE:GREGORIAN
METHOD:PUBLISH
X-ORIGINAL-URL:https://www.confindustria.sa.it
X-WR-CALDESC:Eventi per Confindustria Salerno
REFRESH-INTERVAL;VALUE=DURATION:PT1H
X-Robots-Tag:noindex
X-PUBLISHED-TTL:PT1H
BEGIN:VTIMEZONE
TZID:Europe/Helsinki
BEGIN:DAYLIGHT
TZOFFSETFROM:+0200
TZOFFSETTO:+0300
TZNAME:EEST
DTSTART:20220327T010000
END:DAYLIGHT
BEGIN:STANDARD
TZOFFSETFROM:+0300
TZOFFSETTO:+0200
TZNAME:EET
DTSTART:20221030T010000
END:STANDARD
END:VTIMEZONE
BEGIN:VEVENT
DTSTART;TZID=Europe/Helsinki:20220305T160000
DTEND;TZID=Europe/Helsinki:20220305T180000
DTSTAMP:20260422T132956
CREATED:20220223T131131Z
LAST-MODIFIED:20220223T131131Z
UID:45598-1646496000-1646503200@www.confindustria.sa.it
SUMMARY:Convegno sul tema "Mobilità Sostenibile nella logistica delle merci”
DESCRIPTION:Partecipa Agostino Gallozzi \nAnnamaria Laurenzano
URL:https://www.confindustria.sa.it/event/convegno-sul-tema-mobilita-sostenibile-nella-logistica-delle-merci/
LOCATION:Polla – loc. Sant’Antuono \, Z.I. –  Sala convegni della GDA di Costantino Di Carlo
CATEGORIES:Riunioni varie
END:VEVENT
BEGIN:VEVENT
DTSTART;TZID=Europe/Helsinki:20220305T160000
DTEND;TZID=Europe/Helsinki:20220305T180000
DTSTAMP:20260422T132956
CREATED:20220223T131131Z
LAST-MODIFIED:20220223T131131Z
UID:72263-1646496000-1646503200@www.confindustria.sa.it
SUMMARY:Convegno sul tema \"Mobilità Sostenibile nella logistica delle merci”
DESCRIPTION:Partecipa Agostino Gallozzi \nAnnamaria Laurenzano
URL:https://www.confindustria.sa.it/event/convegno-sul-tema-mobilita-sostenibile-nella-logistica-delle-merci-2/
LOCATION:Polla – loc. Sant’Antuono \, Z.I. –  Sala convegni della GDA di Costantino Di Carlo
CATEGORIES:Riunioni varie
END:VEVENT
BEGIN:VEVENT
DTSTART;TZID=Europe/Helsinki:20220305T160000
DTEND;TZID=Europe/Helsinki:20220305T180000
DTSTAMP:20260422T132956
CREATED:20220223T131131Z
LAST-MODIFIED:20220223T131131Z
UID:73286-1646496000-1646503200@www.confindustria.sa.it
SUMMARY:Convegno sul tema \"Mobilità Sostenibile nella logistica delle merci”
DESCRIPTION:Partecipa Agostino Gallozzi \nAnnamaria Laurenzano
URL:https://www.confindustria.sa.it/event/convegno-sul-tema-mobilita-sostenibile-nella-logistica-delle-merci-3/
LOCATION:Polla – loc. Sant’Antuono \, Z.I. –  Sala convegni della GDA di Costantino Di Carlo
CATEGORIES:Riunioni varie
END:VEVENT
END:VCALENDAR