BEGIN:VCALENDAR
VERSION:2.0
PRODID:-//Confindustria Salerno - ECPv6.6.3//NONSGML v1.0//EN
CALSCALE:GREGORIAN
METHOD:PUBLISH
X-ORIGINAL-URL:https://www.confindustria.sa.it
X-WR-CALDESC:Eventi per Confindustria Salerno
REFRESH-INTERVAL;VALUE=DURATION:PT1H
X-Robots-Tag:noindex
X-PUBLISHED-TTL:PT1H
BEGIN:VTIMEZONE
TZID:Europe/Helsinki
BEGIN:DAYLIGHT
TZOFFSETFROM:+0200
TZOFFSETTO:+0300
TZNAME:EEST
DTSTART:20220327T010000
END:DAYLIGHT
BEGIN:STANDARD
TZOFFSETFROM:+0300
TZOFFSETTO:+0200
TZNAME:EET
DTSTART:20221030T010000
END:STANDARD
END:VTIMEZONE
BEGIN:VEVENT
DTSTART;TZID=Europe/Helsinki:20220302T153000
DTEND;TZID=Europe/Helsinki:20220302T170000
DTSTAMP:20260422T132956
CREATED:20220224T161206Z
LAST-MODIFIED:20220224T161206Z
UID:73287-1646235000-1646240400@www.confindustria.sa.it
SUMMARY:Consiglio Direttivo Comitato Femminile Plurale\, in videoconfeenz
DESCRIPTION:Partecipa la presidente Alessandra Puglisi \nAnnamaria Laurenzano
URL:https://www.confindustria.sa.it/event/consiglio-direttivo-comitato-femminile-plurale-in-videoconfeenz-3/
CATEGORIES:Riunioni varie
ATTACH;FMTTYPE=image/png:https://www.confindustria.sa.it/wp-content/uploads/2020/07/LogoConfindustria1-1.png
END:VEVENT
BEGIN:VEVENT
DTSTART;TZID=Europe/Helsinki:20220302T153000
DTEND;TZID=Europe/Helsinki:20220302T170000
DTSTAMP:20260422T132956
CREATED:20220224T161206Z
LAST-MODIFIED:20220224T161206Z
UID:45781-1646235000-1646240400@www.confindustria.sa.it
SUMMARY:Consiglio Direttivo Comitato Femminile Plurale\, in videoconfeenz
DESCRIPTION:Partecipa la presidente Alessandra Puglisi \nAnnamaria Laurenzano
URL:https://www.confindustria.sa.it/event/consiglio-direttivo-comitato-femminile-plurale-in-videoconfeenz/
CATEGORIES:Riunioni varie
ATTACH;FMTTYPE=image/png:https://www.confindustria.sa.it/wp-content/uploads/2020/07/LogoConfindustria1-1.png
END:VEVENT
BEGIN:VEVENT
DTSTART;TZID=Europe/Helsinki:20220302T153000
DTEND;TZID=Europe/Helsinki:20220302T170000
DTSTAMP:20260422T132956
CREATED:20220224T161206Z
LAST-MODIFIED:20220224T161206Z
UID:72264-1646235000-1646240400@www.confindustria.sa.it
SUMMARY:Consiglio Direttivo Comitato Femminile Plurale\, in videoconfeenz
DESCRIPTION:Partecipa la presidente Alessandra Puglisi \nAnnamaria Laurenzano
URL:https://www.confindustria.sa.it/event/consiglio-direttivo-comitato-femminile-plurale-in-videoconfeenz-2/
CATEGORIES:Riunioni varie
ATTACH;FMTTYPE=image/png:https://www.confindustria.sa.it/wp-content/uploads/2020/07/LogoConfindustria1-1.png
END:VEVENT
END:VCALENDAR