BEGIN:VCALENDAR
VERSION:2.0
PRODID:-//Confindustria Salerno - ECPv6.6.3//NONSGML v1.0//EN
CALSCALE:GREGORIAN
METHOD:PUBLISH
X-ORIGINAL-URL:https://www.confindustria.sa.it
X-WR-CALDESC:Eventi per Confindustria Salerno
REFRESH-INTERVAL;VALUE=DURATION:PT1H
X-Robots-Tag:noindex
X-PUBLISHED-TTL:PT1H
BEGIN:VTIMEZONE
TZID:Europe/Helsinki
BEGIN:DAYLIGHT
TZOFFSETFROM:+0200
TZOFFSETTO:+0300
TZNAME:EEST
DTSTART:20220327T010000
END:DAYLIGHT
BEGIN:STANDARD
TZOFFSETFROM:+0300
TZOFFSETTO:+0200
TZNAME:EET
DTSTART:20221030T010000
END:STANDARD
END:VTIMEZONE
BEGIN:VEVENT
DTSTART;TZID=Europe/Helsinki:20220301T103000
DTEND;TZID=Europe/Helsinki:20220301T133000
DTSTAMP:20260422T132956
CREATED:20220217T171918Z
LAST-MODIFIED:20220217T171918Z
UID:72258-1646130600-1646141400@www.confindustria.sa.it
SUMMARY:Tavolo Tecnico sulla Sostenibilità Ambientale
DESCRIPTION:Partecipa la Vice Presidente Lina Piccolo \nAnnamaria Laurenzano
URL:https://www.confindustria.sa.it/event/incontro-sostenibilita-ambientale-2/
LOCATION:Napoli – Osservatorio Regionale Gestione Rifiuti\, c.direzionale isola c/3
CATEGORIES:Riunioni varie
ATTACH;FMTTYPE=image/png:https://www.confindustria.sa.it/wp-content/uploads/2022/02/logo_sito_orgr.png
END:VEVENT
BEGIN:VEVENT
DTSTART;TZID=Europe/Helsinki:20220301T103000
DTEND;TZID=Europe/Helsinki:20220301T133000
DTSTAMP:20260422T132956
CREATED:20220217T171918Z
LAST-MODIFIED:20220217T171918Z
UID:73281-1646130600-1646141400@www.confindustria.sa.it
SUMMARY:Tavolo Tecnico sulla Sostenibilità Ambientale
DESCRIPTION:Partecipa la Vice Presidente Lina Piccolo \nAnnamaria Laurenzano
URL:https://www.confindustria.sa.it/event/incontro-sostenibilita-ambientale-3/
LOCATION:Napoli – Osservatorio Regionale Gestione Rifiuti\, c.direzionale isola c/3
CATEGORIES:Riunioni varie
ATTACH;FMTTYPE=image/png:https://www.confindustria.sa.it/wp-content/uploads/2022/02/logo_sito_orgr.png
END:VEVENT
BEGIN:VEVENT
DTSTART;TZID=Europe/Helsinki:20220301T103000
DTEND;TZID=Europe/Helsinki:20220301T133000
DTSTAMP:20260422T132956
CREATED:20220217T171918Z
LAST-MODIFIED:20220221T121723Z
UID:45260-1646130600-1646141400@www.confindustria.sa.it
SUMMARY:Tavolo Tecnico sulla Sostenibilità Ambientale
DESCRIPTION:Partecipa la Vice Presidente Lina Piccolo \nAnnamaria Laurenzano
URL:https://www.confindustria.sa.it/event/incontro-sostenibilita-ambientale/
LOCATION:Napoli – Osservatorio Regionale Gestione Rifiuti\, c.direzionale isola c/3
CATEGORIES:Riunioni varie
ATTACH;FMTTYPE=image/png:https://www.confindustria.sa.it/wp-content/uploads/2022/02/logo_sito_orgr.png
END:VEVENT
BEGIN:VEVENT
DTSTART;TZID=Europe/Helsinki:20220301T150000
DTEND;TZID=Europe/Helsinki:20220301T170000
DTSTAMP:20260422T132956
CREATED:20220217T125458Z
LAST-MODIFIED:20220217T125458Z
UID:73280-1646146800-1646154000@www.confindustria.sa.it
SUMMARY:Consiglio Centrale Piccola Industria
DESCRIPTION:partecipa la presidente del comitato (L.Piccolo) \nAnnamaria Laurenzano
URL:https://www.confindustria.sa.it/event/consiglio-centrale-piccola-industria-6-3/
LOCATION:Roma – Confindustria
CATEGORIES:Riunioni varie
ATTACH;FMTTYPE=image/jpeg:https://www.confindustria.sa.it/wp-content/uploads/2020/07/piccola-1.jpg
END:VEVENT
BEGIN:VEVENT
DTSTART;TZID=Europe/Helsinki:20220301T150000
DTEND;TZID=Europe/Helsinki:20220301T170000
DTSTAMP:20260422T132956
CREATED:20220217T125458Z
LAST-MODIFIED:20220217T125458Z
UID:45249-1646146800-1646154000@www.confindustria.sa.it
SUMMARY:Consiglio Centrale Piccola Industria
DESCRIPTION:partecipa la presidente del comitato (L.Piccolo) \nAnnamaria Laurenzano
URL:https://www.confindustria.sa.it/event/consiglio-centrale-piccola-industria-6/
LOCATION:Roma – Confindustria
CATEGORIES:Riunioni varie
ATTACH;FMTTYPE=image/jpeg:https://www.confindustria.sa.it/wp-content/uploads/2020/07/piccola-1.jpg
END:VEVENT
BEGIN:VEVENT
DTSTART;TZID=Europe/Helsinki:20220301T150000
DTEND;TZID=Europe/Helsinki:20220301T170000
DTSTAMP:20260422T132956
CREATED:20220217T125458Z
LAST-MODIFIED:20220217T125458Z
UID:72257-1646146800-1646154000@www.confindustria.sa.it
SUMMARY:Consiglio Centrale Piccola Industria
DESCRIPTION:partecipa la presidente del comitato (L.Piccolo) \nAnnamaria Laurenzano
URL:https://www.confindustria.sa.it/event/consiglio-centrale-piccola-industria-6-2/
LOCATION:Roma – Confindustria
CATEGORIES:Riunioni varie
ATTACH;FMTTYPE=image/jpeg:https://www.confindustria.sa.it/wp-content/uploads/2020/07/piccola-1.jpg
END:VEVENT
END:VCALENDAR