BEGIN:VCALENDAR
VERSION:2.0
PRODID:-//Confindustria Salerno - ECPv6.6.3//NONSGML v1.0//EN
CALSCALE:GREGORIAN
METHOD:PUBLISH
X-WR-CALNAME:Confindustria Salerno
X-ORIGINAL-URL:https://www.confindustria.sa.it
X-WR-CALDESC:Eventi per Confindustria Salerno
REFRESH-INTERVAL;VALUE=DURATION:PT1H
X-Robots-Tag:noindex
X-PUBLISHED-TTL:PT1H
BEGIN:VTIMEZONE
TZID:Europe/Helsinki
BEGIN:DAYLIGHT
TZOFFSETFROM:+0200
TZOFFSETTO:+0300
TZNAME:EEST
DTSTART:20220327T010000
END:DAYLIGHT
BEGIN:STANDARD
TZOFFSETFROM:+0300
TZOFFSETTO:+0200
TZNAME:EET
DTSTART:20221030T010000
END:STANDARD
END:VTIMEZONE
BEGIN:VEVENT
DTSTART;TZID=Europe/Helsinki:20220216T150000
DTEND;TZID=Europe/Helsinki:20220216T170000
DTSTAMP:20260422T145854
CREATED:20220209T174620Z
LAST-MODIFIED:20220209T174620Z
UID:44611-1645023600-1645030800@www.confindustria.sa.it
SUMMARY:Incontro VP Fabio Tarozzi e Presidenti dei Gruppi Metalmeccanici/Meccatronici
DESCRIPTION:(tramite zoom)  a cura di Federmeccanica \npartecipa il presidente del gruppo (P.Gaito) \nAnnamaria Laurenzano
URL:https://www.confindustria.sa.it/event/incontro-vp-fabio-tarozzi-e-presidenti-dei-gruppi-metalmeccanici-meccatronici/
CATEGORIES:Riunioni varie
END:VEVENT
BEGIN:VEVENT
DTSTART;TZID=Europe/Helsinki:20220216T150000
DTEND;TZID=Europe/Helsinki:20220216T170000
DTSTAMP:20260422T145854
CREATED:20220209T174620Z
LAST-MODIFIED:20220209T174620Z
UID:72250-1645023600-1645030800@www.confindustria.sa.it
SUMMARY:Incontro VP Fabio Tarozzi e Presidenti dei Gruppi Metalmeccanici/Meccatronici
DESCRIPTION:(tramite zoom)  a cura di Federmeccanica \npartecipa il presidente del gruppo (P.Gaito) \nAnnamaria Laurenzano
URL:https://www.confindustria.sa.it/event/incontro-vp-fabio-tarozzi-e-presidenti-dei-gruppi-metalmeccanici-meccatronici-2/
CATEGORIES:Riunioni varie
END:VEVENT
BEGIN:VEVENT
DTSTART;TZID=Europe/Helsinki:20220216T150000
DTEND;TZID=Europe/Helsinki:20220216T170000
DTSTAMP:20260422T145854
CREATED:20220209T174620Z
LAST-MODIFIED:20220209T174620Z
UID:73273-1645023600-1645030800@www.confindustria.sa.it
SUMMARY:Incontro VP Fabio Tarozzi e Presidenti dei Gruppi Metalmeccanici/Meccatronici
DESCRIPTION:(tramite zoom)  a cura di Federmeccanica \npartecipa il presidente del gruppo (P.Gaito) \nAnnamaria Laurenzano
URL:https://www.confindustria.sa.it/event/incontro-vp-fabio-tarozzi-e-presidenti-dei-gruppi-metalmeccanici-meccatronici-3/
CATEGORIES:Riunioni varie
END:VEVENT
END:VCALENDAR