BEGIN:VCALENDAR
VERSION:2.0
PRODID:-//Confindustria Salerno - ECPv6.6.3//NONSGML v1.0//EN
CALSCALE:GREGORIAN
METHOD:PUBLISH
X-ORIGINAL-URL:https://www.confindustria.sa.it
X-WR-CALDESC:Eventi per Confindustria Salerno
REFRESH-INTERVAL;VALUE=DURATION:PT1H
X-Robots-Tag:noindex
X-PUBLISHED-TTL:PT1H
BEGIN:VTIMEZONE
TZID:Europe/Helsinki
BEGIN:DAYLIGHT
TZOFFSETFROM:+0200
TZOFFSETTO:+0300
TZNAME:EEST
DTSTART:20220327T010000
END:DAYLIGHT
BEGIN:STANDARD
TZOFFSETFROM:+0300
TZOFFSETTO:+0200
TZNAME:EET
DTSTART:20221030T010000
END:STANDARD
END:VTIMEZONE
BEGIN:VEVENT
DTSTART;TZID=Europe/Helsinki:20220215T143000
DTEND;TZID=Europe/Helsinki:20220215T170000
DTSTAMP:20260422T150052
CREATED:20220209T173609Z
LAST-MODIFIED:20220209T173609Z
UID:44609-1644935400-1644944400@www.confindustria.sa.it
SUMMARY:Focus di approfondimento sulla diversificazione del contributo per gli imballaggi in plastica e sulla politica di riduzione del CONAI”
DESCRIPTION:partecipano ( L. Piccolo; G.Rinaldi) \nAnnamaria Laurenzano
URL:https://www.confindustria.sa.it/event/focus-di-approfondimento-sulla-diversificazione-del-contributo-per-gli-imballaggi-in-plastica-e-sulla-politica-di-riduzione-del-conai/
LOCATION:confindustria salerno
CATEGORIES:Riunioni varie
ATTACH;FMTTYPE=image/jpeg:https://www.confindustria.sa.it/wp-content/uploads/2020/06/AQ-1.jpg
END:VEVENT
BEGIN:VEVENT
DTSTART;TZID=Europe/Helsinki:20220215T143000
DTEND;TZID=Europe/Helsinki:20220215T170000
DTSTAMP:20260422T150053
CREATED:20220209T173609Z
LAST-MODIFIED:20220209T173609Z
UID:72249-1644935400-1644944400@www.confindustria.sa.it
SUMMARY:Focus di approfondimento sulla diversificazione del contributo per gli imballaggi in plastica e sulla politica di riduzione del CONAI”
DESCRIPTION:partecipano ( L. Piccolo; G.Rinaldi) \nAnnamaria Laurenzano
URL:https://www.confindustria.sa.it/event/focus-di-approfondimento-sulla-diversificazione-del-contributo-per-gli-imballaggi-in-plastica-e-sulla-politica-di-riduzione-del-conai-2/
LOCATION:confindustria salerno
CATEGORIES:Riunioni varie
ATTACH;FMTTYPE=image/jpeg:https://www.confindustria.sa.it/wp-content/uploads/2020/06/AQ-1.jpg
END:VEVENT
BEGIN:VEVENT
DTSTART;TZID=Europe/Helsinki:20220215T143000
DTEND;TZID=Europe/Helsinki:20220215T170000
DTSTAMP:20260422T150053
CREATED:20220209T173609Z
LAST-MODIFIED:20220209T173609Z
UID:73272-1644935400-1644944400@www.confindustria.sa.it
SUMMARY:Focus di approfondimento sulla diversificazione del contributo per gli imballaggi in plastica e sulla politica di riduzione del CONAI”
DESCRIPTION:partecipano ( L. Piccolo; G.Rinaldi) \nAnnamaria Laurenzano
URL:https://www.confindustria.sa.it/event/focus-di-approfondimento-sulla-diversificazione-del-contributo-per-gli-imballaggi-in-plastica-e-sulla-politica-di-riduzione-del-conai-3/
LOCATION:confindustria salerno
CATEGORIES:Riunioni varie
ATTACH;FMTTYPE=image/jpeg:https://www.confindustria.sa.it/wp-content/uploads/2020/06/AQ-1.jpg
END:VEVENT
END:VCALENDAR