BEGIN:VCALENDAR
VERSION:2.0
PRODID:-//Confindustria Salerno - ECPv6.6.3//NONSGML v1.0//EN
CALSCALE:GREGORIAN
METHOD:PUBLISH
X-WR-CALNAME:Confindustria Salerno
X-ORIGINAL-URL:https://www.confindustria.sa.it
X-WR-CALDESC:Eventi per Confindustria Salerno
REFRESH-INTERVAL;VALUE=DURATION:PT1H
X-Robots-Tag:noindex
X-PUBLISHED-TTL:PT1H
BEGIN:VTIMEZONE
TZID:Europe/Helsinki
BEGIN:DAYLIGHT
TZOFFSETFROM:+0200
TZOFFSETTO:+0300
TZNAME:EEST
DTSTART:20220327T010000
END:DAYLIGHT
BEGIN:STANDARD
TZOFFSETFROM:+0300
TZOFFSETTO:+0200
TZNAME:EET
DTSTART:20221030T010000
END:STANDARD
END:VTIMEZONE
BEGIN:VEVENT
DTSTART;TZID=Europe/Helsinki:20220205T093000
DTEND;TZID=Europe/Helsinki:20220205T170000
DTSTAMP:20260422T145854
CREATED:20220114T120010Z
LAST-MODIFIED:20220114T120010Z
UID:43011-1644053400-1644080400@www.confindustria.sa.it
SUMMARY:Convegno "Il futuro delle aree produttive tra zes e retroportualità"\, organizzato dall'Associazione NocerAttiva
DESCRIPTION:Partecipa il Presidente Antonio Ferraioli \nAnnamaria Laurenzano
URL:https://www.confindustria.sa.it/event/convegno-il-futuro-delle-aree-produttive-tra-zes-e-retroportualita-organizzato-dallassociazione-nocerattiva/
LOCATION:Nocera Inferiore – Solania Srl\, zona ind.le Fosso Imperatore
CATEGORIES:Riunioni varie
ATTACH;FMTTYPE=image/gif:https://www.confindustria.sa.it/wp-content/uploads/2022/01/logo-animato-ok.gif
END:VEVENT
BEGIN:VEVENT
DTSTART;TZID=Europe/Helsinki:20220205T093000
DTEND;TZID=Europe/Helsinki:20220205T170000
DTSTAMP:20260422T145854
CREATED:20220114T120010Z
LAST-MODIFIED:20220114T120010Z
UID:72232-1644053400-1644080400@www.confindustria.sa.it
SUMMARY:Convegno \"Il futuro delle aree produttive tra zes e retroportualità\"\, organizzato dall\'Associazione NocerAttiva
DESCRIPTION:Partecipa il Presidente Antonio Ferraioli \nAnnamaria Laurenzano
URL:https://www.confindustria.sa.it/event/convegno-il-futuro-delle-aree-produttive-tra-zes-e-retroportualita-organizzato-dallassociazione-nocerattiva-2/
LOCATION:Nocera Inferiore – Solania Srl\, zona ind.le Fosso Imperatore
CATEGORIES:Riunioni varie
ATTACH;FMTTYPE=image/gif:https://www.confindustria.sa.it/wp-content/uploads/2022/01/logo-animato-ok.gif
END:VEVENT
BEGIN:VEVENT
DTSTART;TZID=Europe/Helsinki:20220205T093000
DTEND;TZID=Europe/Helsinki:20220205T170000
DTSTAMP:20260422T145854
CREATED:20220114T120010Z
LAST-MODIFIED:20220114T120010Z
UID:73255-1644053400-1644080400@www.confindustria.sa.it
SUMMARY:Convegno \"Il futuro delle aree produttive tra zes e retroportualità\"\, organizzato dall\'Associazione NocerAttiva
DESCRIPTION:Partecipa il Presidente Antonio Ferraioli \nAnnamaria Laurenzano
URL:https://www.confindustria.sa.it/event/convegno-il-futuro-delle-aree-produttive-tra-zes-e-retroportualita-organizzato-dallassociazione-nocerattiva-3/
LOCATION:Nocera Inferiore – Solania Srl\, zona ind.le Fosso Imperatore
CATEGORIES:Riunioni varie
ATTACH;FMTTYPE=image/gif:https://www.confindustria.sa.it/wp-content/uploads/2022/01/logo-animato-ok.gif
END:VEVENT
END:VCALENDAR