BEGIN:VCALENDAR
VERSION:2.0
PRODID:-//Confindustria Salerno - ECPv6.6.3//NONSGML v1.0//EN
CALSCALE:GREGORIAN
METHOD:PUBLISH
X-ORIGINAL-URL:https://www.confindustria.sa.it
X-WR-CALDESC:Eventi per Confindustria Salerno
REFRESH-INTERVAL;VALUE=DURATION:PT1H
X-Robots-Tag:noindex
X-PUBLISHED-TTL:PT1H
BEGIN:VTIMEZONE
TZID:Europe/Helsinki
BEGIN:DAYLIGHT
TZOFFSETFROM:+0200
TZOFFSETTO:+0300
TZNAME:EEST
DTSTART:20220327T010000
END:DAYLIGHT
BEGIN:STANDARD
TZOFFSETFROM:+0300
TZOFFSETTO:+0200
TZNAME:EET
DTSTART:20221030T010000
END:STANDARD
END:VTIMEZONE
BEGIN:VEVENT
DTSTART;TZID=Europe/Helsinki:20220204T153000
DTEND;TZID=Europe/Helsinki:20220204T170000
DTSTAMP:20260422T150133
CREATED:20220127T131438Z
LAST-MODIFIED:20220127T131438Z
UID:43755-1643988600-1643994000@www.confindustria.sa.it
SUMMARY:Riunione da sviluppare in collaborazione con Campania DIH
DESCRIPTION:Partecipano i presidente Marco Gambardella e Francesco Serravalle \nAnnamaria Laurenzano
URL:https://www.confindustria.sa.it/event/riunione-da-sviluppare-in-collaborazione-con-campania-dih/
LOCATION:Sede – Sala Biblioteca
CATEGORIES:Riunioni varie
ATTACH;FMTTYPE=image/jpeg:https://www.confindustria.sa.it/wp-content/uploads/2020/06/AQ-1.jpg
END:VEVENT
BEGIN:VEVENT
DTSTART;TZID=Europe/Helsinki:20220204T153000
DTEND;TZID=Europe/Helsinki:20220204T170000
DTSTAMP:20260422T150133
CREATED:20220127T131438Z
LAST-MODIFIED:20220127T131438Z
UID:72241-1643988600-1643994000@www.confindustria.sa.it
SUMMARY:Riunione da sviluppare in collaborazione con Campania DIH
DESCRIPTION:Partecipano i presidente Marco Gambardella e Francesco Serravalle \nAnnamaria Laurenzano
URL:https://www.confindustria.sa.it/event/riunione-da-sviluppare-in-collaborazione-con-campania-dih-2/
LOCATION:Sede – Sala Biblioteca
CATEGORIES:Riunioni varie
ATTACH;FMTTYPE=image/jpeg:https://www.confindustria.sa.it/wp-content/uploads/2020/06/AQ-1.jpg
END:VEVENT
BEGIN:VEVENT
DTSTART;TZID=Europe/Helsinki:20220204T153000
DTEND;TZID=Europe/Helsinki:20220204T170000
DTSTAMP:20260422T150133
CREATED:20220127T131438Z
LAST-MODIFIED:20220127T131438Z
UID:73264-1643988600-1643994000@www.confindustria.sa.it
SUMMARY:Riunione da sviluppare in collaborazione con Campania DIH
DESCRIPTION:Partecipano i presidente Marco Gambardella e Francesco Serravalle \nAnnamaria Laurenzano
URL:https://www.confindustria.sa.it/event/riunione-da-sviluppare-in-collaborazione-con-campania-dih-3/
LOCATION:Sede – Sala Biblioteca
CATEGORIES:Riunioni varie
ATTACH;FMTTYPE=image/jpeg:https://www.confindustria.sa.it/wp-content/uploads/2020/06/AQ-1.jpg
END:VEVENT
END:VCALENDAR