BEGIN:VCALENDAR
VERSION:2.0
PRODID:-//Confindustria Salerno - ECPv6.6.3//NONSGML v1.0//EN
CALSCALE:GREGORIAN
METHOD:PUBLISH
X-ORIGINAL-URL:https://www.confindustria.sa.it
X-WR-CALDESC:Eventi per Confindustria Salerno
REFRESH-INTERVAL;VALUE=DURATION:PT1H
X-Robots-Tag:noindex
X-PUBLISHED-TTL:PT1H
BEGIN:VTIMEZONE
TZID:Europe/Helsinki
BEGIN:DAYLIGHT
TZOFFSETFROM:+0200
TZOFFSETTO:+0300
TZNAME:EEST
DTSTART:20220327T010000
END:DAYLIGHT
BEGIN:STANDARD
TZOFFSETFROM:+0300
TZOFFSETTO:+0200
TZNAME:EET
DTSTART:20221030T010000
END:STANDARD
END:VTIMEZONE
BEGIN:VEVENT
DTSTART;TZID=Europe/Helsinki:20220203T110000
DTEND;TZID=Europe/Helsinki:20220203T130000
DTSTAMP:20260422T150129
CREATED:20220127T170226Z
LAST-MODIFIED:20220127T170226Z
UID:73266-1643886000-1643893200@www.confindustria.sa.it
SUMMARY:Cabina di Regia PIP
DESCRIPTION:Partecipa Lina Piccolo \nAnnamaria Laurenzano
URL:https://www.confindustria.sa.it/event/cabina-di-regia-pip-3/
LOCATION:Sarno – Comune\, Area Consiliare
CATEGORIES:Riunioni varie
ATTACH;FMTTYPE=image/png:https://www.confindustria.sa.it/wp-content/uploads/2022/01/stemmastilizzato.png
END:VEVENT
BEGIN:VEVENT
DTSTART;TZID=Europe/Helsinki:20220203T110000
DTEND;TZID=Europe/Helsinki:20220203T130000
DTSTAMP:20260422T150129
CREATED:20220127T170226Z
LAST-MODIFIED:20220127T170226Z
UID:43781-1643886000-1643893200@www.confindustria.sa.it
SUMMARY:Cabina di Regia PIP
DESCRIPTION:Partecipa Lina Piccolo \nAnnamaria Laurenzano
URL:https://www.confindustria.sa.it/event/cabina-di-regia-pip/
LOCATION:Sarno – Comune\, Area Consiliare
CATEGORIES:Riunioni varie
ATTACH;FMTTYPE=image/png:https://www.confindustria.sa.it/wp-content/uploads/2022/01/stemmastilizzato.png
END:VEVENT
BEGIN:VEVENT
DTSTART;TZID=Europe/Helsinki:20220203T110000
DTEND;TZID=Europe/Helsinki:20220203T130000
DTSTAMP:20260422T150129
CREATED:20220127T170226Z
LAST-MODIFIED:20220127T170226Z
UID:72243-1643886000-1643893200@www.confindustria.sa.it
SUMMARY:Cabina di Regia PIP
DESCRIPTION:Partecipa Lina Piccolo \nAnnamaria Laurenzano
URL:https://www.confindustria.sa.it/event/cabina-di-regia-pip-2/
LOCATION:Sarno – Comune\, Area Consiliare
CATEGORIES:Riunioni varie
ATTACH;FMTTYPE=image/png:https://www.confindustria.sa.it/wp-content/uploads/2022/01/stemmastilizzato.png
END:VEVENT
BEGIN:VEVENT
DTSTART;TZID=Europe/Helsinki:20220203T120000
DTEND;TZID=Europe/Helsinki:20220203T133000
DTSTAMP:20260422T150129
CREATED:20220127T130329Z
LAST-MODIFIED:20220127T130329Z
UID:73263-1643889600-1643895000@www.confindustria.sa.it
SUMMARY:Comitato di Presidenza CSIT\, da remoto
DESCRIPTION:Partecipa Edoardo Gisolfi \nAnnamaria Laurenzano
URL:https://www.confindustria.sa.it/event/comitato-di-presidenza-csit-da-remoto-3/
LOCATION:Roma – Confindustria Servizi Innovativi e Tecnologici\, via Barberini 3
CATEGORIES:Riunioni varie
ATTACH;FMTTYPE=image/jpeg:https://www.confindustria.sa.it/wp-content/uploads/2022/01/LOGO-ConfindustriaSIT-Conv.-PANTONE-280-SOLID-C-300x74-1.jpg
END:VEVENT
BEGIN:VEVENT
DTSTART;TZID=Europe/Helsinki:20220203T120000
DTEND;TZID=Europe/Helsinki:20220203T133000
DTSTAMP:20260422T150129
CREATED:20220127T130329Z
LAST-MODIFIED:20220127T130329Z
UID:43753-1643889600-1643895000@www.confindustria.sa.it
SUMMARY:Comitato di Presidenza CSIT\, da remoto
DESCRIPTION:Partecipa Edoardo Gisolfi \nAnnamaria Laurenzano
URL:https://www.confindustria.sa.it/event/comitato-di-presidenza-csit-da-remoto/
LOCATION:Roma – Confindustria Servizi Innovativi e Tecnologici\, via Barberini 3
CATEGORIES:Riunioni varie
ATTACH;FMTTYPE=image/jpeg:https://www.confindustria.sa.it/wp-content/uploads/2022/01/LOGO-ConfindustriaSIT-Conv.-PANTONE-280-SOLID-C-300x74-1.jpg
END:VEVENT
BEGIN:VEVENT
DTSTART;TZID=Europe/Helsinki:20220203T120000
DTEND;TZID=Europe/Helsinki:20220203T133000
DTSTAMP:20260422T150129
CREATED:20220127T130329Z
LAST-MODIFIED:20220127T130329Z
UID:72240-1643889600-1643895000@www.confindustria.sa.it
SUMMARY:Comitato di Presidenza CSIT\, da remoto
DESCRIPTION:Partecipa Edoardo Gisolfi \nAnnamaria Laurenzano
URL:https://www.confindustria.sa.it/event/comitato-di-presidenza-csit-da-remoto-2/
LOCATION:Roma – Confindustria Servizi Innovativi e Tecnologici\, via Barberini 3
CATEGORIES:Riunioni varie
ATTACH;FMTTYPE=image/jpeg:https://www.confindustria.sa.it/wp-content/uploads/2022/01/LOGO-ConfindustriaSIT-Conv.-PANTONE-280-SOLID-C-300x74-1.jpg
END:VEVENT
BEGIN:VEVENT
DTSTART;TZID=Europe/Helsinki:20220203T150000
DTEND;TZID=Europe/Helsinki:20220203T170000
DTSTAMP:20260422T150129
CREATED:20220126T104429Z
LAST-MODIFIED:20220126T104429Z
UID:43614-1643900400-1643907600@www.confindustria.sa.it
SUMMARY:Comitato di Presidenza CNCT\, da remoto
DESCRIPTION:Partecipa il Presidente CNCT\, Edoardo Gisolfi \nAnnamaria Laurenzano
URL:https://www.confindustria.sa.it/event/comitato-di-presidenza-cnct-da-remoto/
LOCATION:Roma – Confindustria Servizi Innovativi e Tecnologici\, via Barberini 3
CATEGORIES:Riunioni varie
ATTACH;FMTTYPE=image/jpeg:https://www.confindustria.sa.it/wp-content/uploads/2022/01/LOGO-ConfindustriaSIT-Conv.-PANTONE-280-SOLID-C-300x74-1.jpg
END:VEVENT
BEGIN:VEVENT
DTSTART;TZID=Europe/Helsinki:20220203T150000
DTEND;TZID=Europe/Helsinki:20220203T170000
DTSTAMP:20260422T150129
CREATED:20220126T104429Z
LAST-MODIFIED:20220126T104429Z
UID:72238-1643900400-1643907600@www.confindustria.sa.it
SUMMARY:Comitato di Presidenza CNCT\, da remoto
DESCRIPTION:Partecipa il Presidente CNCT\, Edoardo Gisolfi \nAnnamaria Laurenzano
URL:https://www.confindustria.sa.it/event/comitato-di-presidenza-cnct-da-remoto-2/
LOCATION:Roma – Confindustria Servizi Innovativi e Tecnologici\, via Barberini 3
CATEGORIES:Riunioni varie
ATTACH;FMTTYPE=image/jpeg:https://www.confindustria.sa.it/wp-content/uploads/2022/01/LOGO-ConfindustriaSIT-Conv.-PANTONE-280-SOLID-C-300x74-1.jpg
END:VEVENT
BEGIN:VEVENT
DTSTART;TZID=Europe/Helsinki:20220203T150000
DTEND;TZID=Europe/Helsinki:20220203T170000
DTSTAMP:20260422T150129
CREATED:20220126T104429Z
LAST-MODIFIED:20220126T104429Z
UID:73261-1643900400-1643907600@www.confindustria.sa.it
SUMMARY:Comitato di Presidenza CNCT\, da remoto
DESCRIPTION:Partecipa il Presidente CNCT\, Edoardo Gisolfi \nAnnamaria Laurenzano
URL:https://www.confindustria.sa.it/event/comitato-di-presidenza-cnct-da-remoto-3/
LOCATION:Roma – Confindustria Servizi Innovativi e Tecnologici\, via Barberini 3
CATEGORIES:Riunioni varie
ATTACH;FMTTYPE=image/jpeg:https://www.confindustria.sa.it/wp-content/uploads/2022/01/LOGO-ConfindustriaSIT-Conv.-PANTONE-280-SOLID-C-300x74-1.jpg
END:VEVENT
END:VCALENDAR