BEGIN:VCALENDAR
VERSION:2.0
PRODID:-//Confindustria Salerno - ECPv6.6.3//NONSGML v1.0//EN
CALSCALE:GREGORIAN
METHOD:PUBLISH
X-WR-CALNAME:Confindustria Salerno
X-ORIGINAL-URL:https://www.confindustria.sa.it
X-WR-CALDESC:Eventi per Confindustria Salerno
REFRESH-INTERVAL;VALUE=DURATION:PT1H
X-Robots-Tag:noindex
X-PUBLISHED-TTL:PT1H
BEGIN:VTIMEZONE
TZID:Europe/Helsinki
BEGIN:DAYLIGHT
TZOFFSETFROM:+0200
TZOFFSETTO:+0300
TZNAME:EEST
DTSTART:20220327T010000
END:DAYLIGHT
BEGIN:STANDARD
TZOFFSETFROM:+0300
TZOFFSETTO:+0200
TZNAME:EET
DTSTART:20221030T010000
END:STANDARD
END:VTIMEZONE
BEGIN:VEVENT
DTSTART;TZID=Europe/Helsinki:20220202T080000
DTEND;TZID=Europe/Helsinki:20220202T170000
DTSTAMP:20260422T145856
CREATED:20220120T104948Z
LAST-MODIFIED:20220120T104948Z
UID:73256-1643788800-1643821200@www.confindustria.sa.it
SUMMARY:Comitato Direttivo Piccola Industria di Confindustria Campania
DESCRIPTION:partecipa (L. Piccolo) \nAnnamaria Laurenzano
URL:https://www.confindustria.sa.it/event/comitato-direttivo-piccola-industria-di-confindustria-campania-3/
CATEGORIES:Riunioni varie
ATTACH;FMTTYPE=image/jpeg:https://www.confindustria.sa.it/wp-content/uploads/2020/07/piccola-1.jpg
END:VEVENT
BEGIN:VEVENT
DTSTART;TZID=Europe/Helsinki:20220202T080000
DTEND;TZID=Europe/Helsinki:20220202T170000
DTSTAMP:20260422T145856
CREATED:20220120T104948Z
LAST-MODIFIED:20220120T104948Z
UID:43302-1643788800-1643821200@www.confindustria.sa.it
SUMMARY:Comitato Direttivo Piccola Industria di Confindustria Campania
DESCRIPTION:partecipa (L. Piccolo) \nAnnamaria Laurenzano
URL:https://www.confindustria.sa.it/event/comitato-direttivo-piccola-industria-di-confindustria-campania/
CATEGORIES:Riunioni varie
ATTACH;FMTTYPE=image/jpeg:https://www.confindustria.sa.it/wp-content/uploads/2020/07/piccola-1.jpg
END:VEVENT
BEGIN:VEVENT
DTSTART;TZID=Europe/Helsinki:20220202T080000
DTEND;TZID=Europe/Helsinki:20220202T170000
DTSTAMP:20260422T145856
CREATED:20220120T104948Z
LAST-MODIFIED:20220120T104948Z
UID:72233-1643788800-1643821200@www.confindustria.sa.it
SUMMARY:Comitato Direttivo Piccola Industria di Confindustria Campania
DESCRIPTION:partecipa (L. Piccolo) \nAnnamaria Laurenzano
URL:https://www.confindustria.sa.it/event/comitato-direttivo-piccola-industria-di-confindustria-campania-2/
CATEGORIES:Riunioni varie
ATTACH;FMTTYPE=image/jpeg:https://www.confindustria.sa.it/wp-content/uploads/2020/07/piccola-1.jpg
END:VEVENT
BEGIN:VEVENT
DTSTART;TZID=Europe/Helsinki:20220202T150000
DTEND;TZID=Europe/Helsinki:20220202T173000
DTSTAMP:20260422T145856
CREATED:20220127T132021Z
LAST-MODIFIED:20220127T132021Z
UID:72242-1643814000-1643823000@www.confindustria.sa.it
SUMMARY:Riunione con il presidente dell\'ASI su digitalizzazione aree industriali
DESCRIPTION:Partecipa il Presidente GI\, Marco Gambardella \nAnnamaria Laurenzano
URL:https://www.confindustria.sa.it/event/riunione-con-il-presidente-dellasi-su-digitalizzazione-aree-industriali-2/
LOCATION:sede – sala biblioteca
CATEGORIES:Riunioni varie
ATTACH;FMTTYPE=image/jpeg:https://www.confindustria.sa.it/wp-content/uploads/2020/06/AQ.jpg
END:VEVENT
BEGIN:VEVENT
DTSTART;TZID=Europe/Helsinki:20220202T150000
DTEND;TZID=Europe/Helsinki:20220202T173000
DTSTAMP:20260422T145856
CREATED:20220127T132021Z
LAST-MODIFIED:20220127T132021Z
UID:73265-1643814000-1643823000@www.confindustria.sa.it
SUMMARY:Riunione con il presidente dell\'ASI su digitalizzazione aree industriali
DESCRIPTION:Partecipa il Presidente GI\, Marco Gambardella \nAnnamaria Laurenzano
URL:https://www.confindustria.sa.it/event/riunione-con-il-presidente-dellasi-su-digitalizzazione-aree-industriali-3/
LOCATION:sede – sala biblioteca
CATEGORIES:Riunioni varie
ATTACH;FMTTYPE=image/jpeg:https://www.confindustria.sa.it/wp-content/uploads/2020/06/AQ.jpg
END:VEVENT
BEGIN:VEVENT
DTSTART;TZID=Europe/Helsinki:20220202T150000
DTEND;TZID=Europe/Helsinki:20220202T173000
DTSTAMP:20260422T145856
CREATED:20220127T132021Z
LAST-MODIFIED:20220127T132021Z
UID:43758-1643814000-1643823000@www.confindustria.sa.it
SUMMARY:Riunione con il presidente dell'ASI su digitalizzazione aree industriali
DESCRIPTION:Partecipa il Presidente GI\, Marco Gambardella \nAnnamaria Laurenzano
URL:https://www.confindustria.sa.it/event/riunione-con-il-presidente-dellasi-su-digitalizzazione-aree-industriali/
LOCATION:sede – sala biblioteca
CATEGORIES:Riunioni varie
ATTACH;FMTTYPE=image/jpeg:https://www.confindustria.sa.it/wp-content/uploads/2020/06/AQ.jpg
END:VEVENT
END:VCALENDAR