BEGIN:VCALENDAR
VERSION:2.0
PRODID:-//Confindustria Salerno - ECPv6.6.3//NONSGML v1.0//EN
CALSCALE:GREGORIAN
METHOD:PUBLISH
X-WR-CALNAME:Confindustria Salerno
X-ORIGINAL-URL:https://www.confindustria.sa.it
X-WR-CALDESC:Eventi per Confindustria Salerno
REFRESH-INTERVAL;VALUE=DURATION:PT1H
X-Robots-Tag:noindex
X-PUBLISHED-TTL:PT1H
BEGIN:VTIMEZONE
TZID:Europe/Helsinki
BEGIN:DAYLIGHT
TZOFFSETFROM:+0200
TZOFFSETTO:+0300
TZNAME:EEST
DTSTART:20220327T010000
END:DAYLIGHT
BEGIN:STANDARD
TZOFFSETFROM:+0300
TZOFFSETTO:+0200
TZNAME:EET
DTSTART:20221030T010000
END:STANDARD
END:VTIMEZONE
BEGIN:VEVENT
DTSTART;TZID=Europe/Helsinki:20220127T143000
DTEND;TZID=Europe/Helsinki:20220127T170000
DTSTAMP:20260422T164344
CREATED:20220124T171722Z
LAST-MODIFIED:20220124T171722Z
UID:43531-1643293800-1643302800@www.confindustria.sa.it
SUMMARY:Assemblea ordinaria di Confindustria Assafrica & Mediterraneo
DESCRIPTION:(in videoconferenza)  \npartecipa la vicepresidente delegata all’internazionalizzazione (S.Rinaldi) \nAnnamaria Laurenzano
URL:https://www.confindustria.sa.it/event/assemblea-ordinaria-di-confindustria-assafrica-mediterraneo/
CATEGORIES:Riunioni varie
END:VEVENT
BEGIN:VEVENT
DTSTART;TZID=Europe/Helsinki:20220127T143000
DTEND;TZID=Europe/Helsinki:20220127T170000
DTSTAMP:20260422T164344
CREATED:20220124T171722Z
LAST-MODIFIED:20220124T171722Z
UID:72235-1643293800-1643302800@www.confindustria.sa.it
SUMMARY:Assemblea ordinaria di Confindustria Assafrica & Mediterraneo
DESCRIPTION:(in videoconferenza)  \npartecipa la vicepresidente delegata all\’internazionalizzazione (S.Rinaldi) \nAnnamaria Laurenzano
URL:https://www.confindustria.sa.it/event/assemblea-ordinaria-di-confindustria-assafrica-mediterraneo-2/
CATEGORIES:Riunioni varie
END:VEVENT
BEGIN:VEVENT
DTSTART;TZID=Europe/Helsinki:20220127T143000
DTEND;TZID=Europe/Helsinki:20220127T170000
DTSTAMP:20260422T164344
CREATED:20220124T171722Z
LAST-MODIFIED:20220124T171722Z
UID:73258-1643293800-1643302800@www.confindustria.sa.it
SUMMARY:Assemblea ordinaria di Confindustria Assafrica & Mediterraneo
DESCRIPTION:(in videoconferenza)  \npartecipa la vicepresidente delegata all\’internazionalizzazione (S.Rinaldi) \nAnnamaria Laurenzano
URL:https://www.confindustria.sa.it/event/assemblea-ordinaria-di-confindustria-assafrica-mediterraneo-3/
CATEGORIES:Riunioni varie
END:VEVENT
BEGIN:VEVENT
DTSTART;TZID=Europe/Helsinki:20220127T150000
DTEND;TZID=Europe/Helsinki:20220127T170000
DTSTAMP:20260422T164344
CREATED:20220124T171855Z
LAST-MODIFIED:20220124T171855Z
UID:73259-1643295600-1643302800@www.confindustria.sa.it
SUMMARY:Riunione allargata Consiglio Centrale Piccola Industria
DESCRIPTION:(in modalità ibrida. In presenza presso Confindustria) \npartecipa la presidente del Comitato Piccola Industria L.Piccolo \nAnnamaria Laurenzano
URL:https://www.confindustria.sa.it/event/riunione-allargata-consiglio-centrale-piccola-industria-2-3/
LOCATION:Roma – Confindustria
CATEGORIES:Riunioni varie
ATTACH;FMTTYPE=image/jpeg:https://www.confindustria.sa.it/wp-content/uploads/2020/07/piccola.jpg
END:VEVENT
BEGIN:VEVENT
DTSTART;TZID=Europe/Helsinki:20220127T150000
DTEND;TZID=Europe/Helsinki:20220127T170000
DTSTAMP:20260422T164344
CREATED:20220124T171855Z
LAST-MODIFIED:20220124T171855Z
UID:43533-1643295600-1643302800@www.confindustria.sa.it
SUMMARY:Riunione allargata Consiglio Centrale Piccola Industria
DESCRIPTION:(in modalità ibrida. In presenza presso Confindustria) \npartecipa la presidente del Comitato Piccola Industria L.Piccolo \nAnnamaria Laurenzano
URL:https://www.confindustria.sa.it/event/riunione-allargata-consiglio-centrale-piccola-industria-2/
LOCATION:Roma – Confindustria
CATEGORIES:Riunioni varie
ATTACH;FMTTYPE=image/jpeg:https://www.confindustria.sa.it/wp-content/uploads/2020/07/piccola.jpg
END:VEVENT
BEGIN:VEVENT
DTSTART;TZID=Europe/Helsinki:20220127T150000
DTEND;TZID=Europe/Helsinki:20220127T170000
DTSTAMP:20260422T164344
CREATED:20220124T171855Z
LAST-MODIFIED:20220124T171855Z
UID:72236-1643295600-1643302800@www.confindustria.sa.it
SUMMARY:Riunione allargata Consiglio Centrale Piccola Industria
DESCRIPTION:(in modalità ibrida. In presenza presso Confindustria) \npartecipa la presidente del Comitato Piccola Industria L.Piccolo \nAnnamaria Laurenzano
URL:https://www.confindustria.sa.it/event/riunione-allargata-consiglio-centrale-piccola-industria-2-2/
LOCATION:Roma – Confindustria
CATEGORIES:Riunioni varie
ATTACH;FMTTYPE=image/jpeg:https://www.confindustria.sa.it/wp-content/uploads/2020/07/piccola.jpg
END:VEVENT
END:VCALENDAR