BEGIN:VCALENDAR
VERSION:2.0
PRODID:-//Confindustria Salerno - ECPv6.6.3//NONSGML v1.0//EN
CALSCALE:GREGORIAN
METHOD:PUBLISH
X-WR-CALNAME:Confindustria Salerno
X-ORIGINAL-URL:https://www.confindustria.sa.it
X-WR-CALDESC:Eventi per Confindustria Salerno
REFRESH-INTERVAL;VALUE=DURATION:PT1H
X-Robots-Tag:noindex
X-PUBLISHED-TTL:PT1H
BEGIN:VTIMEZONE
TZID:Europe/Helsinki
BEGIN:DAYLIGHT
TZOFFSETFROM:+0200
TZOFFSETTO:+0300
TZNAME:EEST
DTSTART:20210328T010000
END:DAYLIGHT
BEGIN:STANDARD
TZOFFSETFROM:+0300
TZOFFSETTO:+0200
TZNAME:EET
DTSTART:20211031T010000
END:STANDARD
END:VTIMEZONE
BEGIN:VEVENT
DTSTART;TZID=Europe/Helsinki:20211222T100000
DTEND;TZID=Europe/Helsinki:20211222T113000
DTSTAMP:20260422T181312
CREATED:20211220T165031Z
LAST-MODIFIED:20211220T165031Z
UID:42373-1640167200-1640172600@www.confindustria.sa.it
SUMMARY:Riunione di approfondimento della proposta di  Piano Regionale per la Gestione dei Rifiuti Speciali della Campania
DESCRIPTION:partecipa L. Piccolo \nda remoto \nAnnamaria Laurenzano
URL:https://www.confindustria.sa.it/event/riunione-di-approfondimento-della-proposta-di-piano-regionale-per-la-gestione-dei-rifiuti-speciali-della-campania/
CATEGORIES:Riunioni varie
ATTACH;FMTTYPE=image/png:https://www.confindustria.sa.it/wp-content/uploads/2020/07/LogoConfindustria1-1.png
END:VEVENT
BEGIN:VEVENT
DTSTART;TZID=Europe/Helsinki:20211222T100000
DTEND;TZID=Europe/Helsinki:20211222T113000
DTSTAMP:20260422T181312
CREATED:20211220T165031Z
LAST-MODIFIED:20211220T165031Z
UID:72221-1640167200-1640172600@www.confindustria.sa.it
SUMMARY:Riunione di approfondimento della proposta di  Piano Regionale per la Gestione dei Rifiuti Speciali della Campania
DESCRIPTION:partecipa L. Piccolo \nda remoto \nAnnamaria Laurenzano
URL:https://www.confindustria.sa.it/event/riunione-di-approfondimento-della-proposta-di-piano-regionale-per-la-gestione-dei-rifiuti-speciali-della-campania-2/
CATEGORIES:Riunioni varie
ATTACH;FMTTYPE=image/png:https://www.confindustria.sa.it/wp-content/uploads/2020/07/LogoConfindustria1-1.png
END:VEVENT
BEGIN:VEVENT
DTSTART;TZID=Europe/Helsinki:20211222T100000
DTEND;TZID=Europe/Helsinki:20211222T113000
DTSTAMP:20260422T181312
CREATED:20211220T165031Z
LAST-MODIFIED:20211220T165031Z
UID:73244-1640167200-1640172600@www.confindustria.sa.it
SUMMARY:Riunione di approfondimento della proposta di  Piano Regionale per la Gestione dei Rifiuti Speciali della Campania
DESCRIPTION:partecipa L. Piccolo \nda remoto \nAnnamaria Laurenzano
URL:https://www.confindustria.sa.it/event/riunione-di-approfondimento-della-proposta-di-piano-regionale-per-la-gestione-dei-rifiuti-speciali-della-campania-3/
CATEGORIES:Riunioni varie
ATTACH;FMTTYPE=image/png:https://www.confindustria.sa.it/wp-content/uploads/2020/07/LogoConfindustria1-1.png
END:VEVENT
END:VCALENDAR