BEGIN:VCALENDAR
VERSION:2.0
PRODID:-//Confindustria Salerno - ECPv6.6.3//NONSGML v1.0//EN
CALSCALE:GREGORIAN
METHOD:PUBLISH
X-WR-CALNAME:Confindustria Salerno
X-ORIGINAL-URL:https://www.confindustria.sa.it
X-WR-CALDESC:Eventi per Confindustria Salerno
REFRESH-INTERVAL;VALUE=DURATION:PT1H
X-Robots-Tag:noindex
X-PUBLISHED-TTL:PT1H
BEGIN:VTIMEZONE
TZID:Europe/Helsinki
BEGIN:DAYLIGHT
TZOFFSETFROM:+0200
TZOFFSETTO:+0300
TZNAME:EEST
DTSTART:20210328T010000
END:DAYLIGHT
BEGIN:STANDARD
TZOFFSETFROM:+0300
TZOFFSETTO:+0200
TZNAME:EET
DTSTART:20211031T010000
END:STANDARD
END:VTIMEZONE
BEGIN:VEVENT
DTSTART;TZID=Europe/Helsinki:20211221T143000
DTEND;TZID=Europe/Helsinki:20211221T170000
DTSTAMP:20260422T181314
CREATED:20211220T164929Z
LAST-MODIFIED:20211220T164929Z
UID:42370-1640097000-1640106000@www.confindustria.sa.it
SUMMARY:Riunione SURAP centro di competenza regionale  -  sullo schema di guida operativa Autorizzazione Unica Ambientale AUA
DESCRIPTION:a cura di Confindustria Campania \npartecipa L. Piccolo \nAnnamaria Laurenzano
URL:https://www.confindustria.sa.it/event/riunione-surap-centro-di-competenza-regionale-sullo-schema-di-guida-operativa-autorizzazione-unica-ambientale-aua/
LOCATION:da remoto
CATEGORIES:Riunioni varie
END:VEVENT
BEGIN:VEVENT
DTSTART;TZID=Europe/Helsinki:20211221T143000
DTEND;TZID=Europe/Helsinki:20211221T170000
DTSTAMP:20260422T181314
CREATED:20211220T164929Z
LAST-MODIFIED:20211220T164929Z
UID:72220-1640097000-1640106000@www.confindustria.sa.it
SUMMARY:Riunione SURAP centro di competenza regionale  -  sullo schema di guida operativa Autorizzazione Unica Ambientale AUA
DESCRIPTION:a cura di Confindustria Campania \npartecipa L. Piccolo \nAnnamaria Laurenzano
URL:https://www.confindustria.sa.it/event/riunione-surap-centro-di-competenza-regionale-sullo-schema-di-guida-operativa-autorizzazione-unica-ambientale-aua-2/
LOCATION:da remoto
CATEGORIES:Riunioni varie
END:VEVENT
BEGIN:VEVENT
DTSTART;TZID=Europe/Helsinki:20211221T143000
DTEND;TZID=Europe/Helsinki:20211221T170000
DTSTAMP:20260422T181314
CREATED:20211220T164929Z
LAST-MODIFIED:20211220T164929Z
UID:73243-1640097000-1640106000@www.confindustria.sa.it
SUMMARY:Riunione SURAP centro di competenza regionale  -  sullo schema di guida operativa Autorizzazione Unica Ambientale AUA
DESCRIPTION:a cura di Confindustria Campania \npartecipa L. Piccolo \nAnnamaria Laurenzano
URL:https://www.confindustria.sa.it/event/riunione-surap-centro-di-competenza-regionale-sullo-schema-di-guida-operativa-autorizzazione-unica-ambientale-aua-3/
LOCATION:da remoto
CATEGORIES:Riunioni varie
END:VEVENT
END:VCALENDAR