BEGIN:VCALENDAR
VERSION:2.0
PRODID:-//Confindustria Salerno - ECPv6.6.3//NONSGML v1.0//EN
CALSCALE:GREGORIAN
METHOD:PUBLISH
X-ORIGINAL-URL:https://www.confindustria.sa.it
X-WR-CALDESC:Eventi per Confindustria Salerno
REFRESH-INTERVAL;VALUE=DURATION:PT1H
X-Robots-Tag:noindex
X-PUBLISHED-TTL:PT1H
BEGIN:VTIMEZONE
TZID:Europe/Helsinki
BEGIN:DAYLIGHT
TZOFFSETFROM:+0200
TZOFFSETTO:+0300
TZNAME:EEST
DTSTART:20210328T010000
END:DAYLIGHT
BEGIN:STANDARD
TZOFFSETFROM:+0300
TZOFFSETTO:+0200
TZNAME:EET
DTSTART:20211031T010000
END:STANDARD
END:VTIMEZONE
BEGIN:VEVENT
DTSTART;TZID=Europe/Helsinki:20211220T150000
DTEND;TZID=Europe/Helsinki:20211220T170000
DTSTAMP:20260422T181431
CREATED:20211216T170013Z
LAST-MODIFIED:20211216T170013Z
UID:42226-1640012400-1640019600@www.confindustria.sa.it
SUMMARY:Consiglio di Presidenza
DESCRIPTION:Partecipa il Presidente Antonio Ferraioli \nAnnamaria Laurenzano
URL:https://www.confindustria.sa.it/event/consiglio-di-presidenza-11/
LOCATION:sede
CATEGORIES:Riunioni varie
ATTACH;FMTTYPE=image/png:https://www.confindustria.sa.it/wp-content/uploads/2020/07/LogoConfindustria1.png
END:VEVENT
BEGIN:VEVENT
DTSTART;TZID=Europe/Helsinki:20211220T150000
DTEND;TZID=Europe/Helsinki:20211220T170000
DTSTAMP:20260422T181431
CREATED:20211216T170013Z
LAST-MODIFIED:20211216T170013Z
UID:72219-1640012400-1640019600@www.confindustria.sa.it
SUMMARY:Consiglio di Presidenza
DESCRIPTION:Partecipa il Presidente Antonio Ferraioli \nAnnamaria Laurenzano
URL:https://www.confindustria.sa.it/event/consiglio-di-presidenza-11-2/
LOCATION:sede
CATEGORIES:Riunioni varie
ATTACH;FMTTYPE=image/png:https://www.confindustria.sa.it/wp-content/uploads/2020/07/LogoConfindustria1.png
END:VEVENT
BEGIN:VEVENT
DTSTART;TZID=Europe/Helsinki:20211220T150000
DTEND;TZID=Europe/Helsinki:20211220T170000
DTSTAMP:20260422T181431
CREATED:20211216T170013Z
LAST-MODIFIED:20211216T170013Z
UID:73242-1640012400-1640019600@www.confindustria.sa.it
SUMMARY:Consiglio di Presidenza
DESCRIPTION:Partecipa il Presidente Antonio Ferraioli \nAnnamaria Laurenzano
URL:https://www.confindustria.sa.it/event/consiglio-di-presidenza-11-3/
LOCATION:sede
CATEGORIES:Riunioni varie
ATTACH;FMTTYPE=image/png:https://www.confindustria.sa.it/wp-content/uploads/2020/07/LogoConfindustria1.png
END:VEVENT
BEGIN:VEVENT
DTSTART;TZID=Europe/Helsinki:20211220T160000
DTEND;TZID=Europe/Helsinki:20211220T183000
DTSTAMP:20260422T181431
CREATED:20210331T103444Z
LAST-MODIFIED:20211216T170123Z
UID:28165-1640016000-1640025000@www.confindustria.sa.it
SUMMARY:Consiglio Generale
DESCRIPTION:Annamaria Laurenzano
URL:https://www.confindustria.sa.it/event/consiglio-generale-7/
LOCATION:sede
CATEGORIES:Riunioni varie
ATTACH;FMTTYPE=image/jpeg:https://www.confindustria.sa.it/wp-content/uploads/2020/07/logo-confsa.jpg
END:VEVENT
BEGIN:VEVENT
DTSTART;TZID=Europe/Helsinki:20211220T160000
DTEND;TZID=Europe/Helsinki:20211220T183000
DTSTAMP:20260422T181431
CREATED:20210331T103444Z
LAST-MODIFIED:20210331T103444Z
UID:72050-1640016000-1640025000@www.confindustria.sa.it
SUMMARY:Consiglio Generale
DESCRIPTION:Annamaria Laurenzano
URL:https://www.confindustria.sa.it/event/consiglio-generale-7-2/
LOCATION:sede
CATEGORIES:Riunioni varie
ATTACH;FMTTYPE=image/jpeg:https://www.confindustria.sa.it/wp-content/uploads/2020/07/logo-confsa.jpg
END:VEVENT
BEGIN:VEVENT
DTSTART;TZID=Europe/Helsinki:20211220T160000
DTEND;TZID=Europe/Helsinki:20211220T183000
DTSTAMP:20260422T181431
CREATED:20210331T103444Z
LAST-MODIFIED:20210331T103444Z
UID:73073-1640016000-1640025000@www.confindustria.sa.it
SUMMARY:Consiglio Generale
DESCRIPTION:Annamaria Laurenzano
URL:https://www.confindustria.sa.it/event/consiglio-generale-7-3/
LOCATION:sede
CATEGORIES:Riunioni varie
ATTACH;FMTTYPE=image/jpeg:https://www.confindustria.sa.it/wp-content/uploads/2020/07/logo-confsa.jpg
END:VEVENT
END:VCALENDAR