BEGIN:VCALENDAR
VERSION:2.0
PRODID:-//Confindustria Salerno - ECPv6.6.3//NONSGML v1.0//EN
CALSCALE:GREGORIAN
METHOD:PUBLISH
X-WR-CALNAME:Confindustria Salerno
X-ORIGINAL-URL:https://www.confindustria.sa.it
X-WR-CALDESC:Eventi per Confindustria Salerno
REFRESH-INTERVAL;VALUE=DURATION:PT1H
X-Robots-Tag:noindex
X-PUBLISHED-TTL:PT1H
BEGIN:VTIMEZONE
TZID:Europe/Helsinki
BEGIN:DAYLIGHT
TZOFFSETFROM:+0200
TZOFFSETTO:+0300
TZNAME:EEST
DTSTART:20210328T010000
END:DAYLIGHT
BEGIN:STANDARD
TZOFFSETFROM:+0300
TZOFFSETTO:+0200
TZNAME:EET
DTSTART:20211031T010000
END:STANDARD
END:VTIMEZONE
BEGIN:VEVENT
DTSTART;TZID=Europe/Helsinki:20211218T103000
DTEND;TZID=Europe/Helsinki:20211218T130000
DTSTAMP:20260422T181312
CREATED:20211210T115047Z
LAST-MODIFIED:20211210T115047Z
UID:73241-1639823400-1639832400@www.confindustria.sa.it
SUMMARY:Convegno “Comunità generative e resilienti”\, organizzato dall\'Arcidiocesi di Salerno-Campagna-Acerno
DESCRIPTION:Partecipa la Vicepresidente Lina Piccolo \n \nAnnamaria Laurenzano
URL:https://www.confindustria.sa.it/event/convegno-comunita-generative-e-resilienti-3/
LOCATION:Salerno – Sala Conferenze Centro pastorale S. Giuseppe “Parrocchia S. Margherita e S. Nicola del  Pumpulo\, via G. Vestuti
CATEGORIES:Riunioni varie
ATTACH;FMTTYPE=image/png:https://www.confindustria.sa.it/wp-content/uploads/2021/12/header-diocesi-2.png
END:VEVENT
BEGIN:VEVENT
DTSTART;TZID=Europe/Helsinki:20211218T103000
DTEND;TZID=Europe/Helsinki:20211218T130000
DTSTAMP:20260422T181312
CREATED:20211210T115047Z
LAST-MODIFIED:20211210T122048Z
UID:41779-1639823400-1639832400@www.confindustria.sa.it
SUMMARY:Convegno “Comunità generative e resilienti”\, organizzato dall'Arcidiocesi di Salerno-Campagna-Acerno
DESCRIPTION:Partecipa la Vicepresidente Lina Piccolo \n \nAnnamaria Laurenzano
URL:https://www.confindustria.sa.it/event/convegno-comunita-generative-e-resilienti/
LOCATION:Salerno – Sala Conferenze Centro pastorale S. Giuseppe “Parrocchia S. Margherita e S. Nicola del  Pumpulo\, via G. Vestuti
CATEGORIES:Riunioni varie
ATTACH;FMTTYPE=image/png:https://www.confindustria.sa.it/wp-content/uploads/2021/12/header-diocesi-2.png
END:VEVENT
BEGIN:VEVENT
DTSTART;TZID=Europe/Helsinki:20211218T103000
DTEND;TZID=Europe/Helsinki:20211218T130000
DTSTAMP:20260422T181312
CREATED:20211210T115047Z
LAST-MODIFIED:20211210T115047Z
UID:72218-1639823400-1639832400@www.confindustria.sa.it
SUMMARY:Convegno “Comunità generative e resilienti”\, organizzato dall\'Arcidiocesi di Salerno-Campagna-Acerno
DESCRIPTION:Partecipa la Vicepresidente Lina Piccolo \n \nAnnamaria Laurenzano
URL:https://www.confindustria.sa.it/event/convegno-comunita-generative-e-resilienti-2/
LOCATION:Salerno – Sala Conferenze Centro pastorale S. Giuseppe “Parrocchia S. Margherita e S. Nicola del  Pumpulo\, via G. Vestuti
CATEGORIES:Riunioni varie
ATTACH;FMTTYPE=image/png:https://www.confindustria.sa.it/wp-content/uploads/2021/12/header-diocesi-2.png
END:VEVENT
END:VCALENDAR