BEGIN:VCALENDAR
VERSION:2.0
PRODID:-//Confindustria Salerno - ECPv6.6.3//NONSGML v1.0//EN
CALSCALE:GREGORIAN
METHOD:PUBLISH
X-ORIGINAL-URL:https://www.confindustria.sa.it
X-WR-CALDESC:Eventi per Confindustria Salerno
REFRESH-INTERVAL;VALUE=DURATION:PT1H
X-Robots-Tag:noindex
X-PUBLISHED-TTL:PT1H
BEGIN:VTIMEZONE
TZID:Europe/Helsinki
BEGIN:DAYLIGHT
TZOFFSETFROM:+0200
TZOFFSETTO:+0300
TZNAME:EEST
DTSTART:20210328T010000
END:DAYLIGHT
BEGIN:STANDARD
TZOFFSETFROM:+0300
TZOFFSETTO:+0200
TZNAME:EET
DTSTART:20211031T010000
END:STANDARD
END:VTIMEZONE
BEGIN:VEVENT
DTSTART;TZID=Europe/Helsinki:20211214T150000
DTEND;TZID=Europe/Helsinki:20211214T170000
DTSTAMP:20260422T181430
CREATED:20211209T151414Z
LAST-MODIFIED:20211209T151414Z
UID:41752-1639494000-1639501200@www.confindustria.sa.it
SUMMARY:Consiglio Direttivo del Gruppo Metalmeccanico
DESCRIPTION:Partecipa il Presidente Pasquale Gaito \nAnnamaria Laurenzano
URL:https://www.confindustria.sa.it/event/consiglio-direttivo-del-gruppo-metalmeccanico-2/
LOCATION:Sede – Sala Biblioteca
CATEGORIES:Riunioni varie
ATTACH;FMTTYPE=image/png:https://www.confindustria.sa.it/wp-content/uploads/2020/07/LogoConfindustria1.png
END:VEVENT
BEGIN:VEVENT
DTSTART;TZID=Europe/Helsinki:20211214T150000
DTEND;TZID=Europe/Helsinki:20211214T170000
DTSTAMP:20260422T181430
CREATED:20211209T151414Z
LAST-MODIFIED:20211209T151414Z
UID:72216-1639494000-1639501200@www.confindustria.sa.it
SUMMARY:Consiglio Direttivo del Gruppo Metalmeccanico
DESCRIPTION:Partecipa il Presidente Pasquale Gaito \nAnnamaria Laurenzano
URL:https://www.confindustria.sa.it/event/consiglio-direttivo-del-gruppo-metalmeccanico-2-2/
LOCATION:Sede – Sala Biblioteca
CATEGORIES:Riunioni varie
ATTACH;FMTTYPE=image/png:https://www.confindustria.sa.it/wp-content/uploads/2020/07/LogoConfindustria1.png
END:VEVENT
BEGIN:VEVENT
DTSTART;TZID=Europe/Helsinki:20211214T150000
DTEND;TZID=Europe/Helsinki:20211214T170000
DTSTAMP:20260422T181430
CREATED:20211209T151414Z
LAST-MODIFIED:20211209T151414Z
UID:73239-1639494000-1639501200@www.confindustria.sa.it
SUMMARY:Consiglio Direttivo del Gruppo Metalmeccanico
DESCRIPTION:Partecipa il Presidente Pasquale Gaito \nAnnamaria Laurenzano
URL:https://www.confindustria.sa.it/event/consiglio-direttivo-del-gruppo-metalmeccanico-2-3/
LOCATION:Sede – Sala Biblioteca
CATEGORIES:Riunioni varie
ATTACH;FMTTYPE=image/png:https://www.confindustria.sa.it/wp-content/uploads/2020/07/LogoConfindustria1.png
END:VEVENT
END:VCALENDAR