BEGIN:VCALENDAR
VERSION:2.0
PRODID:-//Confindustria Salerno - ECPv6.6.3//NONSGML v1.0//EN
CALSCALE:GREGORIAN
METHOD:PUBLISH
X-ORIGINAL-URL:https://www.confindustria.sa.it
X-WR-CALDESC:Eventi per Confindustria Salerno
REFRESH-INTERVAL;VALUE=DURATION:PT1H
X-Robots-Tag:noindex
X-PUBLISHED-TTL:PT1H
BEGIN:VTIMEZONE
TZID:Europe/Helsinki
BEGIN:DAYLIGHT
TZOFFSETFROM:+0200
TZOFFSETTO:+0300
TZNAME:EEST
DTSTART:20210328T010000
END:DAYLIGHT
BEGIN:STANDARD
TZOFFSETFROM:+0300
TZOFFSETTO:+0200
TZNAME:EET
DTSTART:20211031T010000
END:STANDARD
END:VTIMEZONE
BEGIN:VEVENT
DTSTART;TZID=Europe/Helsinki:20211130T103000
DTEND;TZID=Europe/Helsinki:20211130T123000
DTSTAMP:20260422T181431
CREATED:20211123T172438Z
LAST-MODIFIED:20211123T172438Z
UID:40832-1638268200-1638275400@www.confindustria.sa.it
SUMMARY:Consiglio Centrale Piccola Industria
DESCRIPTION:Partecipa il Presidente del Comitato Piccola Industria\, Lina Piccolo \nAnnamaria Laurenzano
URL:https://www.confindustria.sa.it/event/consiglio-centrale-piccola-industria-5/
LOCATION:Roma – Confindustria\, Viale dell’Astronomia 30 – Sala Pininfarina
CATEGORIES:Riunioni varie
ATTACH;FMTTYPE=image/jpeg:https://www.confindustria.sa.it/wp-content/uploads/2020/03/1confindustria_images_annafabi_thumb_medium256_192.jpg
END:VEVENT
BEGIN:VEVENT
DTSTART;TZID=Europe/Helsinki:20211130T103000
DTEND;TZID=Europe/Helsinki:20211130T123000
DTSTAMP:20260422T181431
CREATED:20211123T172438Z
LAST-MODIFIED:20211123T172438Z
UID:72207-1638268200-1638275400@www.confindustria.sa.it
SUMMARY:Consiglio Centrale Piccola Industria
DESCRIPTION:Partecipa il Presidente del Comitato Piccola Industria\, Lina Piccolo \nAnnamaria Laurenzano
URL:https://www.confindustria.sa.it/event/consiglio-centrale-piccola-industria-5-2/
LOCATION:Roma – Confindustria\, Viale dell’Astronomia 30 – Sala Pininfarina
CATEGORIES:Riunioni varie
ATTACH;FMTTYPE=image/jpeg:https://www.confindustria.sa.it/wp-content/uploads/2020/03/1confindustria_images_annafabi_thumb_medium256_192.jpg
END:VEVENT
BEGIN:VEVENT
DTSTART;TZID=Europe/Helsinki:20211130T103000
DTEND;TZID=Europe/Helsinki:20211130T123000
DTSTAMP:20260422T181431
CREATED:20211123T172438Z
LAST-MODIFIED:20211123T172438Z
UID:73230-1638268200-1638275400@www.confindustria.sa.it
SUMMARY:Consiglio Centrale Piccola Industria
DESCRIPTION:Partecipa il Presidente del Comitato Piccola Industria\, Lina Piccolo \nAnnamaria Laurenzano
URL:https://www.confindustria.sa.it/event/consiglio-centrale-piccola-industria-5-3/
LOCATION:Roma – Confindustria\, Viale dell’Astronomia 30 – Sala Pininfarina
CATEGORIES:Riunioni varie
ATTACH;FMTTYPE=image/jpeg:https://www.confindustria.sa.it/wp-content/uploads/2020/03/1confindustria_images_annafabi_thumb_medium256_192.jpg
END:VEVENT
BEGIN:VEVENT
DTSTART;TZID=Europe/Helsinki:20211130T113000
DTEND;TZID=Europe/Helsinki:20211130T133000
DTSTAMP:20260422T181431
CREATED:20211118T104924Z
LAST-MODIFIED:20211118T105133Z
UID:40519-1638271800-1638279000@www.confindustria.sa.it
SUMMARY:Forum delle Economie - "Vino e Turismo: trasformare le potenzialità in opportunità per la valorizzazione del territorio"
DESCRIPTION:Partecipa il Presidente del Gruppo Turismo\, Andrea Ferraioli \nAgenda Evento Forum delle Economie UniCredit- VitignoItalia \nAnnamaria Laurenzano
URL:https://www.confindustria.sa.it/event/forum-delle-economie-vino-e-turismo-trasformare-le-potenzialita-in-opportunita-per-la-valorizzazione-del-territorio/
LOCATION:Napoli – Hotel Vesuvio\, Sala Scarlatti
CATEGORIES:Riunioni varie
ATTACH;FMTTYPE=image/png:https://www.confindustria.sa.it/wp-content/uploads/2021/11/logo_header.png
END:VEVENT
BEGIN:VEVENT
DTSTART;TZID=Europe/Helsinki:20211130T113000
DTEND;TZID=Europe/Helsinki:20211130T133000
DTSTAMP:20260422T181431
CREATED:20211118T104924Z
LAST-MODIFIED:20211118T104924Z
UID:72205-1638271800-1638279000@www.confindustria.sa.it
SUMMARY:Forum delle Economie - \"Vino e Turismo: trasformare le potenzialità in opportunità per la valorizzazione del territorio\"
DESCRIPTION:Partecipa il Presidente del Gruppo Turismo\, Andrea Ferraioli \nAgenda Evento Forum delle Economie UniCredit- VitignoItalia \nAnnamaria Laurenzano
URL:https://www.confindustria.sa.it/event/forum-delle-economie-vino-e-turismo-trasformare-le-potenzialita-in-opportunita-per-la-valorizzazione-del-territorio-2/
LOCATION:Napoli – Hotel Vesuvio\, Sala Scarlatti
CATEGORIES:Riunioni varie
ATTACH;FMTTYPE=image/png:https://www.confindustria.sa.it/wp-content/uploads/2021/11/logo_header.png
END:VEVENT
BEGIN:VEVENT
DTSTART;TZID=Europe/Helsinki:20211130T113000
DTEND;TZID=Europe/Helsinki:20211130T133000
DTSTAMP:20260422T181431
CREATED:20211118T104924Z
LAST-MODIFIED:20211118T104924Z
UID:73228-1638271800-1638279000@www.confindustria.sa.it
SUMMARY:Forum delle Economie - \"Vino e Turismo: trasformare le potenzialità in opportunità per la valorizzazione del territorio\"
DESCRIPTION:Partecipa il Presidente del Gruppo Turismo\, Andrea Ferraioli \nAgenda Evento Forum delle Economie UniCredit- VitignoItalia \nAnnamaria Laurenzano
URL:https://www.confindustria.sa.it/event/forum-delle-economie-vino-e-turismo-trasformare-le-potenzialita-in-opportunita-per-la-valorizzazione-del-territorio-3/
LOCATION:Napoli – Hotel Vesuvio\, Sala Scarlatti
CATEGORIES:Riunioni varie
ATTACH;FMTTYPE=image/png:https://www.confindustria.sa.it/wp-content/uploads/2021/11/logo_header.png
END:VEVENT
END:VCALENDAR