BEGIN:VCALENDAR
VERSION:2.0
PRODID:-//Confindustria Salerno - ECPv6.6.3//NONSGML v1.0//EN
CALSCALE:GREGORIAN
METHOD:PUBLISH
X-ORIGINAL-URL:https://www.confindustria.sa.it
X-WR-CALDESC:Eventi per Confindustria Salerno
REFRESH-INTERVAL;VALUE=DURATION:PT1H
X-Robots-Tag:noindex
X-PUBLISHED-TTL:PT1H
BEGIN:VTIMEZONE
TZID:Europe/Helsinki
BEGIN:DAYLIGHT
TZOFFSETFROM:+0200
TZOFFSETTO:+0300
TZNAME:EEST
DTSTART:20210328T010000
END:DAYLIGHT
BEGIN:STANDARD
TZOFFSETFROM:+0300
TZOFFSETTO:+0200
TZNAME:EET
DTSTART:20211031T010000
END:STANDARD
END:VTIMEZONE
BEGIN:VEVENT
DTSTART;TZID=Europe/Helsinki:20211118T150000
DTEND;TZID=Europe/Helsinki:20211118T170000
DTSTAMP:20260422T200236
CREATED:20211112T130544Z
LAST-MODIFIED:20211112T130544Z
UID:40194-1637247600-1637254800@www.confindustria.sa.it
SUMMARY:Consiglio Direttivo del Gruppo Alberghi\, Turismo e Tempo Libero
DESCRIPTION:Partecipa il Presidente Andrea Ferraioli \nAnnamaria Laurenzano
URL:https://www.confindustria.sa.it/event/consiglio-direttivo-del-gruppo-alberghi-turismo-e-tempo-libero-3/
LOCATION:sede – Sala biblioteca
CATEGORIES:Riunioni varie
ATTACH;FMTTYPE=image/png:https://www.confindustria.sa.it/wp-content/uploads/2020/07/LogoConfindustria1.png
END:VEVENT
BEGIN:VEVENT
DTSTART;TZID=Europe/Helsinki:20211118T150000
DTEND;TZID=Europe/Helsinki:20211118T170000
DTSTAMP:20260422T200236
CREATED:20211112T130544Z
LAST-MODIFIED:20211112T130544Z
UID:72203-1637247600-1637254800@www.confindustria.sa.it
SUMMARY:Consiglio Direttivo del Gruppo Alberghi\, Turismo e Tempo Libero
DESCRIPTION:Partecipa il Presidente Andrea Ferraioli \nAnnamaria Laurenzano
URL:https://www.confindustria.sa.it/event/consiglio-direttivo-del-gruppo-alberghi-turismo-e-tempo-libero-3-2/
LOCATION:sede – Sala biblioteca
CATEGORIES:Riunioni varie
ATTACH;FMTTYPE=image/png:https://www.confindustria.sa.it/wp-content/uploads/2020/07/LogoConfindustria1.png
END:VEVENT
BEGIN:VEVENT
DTSTART;TZID=Europe/Helsinki:20211118T150000
DTEND;TZID=Europe/Helsinki:20211118T170000
DTSTAMP:20260422T200236
CREATED:20211112T130544Z
LAST-MODIFIED:20211112T130544Z
UID:73226-1637247600-1637254800@www.confindustria.sa.it
SUMMARY:Consiglio Direttivo del Gruppo Alberghi\, Turismo e Tempo Libero
DESCRIPTION:Partecipa il Presidente Andrea Ferraioli \nAnnamaria Laurenzano
URL:https://www.confindustria.sa.it/event/consiglio-direttivo-del-gruppo-alberghi-turismo-e-tempo-libero-3-3/
LOCATION:sede – Sala biblioteca
CATEGORIES:Riunioni varie
ATTACH;FMTTYPE=image/png:https://www.confindustria.sa.it/wp-content/uploads/2020/07/LogoConfindustria1.png
END:VEVENT
END:VCALENDAR