BEGIN:VCALENDAR
VERSION:2.0
PRODID:-//Confindustria Salerno - ECPv6.6.3//NONSGML v1.0//EN
CALSCALE:GREGORIAN
METHOD:PUBLISH
X-ORIGINAL-URL:https://www.confindustria.sa.it
X-WR-CALDESC:Eventi per Confindustria Salerno
REFRESH-INTERVAL;VALUE=DURATION:PT1H
X-Robots-Tag:noindex
X-PUBLISHED-TTL:PT1H
BEGIN:VTIMEZONE
TZID:Europe/Helsinki
BEGIN:DAYLIGHT
TZOFFSETFROM:+0200
TZOFFSETTO:+0300
TZNAME:EEST
DTSTART:20210328T010000
END:DAYLIGHT
BEGIN:STANDARD
TZOFFSETFROM:+0300
TZOFFSETTO:+0200
TZNAME:EET
DTSTART:20211031T010000
END:STANDARD
END:VTIMEZONE
BEGIN:VEVENT
DTSTART;TZID=Europe/Helsinki:20211112T120000
DTEND;TZID=Europe/Helsinki:20211112T133000
DTSTAMP:20260422T200236
CREATED:20211103T125610Z
LAST-MODIFIED:20211103T125610Z
UID:39708-1636718400-1636723800@www.confindustria.sa.it
SUMMARY:Webinar “Decreto 231/01 e  modelli organizzativi. Le nuove linee guida di Confindustria per orientare le imprese”
DESCRIPTION:Partecipa il Presidente del Comitato Piccola Industria Lina Piccolo \n \nAnnamaria Laurenzano
URL:https://www.confindustria.sa.it/event/webinar-decreto-231-01-e-modelli-organizzativi-le-nuove-linee-guida-di-confindustria-per-orientare-le-imprese/
LOCATION:Sede – sala biblioteca
CATEGORIES:Riunioni varie
ATTACH;FMTTYPE=image/png:https://www.confindustria.sa.it/wp-content/uploads/2020/07/LogoConfindustria1.png
END:VEVENT
BEGIN:VEVENT
DTSTART;TZID=Europe/Helsinki:20211112T120000
DTEND;TZID=Europe/Helsinki:20211112T133000
DTSTAMP:20260422T200236
CREATED:20211103T125610Z
LAST-MODIFIED:20211103T125610Z
UID:72190-1636718400-1636723800@www.confindustria.sa.it
SUMMARY:Webinar “Decreto 231/01 e  modelli organizzativi. Le nuove linee guida di Confindustria per orientare le imprese”
DESCRIPTION:Partecipa il Presidente del Comitato Piccola Industria Lina Piccolo \n \nAnnamaria Laurenzano
URL:https://www.confindustria.sa.it/event/webinar-decreto-231-01-e-modelli-organizzativi-le-nuove-linee-guida-di-confindustria-per-orientare-le-imprese-2/
LOCATION:Sede – sala biblioteca
CATEGORIES:Riunioni varie
ATTACH;FMTTYPE=image/png:https://www.confindustria.sa.it/wp-content/uploads/2020/07/LogoConfindustria1.png
END:VEVENT
BEGIN:VEVENT
DTSTART;TZID=Europe/Helsinki:20211112T120000
DTEND;TZID=Europe/Helsinki:20211112T133000
DTSTAMP:20260422T200236
CREATED:20211103T125610Z
LAST-MODIFIED:20211103T125610Z
UID:73213-1636718400-1636723800@www.confindustria.sa.it
SUMMARY:Webinar “Decreto 231/01 e  modelli organizzativi. Le nuove linee guida di Confindustria per orientare le imprese”
DESCRIPTION:Partecipa il Presidente del Comitato Piccola Industria Lina Piccolo \n \nAnnamaria Laurenzano
URL:https://www.confindustria.sa.it/event/webinar-decreto-231-01-e-modelli-organizzativi-le-nuove-linee-guida-di-confindustria-per-orientare-le-imprese-3/
LOCATION:Sede – sala biblioteca
CATEGORIES:Riunioni varie
ATTACH;FMTTYPE=image/png:https://www.confindustria.sa.it/wp-content/uploads/2020/07/LogoConfindustria1.png
END:VEVENT
END:VCALENDAR