BEGIN:VCALENDAR
VERSION:2.0
PRODID:-//Confindustria Salerno - ECPv6.6.3//NONSGML v1.0//EN
CALSCALE:GREGORIAN
METHOD:PUBLISH
X-WR-CALNAME:Confindustria Salerno
X-ORIGINAL-URL:https://www.confindustria.sa.it
X-WR-CALDESC:Eventi per Confindustria Salerno
REFRESH-INTERVAL;VALUE=DURATION:PT1H
X-Robots-Tag:noindex
X-PUBLISHED-TTL:PT1H
BEGIN:VTIMEZONE
TZID:Europe/Helsinki
BEGIN:DAYLIGHT
TZOFFSETFROM:+0200
TZOFFSETTO:+0300
TZNAME:EEST
DTSTART:20210328T010000
END:DAYLIGHT
BEGIN:STANDARD
TZOFFSETFROM:+0300
TZOFFSETTO:+0200
TZNAME:EET
DTSTART:20211031T010000
END:STANDARD
END:VTIMEZONE
BEGIN:VEVENT
DTSTART;TZID=Europe/Helsinki:20211104T180000
DTEND;TZID=Europe/Helsinki:20211104T190000
DTSTAMP:20260422T195938
CREATED:20211020T140905Z
LAST-MODIFIED:20211020T140905Z
UID:38933-1636048800-1636052400@www.confindustria.sa.it
SUMMARY:Consiglio Direttivo “allargato” Gruppo Servizi Innovativi e Tecnologici
DESCRIPTION:partecipa il presidente del gruppo F. Serravalle \nAnnamaria Laurenzano
URL:https://www.confindustria.sa.it/event/consiglio-direttivo-allargato-gruppo-servizi-innovativi-e-tecnologici-3/
CATEGORIES:Riunioni varie
ATTACH;FMTTYPE=image/jpeg:https://www.confindustria.sa.it/wp-content/uploads/2020/07/logo-confsa.jpg
END:VEVENT
BEGIN:VEVENT
DTSTART;TZID=Europe/Helsinki:20211104T180000
DTEND;TZID=Europe/Helsinki:20211104T190000
DTSTAMP:20260422T195938
CREATED:20211020T140905Z
LAST-MODIFIED:20211020T140905Z
UID:72183-1636048800-1636052400@www.confindustria.sa.it
SUMMARY:Consiglio Direttivo “allargato” Gruppo Servizi Innovativi e Tecnologici
DESCRIPTION:partecipa il presidente del gruppo F. Serravalle \nAnnamaria Laurenzano
URL:https://www.confindustria.sa.it/event/consiglio-direttivo-allargato-gruppo-servizi-innovativi-e-tecnologici-3-2/
CATEGORIES:Riunioni varie
ATTACH;FMTTYPE=image/jpeg:https://www.confindustria.sa.it/wp-content/uploads/2020/07/logo-confsa.jpg
END:VEVENT
BEGIN:VEVENT
DTSTART;TZID=Europe/Helsinki:20211104T180000
DTEND;TZID=Europe/Helsinki:20211104T190000
DTSTAMP:20260422T195938
CREATED:20211020T140905Z
LAST-MODIFIED:20211020T140905Z
UID:73206-1636048800-1636052400@www.confindustria.sa.it
SUMMARY:Consiglio Direttivo “allargato” Gruppo Servizi Innovativi e Tecnologici
DESCRIPTION:partecipa il presidente del gruppo F. Serravalle \nAnnamaria Laurenzano
URL:https://www.confindustria.sa.it/event/consiglio-direttivo-allargato-gruppo-servizi-innovativi-e-tecnologici-3-3/
CATEGORIES:Riunioni varie
ATTACH;FMTTYPE=image/jpeg:https://www.confindustria.sa.it/wp-content/uploads/2020/07/logo-confsa.jpg
END:VEVENT
END:VCALENDAR