BEGIN:VCALENDAR
VERSION:2.0
PRODID:-//Confindustria Salerno - ECPv6.6.3//NONSGML v1.0//EN
CALSCALE:GREGORIAN
METHOD:PUBLISH
X-ORIGINAL-URL:https://www.confindustria.sa.it
X-WR-CALDESC:Eventi per Confindustria Salerno
REFRESH-INTERVAL;VALUE=DURATION:PT1H
X-Robots-Tag:noindex
X-PUBLISHED-TTL:PT1H
BEGIN:VTIMEZONE
TZID:Europe/Helsinki
BEGIN:DAYLIGHT
TZOFFSETFROM:+0200
TZOFFSETTO:+0300
TZNAME:EEST
DTSTART:20210328T010000
END:DAYLIGHT
BEGIN:STANDARD
TZOFFSETFROM:+0300
TZOFFSETTO:+0200
TZNAME:EET
DTSTART:20211031T010000
END:STANDARD
END:VTIMEZONE
BEGIN:VEVENT
DTSTART;TZID=Europe/Helsinki:20210920T150000
DTEND;TZID=Europe/Helsinki:20210920T170000
DTSTAMP:20260422T232735
CREATED:20210917T153533Z
LAST-MODIFIED:20210917T153533Z
UID:36894-1632150000-1632157200@www.confindustria.sa.it
SUMMARY:Incontro con il Ministro Giorgetti promosso dalla Fondazione Mezzogiorno Tirrenico
DESCRIPTION:partecipa il Presidente A. Ferraioli \nAnnamaria Laurenzano
URL:https://www.confindustria.sa.it/event/incontro-con-il-ministro-giorgetti-promosso-dalla-fondazione-mezzogiorno-tirrenico/
LOCATION:Napoli – sede Unione Industriali
CATEGORIES:eventi-confindustria,Riunioni varie
ATTACH;FMTTYPE=image/jpeg:https://www.confindustria.sa.it/wp-content/uploads/2020/03/1confindustria_images_annafabi_thumb_medium256_192.jpg
END:VEVENT
BEGIN:VEVENT
DTSTART;TZID=Europe/Helsinki:20210920T150000
DTEND;TZID=Europe/Helsinki:20210920T170000
DTSTAMP:20260422T232735
CREATED:20210917T153533Z
LAST-MODIFIED:20210917T153533Z
UID:72161-1632150000-1632157200@www.confindustria.sa.it
SUMMARY:Incontro con il Ministro Giorgetti promosso dalla Fondazione Mezzogiorno Tirrenico
DESCRIPTION:partecipa il Presidente A. Ferraioli \nAnnamaria Laurenzano
URL:https://www.confindustria.sa.it/event/incontro-con-il-ministro-giorgetti-promosso-dalla-fondazione-mezzogiorno-tirrenico-2/
LOCATION:Napoli – sede Unione Industriali
CATEGORIES:eventi-confindustria,Riunioni varie
ATTACH;FMTTYPE=image/jpeg:https://www.confindustria.sa.it/wp-content/uploads/2020/03/1confindustria_images_annafabi_thumb_medium256_192.jpg
END:VEVENT
BEGIN:VEVENT
DTSTART;TZID=Europe/Helsinki:20210920T150000
DTEND;TZID=Europe/Helsinki:20210920T170000
DTSTAMP:20260422T232735
CREATED:20210917T153533Z
LAST-MODIFIED:20210917T153533Z
UID:73184-1632150000-1632157200@www.confindustria.sa.it
SUMMARY:Incontro con il Ministro Giorgetti promosso dalla Fondazione Mezzogiorno Tirrenico
DESCRIPTION:partecipa il Presidente A. Ferraioli \nAnnamaria Laurenzano
URL:https://www.confindustria.sa.it/event/incontro-con-il-ministro-giorgetti-promosso-dalla-fondazione-mezzogiorno-tirrenico-3/
LOCATION:Napoli – sede Unione Industriali
CATEGORIES:eventi-confindustria,Riunioni varie
ATTACH;FMTTYPE=image/jpeg:https://www.confindustria.sa.it/wp-content/uploads/2020/03/1confindustria_images_annafabi_thumb_medium256_192.jpg
END:VEVENT
END:VCALENDAR