BEGIN:VCALENDAR
VERSION:2.0
PRODID:-//Confindustria Salerno - ECPv6.6.3//NONSGML v1.0//EN
CALSCALE:GREGORIAN
METHOD:PUBLISH
X-ORIGINAL-URL:https://www.confindustria.sa.it
X-WR-CALDESC:Eventi per Confindustria Salerno
REFRESH-INTERVAL;VALUE=DURATION:PT1H
X-Robots-Tag:noindex
X-PUBLISHED-TTL:PT1H
BEGIN:VTIMEZONE
TZID:Europe/Helsinki
BEGIN:DAYLIGHT
TZOFFSETFROM:+0200
TZOFFSETTO:+0300
TZNAME:EEST
DTSTART:20210328T010000
END:DAYLIGHT
BEGIN:STANDARD
TZOFFSETFROM:+0300
TZOFFSETTO:+0200
TZNAME:EET
DTSTART:20211031T010000
END:STANDARD
END:VTIMEZONE
BEGIN:VEVENT
DTSTART;TZID=Europe/Helsinki:20210917T150000
DTEND;TZID=Europe/Helsinki:20210917T170000
DTSTAMP:20260422T232741
CREATED:20210917T115022Z
LAST-MODIFIED:20210917T115022Z
UID:36884-1631890800-1631898000@www.confindustria.sa.it
SUMMARY:Consiglio Direttivo Gruppo Alberghi\, Turismo e Tempo libero
DESCRIPTION:partecipa il presidente FF (G. Schiavo) \nAnnamaria Laurenzano
URL:https://www.confindustria.sa.it/event/consiglio-direttivo-gruppo-alberghi-turismo-e-tempo-libero/
LOCATION:confindustria salerno
CATEGORIES:Riunioni varie
ATTACH;FMTTYPE=image/png:https://www.confindustria.sa.it/wp-content/uploads/2020/07/LogoConfindustria1-1.png
END:VEVENT
BEGIN:VEVENT
DTSTART;TZID=Europe/Helsinki:20210917T150000
DTEND;TZID=Europe/Helsinki:20210917T170000
DTSTAMP:20260422T232741
CREATED:20210917T115022Z
LAST-MODIFIED:20210917T115022Z
UID:72160-1631890800-1631898000@www.confindustria.sa.it
SUMMARY:Consiglio Direttivo Gruppo Alberghi\, Turismo e Tempo libero
DESCRIPTION:partecipa il presidente FF (G. Schiavo) \nAnnamaria Laurenzano
URL:https://www.confindustria.sa.it/event/consiglio-direttivo-gruppo-alberghi-turismo-e-tempo-libero-2/
LOCATION:confindustria salerno
CATEGORIES:Riunioni varie
ATTACH;FMTTYPE=image/png:https://www.confindustria.sa.it/wp-content/uploads/2020/07/LogoConfindustria1-1.png
END:VEVENT
BEGIN:VEVENT
DTSTART;TZID=Europe/Helsinki:20210917T150000
DTEND;TZID=Europe/Helsinki:20210917T170000
DTSTAMP:20260422T232741
CREATED:20210917T115022Z
LAST-MODIFIED:20210917T115022Z
UID:73183-1631890800-1631898000@www.confindustria.sa.it
SUMMARY:Consiglio Direttivo Gruppo Alberghi\, Turismo e Tempo libero
DESCRIPTION:partecipa il presidente FF (G. Schiavo) \nAnnamaria Laurenzano
URL:https://www.confindustria.sa.it/event/consiglio-direttivo-gruppo-alberghi-turismo-e-tempo-libero-3/
LOCATION:confindustria salerno
CATEGORIES:Riunioni varie
ATTACH;FMTTYPE=image/png:https://www.confindustria.sa.it/wp-content/uploads/2020/07/LogoConfindustria1-1.png
END:VEVENT
END:VCALENDAR