BEGIN:VCALENDAR
VERSION:2.0
PRODID:-//Confindustria Salerno - ECPv6.6.3//NONSGML v1.0//EN
CALSCALE:GREGORIAN
METHOD:PUBLISH
X-ORIGINAL-URL:https://www.confindustria.sa.it
X-WR-CALDESC:Eventi per Confindustria Salerno
REFRESH-INTERVAL;VALUE=DURATION:PT1H
X-Robots-Tag:noindex
X-PUBLISHED-TTL:PT1H
BEGIN:VTIMEZONE
TZID:Europe/Helsinki
BEGIN:DAYLIGHT
TZOFFSETFROM:+0200
TZOFFSETTO:+0300
TZNAME:EEST
DTSTART:20210328T010000
END:DAYLIGHT
BEGIN:STANDARD
TZOFFSETFROM:+0300
TZOFFSETTO:+0200
TZNAME:EET
DTSTART:20211031T010000
END:STANDARD
END:VTIMEZONE
BEGIN:VEVENT
DTSTART;TZID=Europe/Helsinki:20210723T143000
DTEND;TZID=Europe/Helsinki:20210723T153000
DTSTAMP:20260423T042542
CREATED:20210716T143701Z
LAST-MODIFIED:20210716T143701Z
UID:34385-1627050600-1627054200@www.confindustria.sa.it
SUMMARY:Webinar sul design circolare con il prof. Davide Crippa a cura del gruppo design tessile e sistema casa
DESCRIPTION:partecipa il presidente del gruppo Design (E.Prete) \nAnnamaria Laurenzano
URL:https://www.confindustria.sa.it/event/webinar-sul-design-circolare-con-il-prof-davide-crippa-a-cura-del-gruppo-design-tessile-e-sistema-casa/
LOCATION:confindustria salerno
CATEGORIES:Riunioni varie
END:VEVENT
BEGIN:VEVENT
DTSTART;TZID=Europe/Helsinki:20210723T143000
DTEND;TZID=Europe/Helsinki:20210723T153000
DTSTAMP:20260423T042542
CREATED:20210716T143701Z
LAST-MODIFIED:20210716T143701Z
UID:72144-1627050600-1627054200@www.confindustria.sa.it
SUMMARY:Webinar sul design circolare con il prof. Davide Crippa a cura del gruppo design tessile e sistema casa
DESCRIPTION:partecipa il presidente del gruppo Design (E.Prete) \nAnnamaria Laurenzano
URL:https://www.confindustria.sa.it/event/webinar-sul-design-circolare-con-il-prof-davide-crippa-a-cura-del-gruppo-design-tessile-e-sistema-casa-2/
LOCATION:confindustria salerno
CATEGORIES:Riunioni varie
END:VEVENT
BEGIN:VEVENT
DTSTART;TZID=Europe/Helsinki:20210723T143000
DTEND;TZID=Europe/Helsinki:20210723T153000
DTSTAMP:20260423T042542
CREATED:20210716T143701Z
LAST-MODIFIED:20210716T143701Z
UID:73167-1627050600-1627054200@www.confindustria.sa.it
SUMMARY:Webinar sul design circolare con il prof. Davide Crippa a cura del gruppo design tessile e sistema casa
DESCRIPTION:partecipa il presidente del gruppo Design (E.Prete) \nAnnamaria Laurenzano
URL:https://www.confindustria.sa.it/event/webinar-sul-design-circolare-con-il-prof-davide-crippa-a-cura-del-gruppo-design-tessile-e-sistema-casa-3/
LOCATION:confindustria salerno
CATEGORIES:Riunioni varie
END:VEVENT
END:VCALENDAR