BEGIN:VCALENDAR
VERSION:2.0
PRODID:-//Confindustria Salerno - ECPv6.6.3//NONSGML v1.0//EN
CALSCALE:GREGORIAN
METHOD:PUBLISH
X-ORIGINAL-URL:https://www.confindustria.sa.it
X-WR-CALDESC:Eventi per Confindustria Salerno
REFRESH-INTERVAL;VALUE=DURATION:PT1H
X-Robots-Tag:noindex
X-PUBLISHED-TTL:PT1H
BEGIN:VTIMEZONE
TZID:Europe/Helsinki
BEGIN:DAYLIGHT
TZOFFSETFROM:+0200
TZOFFSETTO:+0300
TZNAME:EEST
DTSTART:20210328T010000
END:DAYLIGHT
BEGIN:STANDARD
TZOFFSETFROM:+0300
TZOFFSETTO:+0200
TZNAME:EET
DTSTART:20211031T010000
END:STANDARD
END:VTIMEZONE
BEGIN:VEVENT
DTSTART;TZID=Europe/Helsinki:20210717T130000
DTEND;TZID=Europe/Helsinki:20210717T170000
DTSTAMP:20260423T042503
CREATED:20210616T114740Z
LAST-MODIFIED:20210713T140337Z
UID:32654-1626526800-1626541200@www.confindustria.sa.it
SUMMARY:XIX edizione della manifestazione “Sea Sun Salerno - Arena del Mare 2021“Salerno- Convegno sul tema “Le zone economiche speciali – il ruolo di porti e aeroporti nel sistema logistico campano
DESCRIPTION:Partecipa il Presidente Antonio Ferraioli \nAnnamaria Laurenzano
URL:https://www.confindustria.sa.it/event/xix-edizione-della-manifestazione-sea-sun-salerno-arena-del-mare-2021/
CATEGORIES:Riunioni varie
ATTACH;FMTTYPE=image/jpeg:https://www.confindustria.sa.it/wp-content/uploads/2020/07/sea-sun.jpg
END:VEVENT
BEGIN:VEVENT
DTSTART;TZID=Europe/Helsinki:20210717T130000
DTEND;TZID=Europe/Helsinki:20210717T170000
DTSTAMP:20260423T042503
CREATED:20210616T114740Z
LAST-MODIFIED:20210616T114740Z
UID:72121-1626526800-1626541200@www.confindustria.sa.it
SUMMARY:XIX edizione della manifestazione “Sea Sun Salerno - Arena del Mare 2021“Salerno- Convegno sul tema “Le zone economiche speciali – il ruolo di porti e aeroporti nel sistema logistico campano
DESCRIPTION:Partecipa il Presidente Antonio Ferraioli \nAnnamaria Laurenzano
URL:https://www.confindustria.sa.it/event/xix-edizione-della-manifestazione-sea-sun-salerno-arena-del-mare-2021-3/
CATEGORIES:Riunioni varie
ATTACH;FMTTYPE=image/jpeg:https://www.confindustria.sa.it/wp-content/uploads/2020/07/sea-sun.jpg
END:VEVENT
BEGIN:VEVENT
DTSTART;TZID=Europe/Helsinki:20210717T130000
DTEND;TZID=Europe/Helsinki:20210717T170000
DTSTAMP:20260423T042503
CREATED:20210616T114740Z
LAST-MODIFIED:20210616T114740Z
UID:73144-1626526800-1626541200@www.confindustria.sa.it
SUMMARY:XIX edizione della manifestazione “Sea Sun Salerno - Arena del Mare 2021“Salerno- Convegno sul tema “Le zone economiche speciali – il ruolo di porti e aeroporti nel sistema logistico campano
DESCRIPTION:Partecipa il Presidente Antonio Ferraioli \nAnnamaria Laurenzano
URL:https://www.confindustria.sa.it/event/xix-edizione-della-manifestazione-sea-sun-salerno-arena-del-mare-2021-4/
CATEGORIES:Riunioni varie
ATTACH;FMTTYPE=image/jpeg:https://www.confindustria.sa.it/wp-content/uploads/2020/07/sea-sun.jpg
END:VEVENT
END:VCALENDAR