BEGIN:VCALENDAR
VERSION:2.0
PRODID:-//Confindustria Salerno - ECPv6.6.3//NONSGML v1.0//EN
CALSCALE:GREGORIAN
METHOD:PUBLISH
X-WR-CALNAME:Confindustria Salerno
X-ORIGINAL-URL:https://www.confindustria.sa.it
X-WR-CALDESC:Eventi per Confindustria Salerno
REFRESH-INTERVAL;VALUE=DURATION:PT1H
X-Robots-Tag:noindex
X-PUBLISHED-TTL:PT1H
BEGIN:VTIMEZONE
TZID:Europe/Helsinki
BEGIN:DAYLIGHT
TZOFFSETFROM:+0200
TZOFFSETTO:+0300
TZNAME:EEST
DTSTART:20210328T010000
END:DAYLIGHT
BEGIN:STANDARD
TZOFFSETFROM:+0300
TZOFFSETTO:+0200
TZNAME:EET
DTSTART:20211031T010000
END:STANDARD
END:VTIMEZONE
BEGIN:VEVENT
DTSTART;TZID=Europe/Helsinki:20210715T093000
DTEND;TZID=Europe/Helsinki:20210715T123000
DTSTAMP:20260423T042340
CREATED:20210702T153214Z
LAST-MODIFIED:20210702T153214Z
UID:33590-1626341400-1626352200@www.confindustria.sa.it
SUMMARY:“Presentazione Risultati – Focus Socio Economico Sulla Citta’ Di Battipaglia” - promosso da Banca Campania Centro\, Fondazione Cassa Rurale Battipaglia  e realizzato da Fondazione Saccone
DESCRIPTION:partecipa P.Pastore \nAnnamaria Laurenzano
URL:https://www.confindustria.sa.it/event/presentazione-risultati-focus-socio-economico-sulla-citta-di-battipaglia-promosso-da-banca-campania-centro-fondazione-cassa-rurale-battipaglia-e-realizzato-da/
LOCATION:Battipaglia – Banca Campania Centro
CATEGORIES:Riunioni varie
END:VEVENT
BEGIN:VEVENT
DTSTART;TZID=Europe/Helsinki:20210715T093000
DTEND;TZID=Europe/Helsinki:20210715T123000
DTSTAMP:20260423T042340
CREATED:20210702T153214Z
LAST-MODIFIED:20210702T153214Z
UID:72135-1626341400-1626352200@www.confindustria.sa.it
SUMMARY:“Presentazione Risultati – Focus Socio Economico Sulla Citta’ Di Battipaglia” - promosso da Banca Campania Centro\, Fondazione Cassa Rurale Battipaglia  e realizzato da Fondazione Saccone
DESCRIPTION:partecipa P.Pastore \nAnnamaria Laurenzano
URL:https://www.confindustria.sa.it/event/presentazione-risultati-focus-socio-economico-sulla-citta-di-battipaglia-promosso-da-banca-campania-centro-fondazione-cassa-rurale-battipaglia-e-realizzato-da-2/
LOCATION:Battipaglia – Banca Campania Centro
CATEGORIES:Riunioni varie
END:VEVENT
BEGIN:VEVENT
DTSTART;TZID=Europe/Helsinki:20210715T093000
DTEND;TZID=Europe/Helsinki:20210715T123000
DTSTAMP:20260423T042340
CREATED:20210702T153214Z
LAST-MODIFIED:20210702T153214Z
UID:73158-1626341400-1626352200@www.confindustria.sa.it
SUMMARY:“Presentazione Risultati – Focus Socio Economico Sulla Citta’ Di Battipaglia” - promosso da Banca Campania Centro\, Fondazione Cassa Rurale Battipaglia  e realizzato da Fondazione Saccone
DESCRIPTION:partecipa P.Pastore \nAnnamaria Laurenzano
URL:https://www.confindustria.sa.it/event/presentazione-risultati-focus-socio-economico-sulla-citta-di-battipaglia-promosso-da-banca-campania-centro-fondazione-cassa-rurale-battipaglia-e-realizzato-da-3/
LOCATION:Battipaglia – Banca Campania Centro
CATEGORIES:Riunioni varie
END:VEVENT
END:VCALENDAR