BEGIN:VCALENDAR
VERSION:2.0
PRODID:-//Confindustria Salerno - ECPv6.6.3//NONSGML v1.0//EN
CALSCALE:GREGORIAN
METHOD:PUBLISH
X-WR-CALNAME:Confindustria Salerno
X-ORIGINAL-URL:https://www.confindustria.sa.it
X-WR-CALDESC:Eventi per Confindustria Salerno
REFRESH-INTERVAL;VALUE=DURATION:PT1H
X-Robots-Tag:noindex
X-PUBLISHED-TTL:PT1H
BEGIN:VTIMEZONE
TZID:Europe/Helsinki
BEGIN:DAYLIGHT
TZOFFSETFROM:+0200
TZOFFSETTO:+0300
TZNAME:EEST
DTSTART:20210328T010000
END:DAYLIGHT
BEGIN:STANDARD
TZOFFSETFROM:+0300
TZOFFSETTO:+0200
TZNAME:EET
DTSTART:20211031T010000
END:STANDARD
END:VTIMEZONE
BEGIN:VEVENT
DTSTART;TZID=Europe/Helsinki:20210708T160000
DTEND;TZID=Europe/Helsinki:20210708T170000
DTSTAMP:20260423T043029
CREATED:20210709T121631Z
LAST-MODIFIED:20210709T121631Z
UID:33989-1625760000-1625763600@www.confindustria.sa.it
SUMMARY:Consiglio Centrale G.I. Centro Congressi Magazzini del Cotone
DESCRIPTION:partecipa il presidente M. Gambardella \nAnnamaria Laurenzano
URL:https://www.confindustria.sa.it/event/consiglio-centrale-g-i-centro-congressi-magazzini-del-cotone/
LOCATION:Genova
CATEGORIES:eventi-confindustria,Riunioni varie
ATTACH;FMTTYPE=image/jpeg:https://www.confindustria.sa.it/wp-content/uploads/2015/10/images.gofreedownload.net_giovani-imprenditori-confindustria-61496.jpg
END:VEVENT
BEGIN:VEVENT
DTSTART;TZID=Europe/Helsinki:20210708T160000
DTEND;TZID=Europe/Helsinki:20210708T170000
DTSTAMP:20260423T043029
CREATED:20210709T121631Z
LAST-MODIFIED:20210709T121631Z
UID:72137-1625760000-1625763600@www.confindustria.sa.it
SUMMARY:Consiglio Centrale G.I. Centro Congressi Magazzini del Cotone
DESCRIPTION:partecipa il presidente M. Gambardella \nAnnamaria Laurenzano
URL:https://www.confindustria.sa.it/event/consiglio-centrale-g-i-centro-congressi-magazzini-del-cotone-2/
LOCATION:Genova
CATEGORIES:eventi-confindustria,Riunioni varie
ATTACH;FMTTYPE=image/jpeg:https://www.confindustria.sa.it/wp-content/uploads/2015/10/images.gofreedownload.net_giovani-imprenditori-confindustria-61496.jpg
END:VEVENT
BEGIN:VEVENT
DTSTART;TZID=Europe/Helsinki:20210708T160000
DTEND;TZID=Europe/Helsinki:20210708T170000
DTSTAMP:20260423T043029
CREATED:20210709T121631Z
LAST-MODIFIED:20210709T121631Z
UID:73160-1625760000-1625763600@www.confindustria.sa.it
SUMMARY:Consiglio Centrale G.I. Centro Congressi Magazzini del Cotone
DESCRIPTION:partecipa il presidente M. Gambardella \nAnnamaria Laurenzano
URL:https://www.confindustria.sa.it/event/consiglio-centrale-g-i-centro-congressi-magazzini-del-cotone-3/
LOCATION:Genova
CATEGORIES:eventi-confindustria,Riunioni varie
ATTACH;FMTTYPE=image/jpeg:https://www.confindustria.sa.it/wp-content/uploads/2015/10/images.gofreedownload.net_giovani-imprenditori-confindustria-61496.jpg
END:VEVENT
END:VCALENDAR