BEGIN:VCALENDAR
VERSION:2.0
PRODID:-//Confindustria Salerno - ECPv6.6.3//NONSGML v1.0//EN
CALSCALE:GREGORIAN
METHOD:PUBLISH
X-WR-CALNAME:Confindustria Salerno
X-ORIGINAL-URL:https://www.confindustria.sa.it
X-WR-CALDESC:Eventi per Confindustria Salerno
REFRESH-INTERVAL;VALUE=DURATION:PT1H
X-Robots-Tag:noindex
X-PUBLISHED-TTL:PT1H
BEGIN:VTIMEZONE
TZID:Europe/Helsinki
BEGIN:DAYLIGHT
TZOFFSETFROM:+0200
TZOFFSETTO:+0300
TZNAME:EEST
DTSTART:20210328T010000
END:DAYLIGHT
BEGIN:STANDARD
TZOFFSETFROM:+0300
TZOFFSETTO:+0200
TZNAME:EET
DTSTART:20211031T010000
END:STANDARD
END:VTIMEZONE
BEGIN:VEVENT
DTSTART;TZID=Europe/Helsinki:20210519T143000
DTEND;TZID=Europe/Helsinki:20210519T163000
DTSTAMP:20260423T074740
CREATED:20210419T115758Z
LAST-MODIFIED:20210429T100155Z
UID:29078-1621434600-1621441800@www.confindustria.sa.it
SUMMARY:Roadshow Conai 2021: Webinar  “ La gestione dei rifiuti urbani nelle imprese post d.lgs n. 116/2020.”
DESCRIPTION:Partecipa la Vicepresidente Lina Piccolo \nAnnamaria Laurenzano
URL:https://www.confindustria.sa.it/event/roadshow-conai-2021-webinar-gestione-dei-rifiuti-urbani-nelle-imprese-in-sostanza-consigli-alle-imprese-per-la-scelta-fornitore-e-comunicazione-al-31-maggio-al-comune/
CATEGORIES:Riunioni varie
ATTACH;FMTTYPE=image/png:https://www.confindustria.sa.it/wp-content/uploads/2021/04/logo-conai-2019@2x.png
END:VEVENT
BEGIN:VEVENT
DTSTART;TZID=Europe/Helsinki:20210519T143000
DTEND;TZID=Europe/Helsinki:20210519T163000
DTSTAMP:20260423T074740
CREATED:20210419T115758Z
LAST-MODIFIED:20210419T115758Z
UID:72074-1621434600-1621441800@www.confindustria.sa.it
SUMMARY:Roadshow Conai 2021: Webinar  “ La gestione dei rifiuti urbani nelle imprese post d.lgs n. 116/2020.”
DESCRIPTION:Partecipa la Vicepresidente Lina Piccolo \nAnnamaria Laurenzano
URL:https://www.confindustria.sa.it/event/roadshow-conai-2021-webinar-gestione-dei-rifiuti-urbani-nelle-imprese-in-sostanza-consigli-alle-imprese-per-la-scelta-fornitore-e-comunicazione-al-31-maggio-al-comune-2/
CATEGORIES:Riunioni varie
ATTACH;FMTTYPE=image/png:https://www.confindustria.sa.it/wp-content/uploads/2021/04/logo-conai-2019@2x.png
END:VEVENT
BEGIN:VEVENT
DTSTART;TZID=Europe/Helsinki:20210519T143000
DTEND;TZID=Europe/Helsinki:20210519T163000
DTSTAMP:20260423T074740
CREATED:20210419T115758Z
LAST-MODIFIED:20210419T115758Z
UID:73097-1621434600-1621441800@www.confindustria.sa.it
SUMMARY:Roadshow Conai 2021: Webinar  “ La gestione dei rifiuti urbani nelle imprese post d.lgs n. 116/2020.”
DESCRIPTION:Partecipa la Vicepresidente Lina Piccolo \nAnnamaria Laurenzano
URL:https://www.confindustria.sa.it/event/roadshow-conai-2021-webinar-gestione-dei-rifiuti-urbani-nelle-imprese-in-sostanza-consigli-alle-imprese-per-la-scelta-fornitore-e-comunicazione-al-31-maggio-al-comune-3/
CATEGORIES:Riunioni varie
ATTACH;FMTTYPE=image/png:https://www.confindustria.sa.it/wp-content/uploads/2021/04/logo-conai-2019@2x.png
END:VEVENT
BEGIN:VEVENT
DTSTART;TZID=Europe/Helsinki:20210519T150000
DTEND;TZID=Europe/Helsinki:20210519T170000
DTSTAMP:20260423T074740
CREATED:20210325T164200Z
LAST-MODIFIED:20210325T164200Z
UID:27887-1621436400-1621443600@www.confindustria.sa.it
SUMMARY:Assemblea dei Delegati Confindustria
DESCRIPTION:Partecipa il Presidente Antonio Ferraioli \n  \nAnnamaria Laurenzano
URL:https://www.confindustria.sa.it/event/assemblea-dei-delegati-confindustria/
LOCATION:Roma – Confindustria
CATEGORIES:eventi-confindustria,Riunioni varie
ATTACH;FMTTYPE=image/jpeg:https://www.confindustria.sa.it/wp-content/uploads/2020/03/1confindustria_images_annafabi_thumb_medium256_192.jpg
END:VEVENT
BEGIN:VEVENT
DTSTART;TZID=Europe/Helsinki:20210519T150000
DTEND;TZID=Europe/Helsinki:20210519T170000
DTSTAMP:20260423T074740
CREATED:20210325T164200Z
LAST-MODIFIED:20210325T164200Z
UID:72046-1621436400-1621443600@www.confindustria.sa.it
SUMMARY:Assemblea dei Delegati Confindustria
DESCRIPTION:Partecipa il Presidente Antonio Ferraioli \n  \nAnnamaria Laurenzano
URL:https://www.confindustria.sa.it/event/assemblea-dei-delegati-confindustria-3/
LOCATION:Roma – Confindustria
CATEGORIES:eventi-confindustria,Riunioni varie
ATTACH;FMTTYPE=image/jpeg:https://www.confindustria.sa.it/wp-content/uploads/2020/03/1confindustria_images_annafabi_thumb_medium256_192.jpg
END:VEVENT
BEGIN:VEVENT
DTSTART;TZID=Europe/Helsinki:20210519T150000
DTEND;TZID=Europe/Helsinki:20210519T170000
DTSTAMP:20260423T074740
CREATED:20210325T164200Z
LAST-MODIFIED:20210325T164200Z
UID:73069-1621436400-1621443600@www.confindustria.sa.it
SUMMARY:Assemblea dei Delegati Confindustria
DESCRIPTION:Partecipa il Presidente Antonio Ferraioli \n  \nAnnamaria Laurenzano
URL:https://www.confindustria.sa.it/event/assemblea-dei-delegati-confindustria-4/
LOCATION:Roma – Confindustria
CATEGORIES:eventi-confindustria,Riunioni varie
ATTACH;FMTTYPE=image/jpeg:https://www.confindustria.sa.it/wp-content/uploads/2020/03/1confindustria_images_annafabi_thumb_medium256_192.jpg
END:VEVENT
END:VCALENDAR