BEGIN:VCALENDAR
VERSION:2.0
PRODID:-//Confindustria Salerno - ECPv6.6.3//NONSGML v1.0//EN
CALSCALE:GREGORIAN
METHOD:PUBLISH
X-ORIGINAL-URL:https://www.confindustria.sa.it
X-WR-CALDESC:Eventi per Confindustria Salerno
REFRESH-INTERVAL;VALUE=DURATION:PT1H
X-Robots-Tag:noindex
X-PUBLISHED-TTL:PT1H
BEGIN:VTIMEZONE
TZID:Europe/Helsinki
BEGIN:DAYLIGHT
TZOFFSETFROM:+0200
TZOFFSETTO:+0300
TZNAME:EEST
DTSTART:20210328T010000
END:DAYLIGHT
BEGIN:STANDARD
TZOFFSETFROM:+0300
TZOFFSETTO:+0200
TZNAME:EET
DTSTART:20211031T010000
END:STANDARD
END:VTIMEZONE
BEGIN:VEVENT
DTSTART;TZID=Europe/Helsinki:20210510T003000
DTEND;TZID=Europe/Helsinki:20210510T143000
DTSTAMP:20260423T074920
CREATED:20210428T104017Z
LAST-MODIFIED:20210428T104017Z
UID:73105-1620606600-1620657000@www.confindustria.sa.it
SUMMARY:Consiglio Direttivo Gruppo Gruppo Servizi Innovativi e Tecnologici\, in forma congiunta con il Gruppo Giovani Imprenditori di Confindustria Salerno\, in videoconferenza
DESCRIPTION:Partecipano il Presidente dei G.I.\, Marco Gambardella ed il Presidente del Gruppo Servizi Innovativi e Tecnologici\, Francesco Serravalle \nAnnamaria Laurenzano
URL:https://www.confindustria.sa.it/event/consiglio-direttivo-gruppo-gruppo-servizi-innovativi-e-tecnologici-in-forma-congiunta-con-il-gruppo-giovani-imprenditori-di-confindustria-salerno-in-videoconferenza-3/
CATEGORIES:Riunioni varie
ATTACH;FMTTYPE=image/png:https://www.confindustria.sa.it/wp-content/uploads/2020/07/LogoConfindustria1.png
END:VEVENT
BEGIN:VEVENT
DTSTART;TZID=Europe/Helsinki:20210510T003000
DTEND;TZID=Europe/Helsinki:20210510T143000
DTSTAMP:20260423T074920
CREATED:20210428T104017Z
LAST-MODIFIED:20210428T104017Z
UID:29679-1620606600-1620657000@www.confindustria.sa.it
SUMMARY:Consiglio Direttivo Gruppo Gruppo Servizi Innovativi e Tecnologici\, in forma congiunta con il Gruppo Giovani Imprenditori di Confindustria Salerno\, in videoconferenza
DESCRIPTION:Partecipano il Presidente dei G.I.\, Marco Gambardella ed il Presidente del Gruppo Servizi Innovativi e Tecnologici\, Francesco Serravalle \nAnnamaria Laurenzano
URL:https://www.confindustria.sa.it/event/consiglio-direttivo-gruppo-gruppo-servizi-innovativi-e-tecnologici-in-forma-congiunta-con-il-gruppo-giovani-imprenditori-di-confindustria-salerno-in-videoconferenza/
CATEGORIES:Riunioni varie
ATTACH;FMTTYPE=image/png:https://www.confindustria.sa.it/wp-content/uploads/2020/07/LogoConfindustria1.png
END:VEVENT
BEGIN:VEVENT
DTSTART;TZID=Europe/Helsinki:20210510T003000
DTEND;TZID=Europe/Helsinki:20210510T143000
DTSTAMP:20260423T074920
CREATED:20210428T104017Z
LAST-MODIFIED:20210428T104017Z
UID:72082-1620606600-1620657000@www.confindustria.sa.it
SUMMARY:Consiglio Direttivo Gruppo Gruppo Servizi Innovativi e Tecnologici\, in forma congiunta con il Gruppo Giovani Imprenditori di Confindustria Salerno\, in videoconferenza
DESCRIPTION:Partecipano il Presidente dei G.I.\, Marco Gambardella ed il Presidente del Gruppo Servizi Innovativi e Tecnologici\, Francesco Serravalle \nAnnamaria Laurenzano
URL:https://www.confindustria.sa.it/event/consiglio-direttivo-gruppo-gruppo-servizi-innovativi-e-tecnologici-in-forma-congiunta-con-il-gruppo-giovani-imprenditori-di-confindustria-salerno-in-videoconferenza-2/
CATEGORIES:Riunioni varie
ATTACH;FMTTYPE=image/png:https://www.confindustria.sa.it/wp-content/uploads/2020/07/LogoConfindustria1.png
END:VEVENT
END:VCALENDAR