BEGIN:VCALENDAR
VERSION:2.0
PRODID:-//Confindustria Salerno - ECPv6.6.3//NONSGML v1.0//EN
CALSCALE:GREGORIAN
METHOD:PUBLISH
X-ORIGINAL-URL:https://www.confindustria.sa.it
X-WR-CALDESC:Eventi per Confindustria Salerno
REFRESH-INTERVAL;VALUE=DURATION:PT1H
X-Robots-Tag:noindex
X-PUBLISHED-TTL:PT1H
BEGIN:VTIMEZONE
TZID:Europe/Helsinki
BEGIN:DAYLIGHT
TZOFFSETFROM:+0200
TZOFFSETTO:+0300
TZNAME:EEST
DTSTART:20210328T010000
END:DAYLIGHT
BEGIN:STANDARD
TZOFFSETFROM:+0300
TZOFFSETTO:+0200
TZNAME:EET
DTSTART:20211031T010000
END:STANDARD
END:VTIMEZONE
BEGIN:VEVENT
DTSTART;TZID=Europe/Helsinki:20210428T153000
DTEND;TZID=Europe/Helsinki:20210428T173000
DTSTAMP:20260423T074902
CREATED:20210331T104057Z
LAST-MODIFIED:20210331T104147Z
UID:28168-1619623800-1619631000@www.confindustria.sa.it
SUMMARY:Donne\, lavoro e impresa - Seminario "Gender diversity: un fattore di crescita delle imprese"
DESCRIPTION:Partecipa la Presidente del Comitato Femminile Plurale\, Alessandra Puglisi \n \nAnnamaria Laurenzano
URL:https://www.confindustria.sa.it/event/donne-lavoro-e-impresa-seminario-gender-diversity-un-fattore-di-crescita-delle-impresetions/
CATEGORIES:Riunioni varie
ATTACH;FMTTYPE=image/png:https://www.confindustria.sa.it/wp-content/uploads/2021/03/unnamed.png
END:VEVENT
BEGIN:VEVENT
DTSTART;TZID=Europe/Helsinki:20210428T153000
DTEND;TZID=Europe/Helsinki:20210428T173000
DTSTAMP:20260423T074902
CREATED:20210331T104057Z
LAST-MODIFIED:20210331T104057Z
UID:72051-1619623800-1619631000@www.confindustria.sa.it
SUMMARY:Donne\, lavoro e impresa - Seminario \"Gender diversity: un fattore di crescita delle imprese\"
DESCRIPTION:Partecipa la Presidente del Comitato Femminile Plurale\, Alessandra Puglisi \n \nAnnamaria Laurenzano
URL:https://www.confindustria.sa.it/event/donne-lavoro-e-impresa-seminario-gender-diversity-un-fattore-di-crescita-delle-impresetions-2/
CATEGORIES:Riunioni varie
ATTACH;FMTTYPE=image/png:https://www.confindustria.sa.it/wp-content/uploads/2021/03/unnamed.png
END:VEVENT
BEGIN:VEVENT
DTSTART;TZID=Europe/Helsinki:20210428T153000
DTEND;TZID=Europe/Helsinki:20210428T173000
DTSTAMP:20260423T074902
CREATED:20210331T104057Z
LAST-MODIFIED:20210331T104057Z
UID:73074-1619623800-1619631000@www.confindustria.sa.it
SUMMARY:Donne\, lavoro e impresa - Seminario \"Gender diversity: un fattore di crescita delle imprese\"
DESCRIPTION:Partecipa la Presidente del Comitato Femminile Plurale\, Alessandra Puglisi \n \nAnnamaria Laurenzano
URL:https://www.confindustria.sa.it/event/donne-lavoro-e-impresa-seminario-gender-diversity-un-fattore-di-crescita-delle-impresetions-3/
CATEGORIES:Riunioni varie
ATTACH;FMTTYPE=image/png:https://www.confindustria.sa.it/wp-content/uploads/2021/03/unnamed.png
END:VEVENT
END:VCALENDAR