BEGIN:VCALENDAR
VERSION:2.0
PRODID:-//Confindustria Salerno - ECPv6.6.3//NONSGML v1.0//EN
CALSCALE:GREGORIAN
METHOD:PUBLISH
X-WR-CALNAME:Confindustria Salerno
X-ORIGINAL-URL:https://www.confindustria.sa.it
X-WR-CALDESC:Eventi per Confindustria Salerno
REFRESH-INTERVAL;VALUE=DURATION:PT1H
X-Robots-Tag:noindex
X-PUBLISHED-TTL:PT1H
BEGIN:VTIMEZONE
TZID:Europe/Helsinki
BEGIN:DAYLIGHT
TZOFFSETFROM:+0200
TZOFFSETTO:+0300
TZNAME:EEST
DTSTART:20210328T010000
END:DAYLIGHT
BEGIN:STANDARD
TZOFFSETFROM:+0300
TZOFFSETTO:+0200
TZNAME:EET
DTSTART:20211031T010000
END:STANDARD
END:VTIMEZONE
BEGIN:VEVENT
DTSTART;TZID=Europe/Helsinki:20210412T090000
DTEND;TZID=Europe/Helsinki:20210412T173000
DTSTAMP:20260423T092753
CREATED:20220211T103320Z
LAST-MODIFIED:20220331T093856Z
UID:44709-1618218000-1618248600@www.confindustria.sa.it
SUMMARY:Giornata di avvio "Export Lab" Campania (percorso formativo per approccio ai mercati esteri).
DESCRIPTION:Partecipa la Vice Presidente Stefania Rinaldi \nAnnamaria Laurenzano
URL:https://www.confindustria.sa.it/event/giornata-di-avvio-export-lab-campania-percorso-formativo-per-approccio-ai-mercati-esteri/
LOCATION:Sede – sala Convegni
CATEGORIES:Riunioni varie
ATTACH;FMTTYPE=image/png:https://www.confindustria.sa.it/wp-content/uploads/2020/07/LogoConfindustria1-1.png
END:VEVENT
BEGIN:VEVENT
DTSTART;TZID=Europe/Helsinki:20210412T090000
DTEND;TZID=Europe/Helsinki:20210412T173000
DTSTAMP:20260423T092753
CREATED:20220211T103320Z
LAST-MODIFIED:20220211T103320Z
UID:72252-1618218000-1618248600@www.confindustria.sa.it
SUMMARY:Giornata di avvio \"Export Lab\" Campania (percorso formativo per approccio ai mercati esteri).
DESCRIPTION:Partecipa la Vice Presidente Stefania Rinaldi \nAnnamaria Laurenzano
URL:https://www.confindustria.sa.it/event/giornata-di-avvio-export-lab-campania-percorso-formativo-per-approccio-ai-mercati-esteri-3/
LOCATION:Sede – sala Convegni
CATEGORIES:Riunioni varie
ATTACH;FMTTYPE=image/png:https://www.confindustria.sa.it/wp-content/uploads/2020/07/LogoConfindustria1-1.png
END:VEVENT
BEGIN:VEVENT
DTSTART;TZID=Europe/Helsinki:20210412T090000
DTEND;TZID=Europe/Helsinki:20210412T173000
DTSTAMP:20260423T092753
CREATED:20220211T103320Z
LAST-MODIFIED:20220211T103320Z
UID:73275-1618218000-1618248600@www.confindustria.sa.it
SUMMARY:Giornata di avvio \"Export Lab\" Campania (percorso formativo per approccio ai mercati esteri).
DESCRIPTION:Partecipa la Vice Presidente Stefania Rinaldi \nAnnamaria Laurenzano
URL:https://www.confindustria.sa.it/event/giornata-di-avvio-export-lab-campania-percorso-formativo-per-approccio-ai-mercati-esteri-4/
LOCATION:Sede – sala Convegni
CATEGORIES:Riunioni varie
ATTACH;FMTTYPE=image/png:https://www.confindustria.sa.it/wp-content/uploads/2020/07/LogoConfindustria1-1.png
END:VEVENT
END:VCALENDAR