BEGIN:VCALENDAR
VERSION:2.0
PRODID:-//Confindustria Salerno - ECPv6.6.3//NONSGML v1.0//EN
CALSCALE:GREGORIAN
METHOD:PUBLISH
X-ORIGINAL-URL:https://www.confindustria.sa.it
X-WR-CALDESC:Eventi per Confindustria Salerno
REFRESH-INTERVAL;VALUE=DURATION:PT1H
X-Robots-Tag:noindex
X-PUBLISHED-TTL:PT1H
BEGIN:VTIMEZONE
TZID:Europe/Helsinki
BEGIN:DAYLIGHT
TZOFFSETFROM:+0200
TZOFFSETTO:+0300
TZNAME:EEST
DTSTART:20210328T010000
END:DAYLIGHT
BEGIN:STANDARD
TZOFFSETFROM:+0300
TZOFFSETTO:+0200
TZNAME:EET
DTSTART:20211031T010000
END:STANDARD
END:VTIMEZONE
BEGIN:VEVENT
DTSTART;TZID=Europe/Helsinki:20210316T163000
DTEND;TZID=Europe/Helsinki:20210316T173000
DTSTAMP:20260423T112936
CREATED:20210312T170946Z
LAST-MODIFIED:20210312T170946Z
UID:27048-1615912200-1615915800@www.confindustria.sa.it
SUMMARY:Consiglio Direttivo allargato Comitato Femminile Plurale
DESCRIPTION:partecipa la presidente (A.Puglisi) \nsu piattaforma zoom \nAnnamaria Laurenzano
URL:https://www.confindustria.sa.it/event/consiglio-direttivo-allargato-comitato-femminile-plurale-2/
LOCATION:confindustria salerno
CATEGORIES:Riunioni varie
ATTACH;FMTTYPE=image/png:https://www.confindustria.sa.it/wp-content/uploads/2020/07/LogoConfindustria1.png
END:VEVENT
BEGIN:VEVENT
DTSTART;TZID=Europe/Helsinki:20210316T163000
DTEND;TZID=Europe/Helsinki:20210316T173000
DTSTAMP:20260423T112936
CREATED:20210312T170946Z
LAST-MODIFIED:20210312T170946Z
UID:72035-1615912200-1615915800@www.confindustria.sa.it
SUMMARY:Consiglio Direttivo allargato Comitato Femminile Plurale
DESCRIPTION:partecipa la presidente (A.Puglisi) \nsu piattaforma zoom \nAnnamaria Laurenzano
URL:https://www.confindustria.sa.it/event/consiglio-direttivo-allargato-comitato-femminile-plurale-2-2/
LOCATION:confindustria salerno
CATEGORIES:Riunioni varie
ATTACH;FMTTYPE=image/png:https://www.confindustria.sa.it/wp-content/uploads/2020/07/LogoConfindustria1.png
END:VEVENT
BEGIN:VEVENT
DTSTART;TZID=Europe/Helsinki:20210316T163000
DTEND;TZID=Europe/Helsinki:20210316T173000
DTSTAMP:20260423T112936
CREATED:20210312T170946Z
LAST-MODIFIED:20210312T170946Z
UID:73058-1615912200-1615915800@www.confindustria.sa.it
SUMMARY:Consiglio Direttivo allargato Comitato Femminile Plurale
DESCRIPTION:partecipa la presidente (A.Puglisi) \nsu piattaforma zoom \nAnnamaria Laurenzano
URL:https://www.confindustria.sa.it/event/consiglio-direttivo-allargato-comitato-femminile-plurale-2-3/
LOCATION:confindustria salerno
CATEGORIES:Riunioni varie
ATTACH;FMTTYPE=image/png:https://www.confindustria.sa.it/wp-content/uploads/2020/07/LogoConfindustria1.png
END:VEVENT
END:VCALENDAR