BEGIN:VCALENDAR
VERSION:2.0
PRODID:-//Confindustria Salerno - ECPv6.6.3//NONSGML v1.0//EN
CALSCALE:GREGORIAN
METHOD:PUBLISH
X-ORIGINAL-URL:https://www.confindustria.sa.it
X-WR-CALDESC:Eventi per Confindustria Salerno
REFRESH-INTERVAL;VALUE=DURATION:PT1H
X-Robots-Tag:noindex
X-PUBLISHED-TTL:PT1H
BEGIN:VTIMEZONE
TZID:Europe/Helsinki
BEGIN:DAYLIGHT
TZOFFSETFROM:+0200
TZOFFSETTO:+0300
TZNAME:EEST
DTSTART:20210328T010000
END:DAYLIGHT
BEGIN:STANDARD
TZOFFSETFROM:+0300
TZOFFSETTO:+0200
TZNAME:EET
DTSTART:20211031T010000
END:STANDARD
END:VTIMEZONE
BEGIN:VEVENT
DTSTART;TZID=Europe/Helsinki:20210125T173000
DTEND;TZID=Europe/Helsinki:20210125T173000
DTSTAMP:20260423T161750
CREATED:20210118T104915Z
LAST-MODIFIED:20210118T104915Z
UID:23554-1611595800-1611595800@www.confindustria.sa.it
SUMMARY:Webinar "Recovery Plan: opportunità e futuro delle PMI"
DESCRIPTION:Partecipa Edoardo Gisolfi \nAnnamaria Laurenzano
URL:https://www.confindustria.sa.it/event/webinar-recovery-plan-opportunita-e-futuro-delle-pmi/
CATEGORIES:Riunioni varie
ATTACH;FMTTYPE=image/jpeg:https://www.confindustria.sa.it/wp-content/uploads/2020/03/1confindustria_images_annafabi_thumb_medium256_192.jpg
END:VEVENT
BEGIN:VEVENT
DTSTART;TZID=Europe/Helsinki:20210125T173000
DTEND;TZID=Europe/Helsinki:20210125T173000
DTSTAMP:20260423T161750
CREATED:20210118T104915Z
LAST-MODIFIED:20210118T104915Z
UID:72005-1611595800-1611595800@www.confindustria.sa.it
SUMMARY:Webinar \"Recovery Plan: opportunità e futuro delle PMI\"
DESCRIPTION:Partecipa Edoardo Gisolfi \nAnnamaria Laurenzano
URL:https://www.confindustria.sa.it/event/webinar-recovery-plan-opportunita-e-futuro-delle-pmi-2/
CATEGORIES:Riunioni varie
ATTACH;FMTTYPE=image/jpeg:https://www.confindustria.sa.it/wp-content/uploads/2020/03/1confindustria_images_annafabi_thumb_medium256_192.jpg
END:VEVENT
BEGIN:VEVENT
DTSTART;TZID=Europe/Helsinki:20210125T173000
DTEND;TZID=Europe/Helsinki:20210125T173000
DTSTAMP:20260423T161750
CREATED:20210118T104915Z
LAST-MODIFIED:20210118T104915Z
UID:73028-1611595800-1611595800@www.confindustria.sa.it
SUMMARY:Webinar \"Recovery Plan: opportunità e futuro delle PMI\"
DESCRIPTION:Partecipa Edoardo Gisolfi \nAnnamaria Laurenzano
URL:https://www.confindustria.sa.it/event/webinar-recovery-plan-opportunita-e-futuro-delle-pmi-3/
CATEGORIES:Riunioni varie
ATTACH;FMTTYPE=image/jpeg:https://www.confindustria.sa.it/wp-content/uploads/2020/03/1confindustria_images_annafabi_thumb_medium256_192.jpg
END:VEVENT
END:VCALENDAR