BEGIN:VCALENDAR
VERSION:2.0
PRODID:-//Confindustria Salerno - ECPv6.6.3//NONSGML v1.0//EN
CALSCALE:GREGORIAN
METHOD:PUBLISH
X-WR-CALNAME:Confindustria Salerno
X-ORIGINAL-URL:https://www.confindustria.sa.it
X-WR-CALDESC:Eventi per Confindustria Salerno
REFRESH-INTERVAL;VALUE=DURATION:PT1H
X-Robots-Tag:noindex
X-PUBLISHED-TTL:PT1H
BEGIN:VTIMEZONE
TZID:Europe/Helsinki
BEGIN:DAYLIGHT
TZOFFSETFROM:+0200
TZOFFSETTO:+0300
TZNAME:EEST
DTSTART:20210328T010000
END:DAYLIGHT
BEGIN:STANDARD
TZOFFSETFROM:+0300
TZOFFSETTO:+0200
TZNAME:EET
DTSTART:20211031T010000
END:STANDARD
END:VTIMEZONE
BEGIN:VEVENT
DTSTART;TZID=Europe/Helsinki:20210120T160000
DTEND;TZID=Europe/Helsinki:20210120T170000
DTSTAMP:20260423T161609
CREATED:20210112T154130Z
LAST-MODIFIED:20210112T154130Z
UID:23258-1611158400-1611162000@www.confindustria.sa.it
SUMMARY:Consiglio Direttivo Comitato Femminile Plurale
DESCRIPTION:Partecipa la Presidente Alessandra Puglisi \nAnnamaria Laurenzano
URL:https://www.confindustria.sa.it/event/consiglio-direttivo-comitato-femminile-plurale-2/
CATEGORIES:Riunioni varie
ATTACH;FMTTYPE=image/jpeg:https://www.confindustria.sa.it/wp-content/uploads/2020/07/logo-confsa.jpg
END:VEVENT
BEGIN:VEVENT
DTSTART;TZID=Europe/Helsinki:20210120T160000
DTEND;TZID=Europe/Helsinki:20210120T170000
DTSTAMP:20260423T161609
CREATED:20210112T154130Z
LAST-MODIFIED:20210112T154130Z
UID:72002-1611158400-1611162000@www.confindustria.sa.it
SUMMARY:Consiglio Direttivo Comitato Femminile Plurale
DESCRIPTION:Partecipa la Presidente Alessandra Puglisi \nAnnamaria Laurenzano
URL:https://www.confindustria.sa.it/event/consiglio-direttivo-comitato-femminile-plurale-2-2/
CATEGORIES:Riunioni varie
ATTACH;FMTTYPE=image/jpeg:https://www.confindustria.sa.it/wp-content/uploads/2020/07/logo-confsa.jpg
END:VEVENT
BEGIN:VEVENT
DTSTART;TZID=Europe/Helsinki:20210120T160000
DTEND;TZID=Europe/Helsinki:20210120T170000
DTSTAMP:20260423T161609
CREATED:20210112T154130Z
LAST-MODIFIED:20210112T154130Z
UID:73025-1611158400-1611162000@www.confindustria.sa.it
SUMMARY:Consiglio Direttivo Comitato Femminile Plurale
DESCRIPTION:Partecipa la Presidente Alessandra Puglisi \nAnnamaria Laurenzano
URL:https://www.confindustria.sa.it/event/consiglio-direttivo-comitato-femminile-plurale-2-3/
CATEGORIES:Riunioni varie
ATTACH;FMTTYPE=image/jpeg:https://www.confindustria.sa.it/wp-content/uploads/2020/07/logo-confsa.jpg
END:VEVENT
END:VCALENDAR